BEGIN:VCALENDAR
VERSION:2.0
PRODID:-//go!PEI - ECPv6.15.20//NONSGML v1.0//EN
CALSCALE:GREGORIAN
METHOD:PUBLISH
X-ORIGINAL-URL:https://gopei.ca
X-WR-CALDESC:Events for go!PEI
REFRESH-INTERVAL;VALUE=DURATION:PT1H
X-Robots-Tag:noindex
X-PUBLISHED-TTL:PT1H
BEGIN:VTIMEZONE
TZID:America/Halifax
BEGIN:DAYLIGHT
TZOFFSETFROM:-0400
TZOFFSETTO:-0300
TZNAME:ADT
DTSTART:20210314T060000
END:DAYLIGHT
BEGIN:STANDARD
TZOFFSETFROM:-0300
TZOFFSETTO:-0400
TZNAME:AST
DTSTART:20211107T050000
END:STANDARD
BEGIN:DAYLIGHT
TZOFFSETFROM:-0400
TZOFFSETTO:-0300
TZNAME:ADT
DTSTART:20220313T060000
END:DAYLIGHT
BEGIN:STANDARD
TZOFFSETFROM:-0300
TZOFFSETTO:-0400
TZNAME:AST
DTSTART:20221106T050000
END:STANDARD
BEGIN:DAYLIGHT
TZOFFSETFROM:-0400
TZOFFSETTO:-0300
TZNAME:ADT
DTSTART:20230312T060000
END:DAYLIGHT
BEGIN:STANDARD
TZOFFSETFROM:-0300
TZOFFSETTO:-0400
TZNAME:AST
DTSTART:20231105T050000
END:STANDARD
END:VTIMEZONE
BEGIN:VEVENT
DTSTART;TZID=America/Halifax:20220428T100000
DTEND;TZID=America/Halifax:20220428T110000
DTSTAMP:20260420T072143
CREATED:20211008T141506Z
LAST-MODIFIED:20211008T141506Z
UID:10005456-1651140000-1651143600@gopei.ca
SUMMARY:50+ Exercise Class with Barbara
DESCRIPTION:Come join us on Tuesday and Thursday’s from 10-11:00am at the Tignish Legion for a fun exercise class.  There will be a $2/drop in fee.  All CPHO guidelines will be followed.
URL:https://gopei.ca/event-program/50-exercise-class-with-barbara/2022-04-28/
LOCATION:Tignish Legion\, 221 Phillip Street\, Tignish\, PE\, Canada
CATEGORIES:West
ATTACH;FMTTYPE=image/jpeg:https://gopei.ca/wp-content/uploads/2021/10/243170886_1553713651633646_7111847307585475223_n.jpg
END:VEVENT
BEGIN:VEVENT
DTSTART;TZID=America/Halifax:20220426T100000
DTEND;TZID=America/Halifax:20220426T110000
DTSTAMP:20260420T072143
CREATED:20211008T141506Z
LAST-MODIFIED:20211008T141506Z
UID:10005455-1650967200-1650970800@gopei.ca
SUMMARY:50+ Exercise Class with Barbara
DESCRIPTION:Come join us on Tuesday and Thursday’s from 10-11:00am at the Tignish Legion for a fun exercise class.  There will be a $2/drop in fee.  All CPHO guidelines will be followed.
URL:https://gopei.ca/event-program/50-exercise-class-with-barbara/2022-04-26/
LOCATION:Tignish Legion\, 221 Phillip Street\, Tignish\, PE\, Canada
CATEGORIES:West
ATTACH;FMTTYPE=image/jpeg:https://gopei.ca/wp-content/uploads/2021/10/243170886_1553713651633646_7111847307585475223_n.jpg
END:VEVENT
BEGIN:VEVENT
DTSTART;TZID=America/Halifax:20220421T100000
DTEND;TZID=America/Halifax:20220421T110000
DTSTAMP:20260420T072143
CREATED:20211008T141506Z
LAST-MODIFIED:20211008T141506Z
UID:10005454-1650535200-1650538800@gopei.ca
SUMMARY:50+ Exercise Class with Barbara
DESCRIPTION:Come join us on Tuesday and Thursday’s from 10-11:00am at the Tignish Legion for a fun exercise class.  There will be a $2/drop in fee.  All CPHO guidelines will be followed.
URL:https://gopei.ca/event-program/50-exercise-class-with-barbara/2022-04-21/
LOCATION:Tignish Legion\, 221 Phillip Street\, Tignish\, PE\, Canada
CATEGORIES:West
ATTACH;FMTTYPE=image/jpeg:https://gopei.ca/wp-content/uploads/2021/10/243170886_1553713651633646_7111847307585475223_n.jpg
END:VEVENT
BEGIN:VEVENT
DTSTART;TZID=America/Halifax:20220419T100000
DTEND;TZID=America/Halifax:20220419T110000
DTSTAMP:20260420T072143
CREATED:20211008T141506Z
LAST-MODIFIED:20211008T141506Z
UID:10005453-1650362400-1650366000@gopei.ca
SUMMARY:50+ Exercise Class with Barbara
DESCRIPTION:Come join us on Tuesday and Thursday’s from 10-11:00am at the Tignish Legion for a fun exercise class.  There will be a $2/drop in fee.  All CPHO guidelines will be followed.
URL:https://gopei.ca/event-program/50-exercise-class-with-barbara/2022-04-19/
LOCATION:Tignish Legion\, 221 Phillip Street\, Tignish\, PE\, Canada
CATEGORIES:West
ATTACH;FMTTYPE=image/jpeg:https://gopei.ca/wp-content/uploads/2021/10/243170886_1553713651633646_7111847307585475223_n.jpg
END:VEVENT
BEGIN:VEVENT
DTSTART;TZID=America/Halifax:20220414T100000
DTEND;TZID=America/Halifax:20220414T110000
DTSTAMP:20260420T072143
CREATED:20211008T141506Z
LAST-MODIFIED:20211008T141506Z
UID:10005452-1649930400-1649934000@gopei.ca
SUMMARY:50+ Exercise Class with Barbara
DESCRIPTION:Come join us on Tuesday and Thursday’s from 10-11:00am at the Tignish Legion for a fun exercise class.  There will be a $2/drop in fee.  All CPHO guidelines will be followed.
URL:https://gopei.ca/event-program/50-exercise-class-with-barbara/2022-04-14/
LOCATION:Tignish Legion\, 221 Phillip Street\, Tignish\, PE\, Canada
CATEGORIES:West
ATTACH;FMTTYPE=image/jpeg:https://gopei.ca/wp-content/uploads/2021/10/243170886_1553713651633646_7111847307585475223_n.jpg
END:VEVENT
BEGIN:VEVENT
DTSTART;TZID=America/Halifax:20220412T100000
DTEND;TZID=America/Halifax:20220412T110000
DTSTAMP:20260420T072143
CREATED:20211008T141506Z
LAST-MODIFIED:20211008T141506Z
UID:10005451-1649757600-1649761200@gopei.ca
SUMMARY:50+ Exercise Class with Barbara
DESCRIPTION:Come join us on Tuesday and Thursday’s from 10-11:00am at the Tignish Legion for a fun exercise class.  There will be a $2/drop in fee.  All CPHO guidelines will be followed.
URL:https://gopei.ca/event-program/50-exercise-class-with-barbara/2022-04-12/
LOCATION:Tignish Legion\, 221 Phillip Street\, Tignish\, PE\, Canada
CATEGORIES:West
ATTACH;FMTTYPE=image/jpeg:https://gopei.ca/wp-content/uploads/2021/10/243170886_1553713651633646_7111847307585475223_n.jpg
END:VEVENT
BEGIN:VEVENT
DTSTART;TZID=America/Halifax:20220407T100000
DTEND;TZID=America/Halifax:20220407T110000
DTSTAMP:20260420T072143
CREATED:20211008T141506Z
LAST-MODIFIED:20211008T141506Z
UID:10005450-1649325600-1649329200@gopei.ca
SUMMARY:50+ Exercise Class with Barbara
DESCRIPTION:Come join us on Tuesday and Thursday’s from 10-11:00am at the Tignish Legion for a fun exercise class.  There will be a $2/drop in fee.  All CPHO guidelines will be followed.
URL:https://gopei.ca/event-program/50-exercise-class-with-barbara/2022-04-07/
LOCATION:Tignish Legion\, 221 Phillip Street\, Tignish\, PE\, Canada
CATEGORIES:West
ATTACH;FMTTYPE=image/jpeg:https://gopei.ca/wp-content/uploads/2021/10/243170886_1553713651633646_7111847307585475223_n.jpg
END:VEVENT
BEGIN:VEVENT
DTSTART;TZID=America/Halifax:20220405T100000
DTEND;TZID=America/Halifax:20220405T110000
DTSTAMP:20260420T072143
CREATED:20211008T141506Z
LAST-MODIFIED:20211008T141506Z
UID:10005449-1649152800-1649156400@gopei.ca
SUMMARY:50+ Exercise Class with Barbara
DESCRIPTION:Come join us on Tuesday and Thursday’s from 10-11:00am at the Tignish Legion for a fun exercise class.  There will be a $2/drop in fee.  All CPHO guidelines will be followed.
URL:https://gopei.ca/event-program/50-exercise-class-with-barbara/2022-04-05/
LOCATION:Tignish Legion\, 221 Phillip Street\, Tignish\, PE\, Canada
CATEGORIES:West
ATTACH;FMTTYPE=image/jpeg:https://gopei.ca/wp-content/uploads/2021/10/243170886_1553713651633646_7111847307585475223_n.jpg
END:VEVENT
BEGIN:VEVENT
DTSTART;TZID=America/Halifax:20220331T100000
DTEND;TZID=America/Halifax:20220331T110000
DTSTAMP:20260420T072143
CREATED:20211008T141506Z
LAST-MODIFIED:20211008T141506Z
UID:10005448-1648720800-1648724400@gopei.ca
SUMMARY:50+ Exercise Class with Barbara
DESCRIPTION:Come join us on Tuesday and Thursday’s from 10-11:00am at the Tignish Legion for a fun exercise class.  There will be a $2/drop in fee.  All CPHO guidelines will be followed.
URL:https://gopei.ca/event-program/50-exercise-class-with-barbara/2022-03-31/
LOCATION:Tignish Legion\, 221 Phillip Street\, Tignish\, PE\, Canada
CATEGORIES:West
ATTACH;FMTTYPE=image/jpeg:https://gopei.ca/wp-content/uploads/2021/10/243170886_1553713651633646_7111847307585475223_n.jpg
END:VEVENT
BEGIN:VEVENT
DTSTART;TZID=America/Halifax:20220329T100000
DTEND;TZID=America/Halifax:20220329T110000
DTSTAMP:20260420T072143
CREATED:20211008T141506Z
LAST-MODIFIED:20211008T141506Z
UID:10005447-1648548000-1648551600@gopei.ca
SUMMARY:50+ Exercise Class with Barbara
DESCRIPTION:Come join us on Tuesday and Thursday’s from 10-11:00am at the Tignish Legion for a fun exercise class.  There will be a $2/drop in fee.  All CPHO guidelines will be followed.
URL:https://gopei.ca/event-program/50-exercise-class-with-barbara/2022-03-29/
LOCATION:Tignish Legion\, 221 Phillip Street\, Tignish\, PE\, Canada
CATEGORIES:West
ATTACH;FMTTYPE=image/jpeg:https://gopei.ca/wp-content/uploads/2021/10/243170886_1553713651633646_7111847307585475223_n.jpg
END:VEVENT
BEGIN:VEVENT
DTSTART;TZID=America/Halifax:20220324T100000
DTEND;TZID=America/Halifax:20220324T110000
DTSTAMP:20260420T072143
CREATED:20211008T141506Z
LAST-MODIFIED:20211008T141506Z
UID:10005446-1648116000-1648119600@gopei.ca
SUMMARY:50+ Exercise Class with Barbara
DESCRIPTION:Come join us on Tuesday and Thursday’s from 10-11:00am at the Tignish Legion for a fun exercise class.  There will be a $2/drop in fee.  All CPHO guidelines will be followed.
URL:https://gopei.ca/event-program/50-exercise-class-with-barbara/2022-03-24/
LOCATION:Tignish Legion\, 221 Phillip Street\, Tignish\, PE\, Canada
CATEGORIES:West
ATTACH;FMTTYPE=image/jpeg:https://gopei.ca/wp-content/uploads/2021/10/243170886_1553713651633646_7111847307585475223_n.jpg
END:VEVENT
BEGIN:VEVENT
DTSTART;TZID=America/Halifax:20220322T100000
DTEND;TZID=America/Halifax:20220322T110000
DTSTAMP:20260420T072143
CREATED:20211008T141506Z
LAST-MODIFIED:20211008T141506Z
UID:10005445-1647943200-1647946800@gopei.ca
SUMMARY:50+ Exercise Class with Barbara
DESCRIPTION:Come join us on Tuesday and Thursday’s from 10-11:00am at the Tignish Legion for a fun exercise class.  There will be a $2/drop in fee.  All CPHO guidelines will be followed.
URL:https://gopei.ca/event-program/50-exercise-class-with-barbara/2022-03-22/
LOCATION:Tignish Legion\, 221 Phillip Street\, Tignish\, PE\, Canada
CATEGORIES:West
ATTACH;FMTTYPE=image/jpeg:https://gopei.ca/wp-content/uploads/2021/10/243170886_1553713651633646_7111847307585475223_n.jpg
END:VEVENT
BEGIN:VEVENT
DTSTART;TZID=America/Halifax:20220317T100000
DTEND;TZID=America/Halifax:20220317T110000
DTSTAMP:20260420T072143
CREATED:20211008T141506Z
LAST-MODIFIED:20211008T141506Z
UID:10005444-1647511200-1647514800@gopei.ca
SUMMARY:50+ Exercise Class with Barbara
DESCRIPTION:Come join us on Tuesday and Thursday’s from 10-11:00am at the Tignish Legion for a fun exercise class.  There will be a $2/drop in fee.  All CPHO guidelines will be followed.
URL:https://gopei.ca/event-program/50-exercise-class-with-barbara/2022-03-17/
LOCATION:Tignish Legion\, 221 Phillip Street\, Tignish\, PE\, Canada
CATEGORIES:West
ATTACH;FMTTYPE=image/jpeg:https://gopei.ca/wp-content/uploads/2021/10/243170886_1553713651633646_7111847307585475223_n.jpg
END:VEVENT
BEGIN:VEVENT
DTSTART;TZID=America/Halifax:20220315T100000
DTEND;TZID=America/Halifax:20220315T110000
DTSTAMP:20260420T072143
CREATED:20211008T141506Z
LAST-MODIFIED:20211008T141506Z
UID:10005443-1647338400-1647342000@gopei.ca
SUMMARY:50+ Exercise Class with Barbara
DESCRIPTION:Come join us on Tuesday and Thursday’s from 10-11:00am at the Tignish Legion for a fun exercise class.  There will be a $2/drop in fee.  All CPHO guidelines will be followed.
URL:https://gopei.ca/event-program/50-exercise-class-with-barbara/2022-03-15/
LOCATION:Tignish Legion\, 221 Phillip Street\, Tignish\, PE\, Canada
CATEGORIES:West
ATTACH;FMTTYPE=image/jpeg:https://gopei.ca/wp-content/uploads/2021/10/243170886_1553713651633646_7111847307585475223_n.jpg
END:VEVENT
BEGIN:VEVENT
DTSTART;TZID=America/Halifax:20220310T100000
DTEND;TZID=America/Halifax:20220310T110000
DTSTAMP:20260420T072143
CREATED:20211008T141506Z
LAST-MODIFIED:20211008T141506Z
UID:10005442-1646906400-1646910000@gopei.ca
SUMMARY:50+ Exercise Class with Barbara
DESCRIPTION:Come join us on Tuesday and Thursday’s from 10-11:00am at the Tignish Legion for a fun exercise class.  There will be a $2/drop in fee.  All CPHO guidelines will be followed.
URL:https://gopei.ca/event-program/50-exercise-class-with-barbara/2022-03-10/
LOCATION:Tignish Legion\, 221 Phillip Street\, Tignish\, PE\, Canada
CATEGORIES:West
ATTACH;FMTTYPE=image/jpeg:https://gopei.ca/wp-content/uploads/2021/10/243170886_1553713651633646_7111847307585475223_n.jpg
END:VEVENT
BEGIN:VEVENT
DTSTART;TZID=America/Halifax:20220308T100000
DTEND;TZID=America/Halifax:20220308T110000
DTSTAMP:20260420T072143
CREATED:20211008T141506Z
LAST-MODIFIED:20211008T141506Z
UID:10005441-1646733600-1646737200@gopei.ca
SUMMARY:50+ Exercise Class with Barbara
DESCRIPTION:Come join us on Tuesday and Thursday’s from 10-11:00am at the Tignish Legion for a fun exercise class.  There will be a $2/drop in fee.  All CPHO guidelines will be followed.
URL:https://gopei.ca/event-program/50-exercise-class-with-barbara/2022-03-08/
LOCATION:Tignish Legion\, 221 Phillip Street\, Tignish\, PE\, Canada
CATEGORIES:West
ATTACH;FMTTYPE=image/jpeg:https://gopei.ca/wp-content/uploads/2021/10/243170886_1553713651633646_7111847307585475223_n.jpg
END:VEVENT
BEGIN:VEVENT
DTSTART;TZID=America/Halifax:20220303T100000
DTEND;TZID=America/Halifax:20220303T110000
DTSTAMP:20260420T072143
CREATED:20211008T141506Z
LAST-MODIFIED:20211008T141506Z
UID:10005440-1646301600-1646305200@gopei.ca
SUMMARY:50+ Exercise Class with Barbara
DESCRIPTION:Come join us on Tuesday and Thursday’s from 10-11:00am at the Tignish Legion for a fun exercise class.  There will be a $2/drop in fee.  All CPHO guidelines will be followed.
URL:https://gopei.ca/event-program/50-exercise-class-with-barbara/2022-03-03/
LOCATION:Tignish Legion\, 221 Phillip Street\, Tignish\, PE\, Canada
CATEGORIES:West
ATTACH;FMTTYPE=image/jpeg:https://gopei.ca/wp-content/uploads/2021/10/243170886_1553713651633646_7111847307585475223_n.jpg
END:VEVENT
BEGIN:VEVENT
DTSTART;TZID=America/Halifax:20220301T100000
DTEND;TZID=America/Halifax:20220301T110000
DTSTAMP:20260420T072143
CREATED:20211008T141506Z
LAST-MODIFIED:20211008T141506Z
UID:10005439-1646128800-1646132400@gopei.ca
SUMMARY:50+ Exercise Class with Barbara
DESCRIPTION:Come join us on Tuesday and Thursday’s from 10-11:00am at the Tignish Legion for a fun exercise class.  There will be a $2/drop in fee.  All CPHO guidelines will be followed.
URL:https://gopei.ca/event-program/50-exercise-class-with-barbara/2022-03-01/
LOCATION:Tignish Legion\, 221 Phillip Street\, Tignish\, PE\, Canada
CATEGORIES:West
ATTACH;FMTTYPE=image/jpeg:https://gopei.ca/wp-content/uploads/2021/10/243170886_1553713651633646_7111847307585475223_n.jpg
END:VEVENT
BEGIN:VEVENT
DTSTART;TZID=America/Halifax:20220224T100000
DTEND;TZID=America/Halifax:20220224T110000
DTSTAMP:20260420T072143
CREATED:20211008T141506Z
LAST-MODIFIED:20211008T141506Z
UID:10005438-1645696800-1645700400@gopei.ca
SUMMARY:50+ Exercise Class with Barbara
DESCRIPTION:Come join us on Tuesday and Thursday’s from 10-11:00am at the Tignish Legion for a fun exercise class.  There will be a $2/drop in fee.  All CPHO guidelines will be followed.
URL:https://gopei.ca/event-program/50-exercise-class-with-barbara/2022-02-24/
LOCATION:Tignish Legion\, 221 Phillip Street\, Tignish\, PE\, Canada
CATEGORIES:West
ATTACH;FMTTYPE=image/jpeg:https://gopei.ca/wp-content/uploads/2021/10/243170886_1553713651633646_7111847307585475223_n.jpg
END:VEVENT
BEGIN:VEVENT
DTSTART;TZID=America/Halifax:20220222T100000
DTEND;TZID=America/Halifax:20220222T110000
DTSTAMP:20260420T072143
CREATED:20211008T141506Z
LAST-MODIFIED:20211008T141506Z
UID:10005437-1645524000-1645527600@gopei.ca
SUMMARY:50+ Exercise Class with Barbara
DESCRIPTION:Come join us on Tuesday and Thursday’s from 10-11:00am at the Tignish Legion for a fun exercise class.  There will be a $2/drop in fee.  All CPHO guidelines will be followed.
URL:https://gopei.ca/event-program/50-exercise-class-with-barbara/2022-02-22/
LOCATION:Tignish Legion\, 221 Phillip Street\, Tignish\, PE\, Canada
CATEGORIES:West
ATTACH;FMTTYPE=image/jpeg:https://gopei.ca/wp-content/uploads/2021/10/243170886_1553713651633646_7111847307585475223_n.jpg
END:VEVENT
BEGIN:VEVENT
DTSTART;TZID=America/Halifax:20220217T100000
DTEND;TZID=America/Halifax:20220217T110000
DTSTAMP:20260420T072143
CREATED:20211008T141506Z
LAST-MODIFIED:20211008T141506Z
UID:10005436-1645092000-1645095600@gopei.ca
SUMMARY:50+ Exercise Class with Barbara
DESCRIPTION:Come join us on Tuesday and Thursday’s from 10-11:00am at the Tignish Legion for a fun exercise class.  There will be a $2/drop in fee.  All CPHO guidelines will be followed.
URL:https://gopei.ca/event-program/50-exercise-class-with-barbara/2022-02-17/
LOCATION:Tignish Legion\, 221 Phillip Street\, Tignish\, PE\, Canada
CATEGORIES:West
ATTACH;FMTTYPE=image/jpeg:https://gopei.ca/wp-content/uploads/2021/10/243170886_1553713651633646_7111847307585475223_n.jpg
END:VEVENT
BEGIN:VEVENT
DTSTART;TZID=America/Halifax:20220215T100000
DTEND;TZID=America/Halifax:20220215T110000
DTSTAMP:20260420T072143
CREATED:20211008T141506Z
LAST-MODIFIED:20211008T141506Z
UID:10005435-1644919200-1644922800@gopei.ca
SUMMARY:50+ Exercise Class with Barbara
DESCRIPTION:Come join us on Tuesday and Thursday’s from 10-11:00am at the Tignish Legion for a fun exercise class.  There will be a $2/drop in fee.  All CPHO guidelines will be followed.
URL:https://gopei.ca/event-program/50-exercise-class-with-barbara/2022-02-15/
LOCATION:Tignish Legion\, 221 Phillip Street\, Tignish\, PE\, Canada
CATEGORIES:West
ATTACH;FMTTYPE=image/jpeg:https://gopei.ca/wp-content/uploads/2021/10/243170886_1553713651633646_7111847307585475223_n.jpg
END:VEVENT
BEGIN:VEVENT
DTSTART;TZID=America/Halifax:20220210T100000
DTEND;TZID=America/Halifax:20220210T110000
DTSTAMP:20260420T072143
CREATED:20211008T141506Z
LAST-MODIFIED:20211008T141506Z
UID:10005434-1644487200-1644490800@gopei.ca
SUMMARY:50+ Exercise Class with Barbara
DESCRIPTION:Come join us on Tuesday and Thursday’s from 10-11:00am at the Tignish Legion for a fun exercise class.  There will be a $2/drop in fee.  All CPHO guidelines will be followed.
URL:https://gopei.ca/event-program/50-exercise-class-with-barbara/2022-02-10/
LOCATION:Tignish Legion\, 221 Phillip Street\, Tignish\, PE\, Canada
CATEGORIES:West
ATTACH;FMTTYPE=image/jpeg:https://gopei.ca/wp-content/uploads/2021/10/243170886_1553713651633646_7111847307585475223_n.jpg
END:VEVENT
BEGIN:VEVENT
DTSTART;TZID=America/Halifax:20220208T100000
DTEND;TZID=America/Halifax:20220208T110000
DTSTAMP:20260420T072143
CREATED:20211008T141506Z
LAST-MODIFIED:20211008T141506Z
UID:10005433-1644314400-1644318000@gopei.ca
SUMMARY:50+ Exercise Class with Barbara
DESCRIPTION:Come join us on Tuesday and Thursday’s from 10-11:00am at the Tignish Legion for a fun exercise class.  There will be a $2/drop in fee.  All CPHO guidelines will be followed.
URL:https://gopei.ca/event-program/50-exercise-class-with-barbara/2022-02-08/
LOCATION:Tignish Legion\, 221 Phillip Street\, Tignish\, PE\, Canada
CATEGORIES:West
ATTACH;FMTTYPE=image/jpeg:https://gopei.ca/wp-content/uploads/2021/10/243170886_1553713651633646_7111847307585475223_n.jpg
END:VEVENT
BEGIN:VEVENT
DTSTART;TZID=America/Halifax:20220203T100000
DTEND;TZID=America/Halifax:20220203T110000
DTSTAMP:20260420T072143
CREATED:20211008T141506Z
LAST-MODIFIED:20211008T141506Z
UID:10005432-1643882400-1643886000@gopei.ca
SUMMARY:50+ Exercise Class with Barbara
DESCRIPTION:Come join us on Tuesday and Thursday’s from 10-11:00am at the Tignish Legion for a fun exercise class.  There will be a $2/drop in fee.  All CPHO guidelines will be followed.
URL:https://gopei.ca/event-program/50-exercise-class-with-barbara/2022-02-03/
LOCATION:Tignish Legion\, 221 Phillip Street\, Tignish\, PE\, Canada
CATEGORIES:West
ATTACH;FMTTYPE=image/jpeg:https://gopei.ca/wp-content/uploads/2021/10/243170886_1553713651633646_7111847307585475223_n.jpg
END:VEVENT
BEGIN:VEVENT
DTSTART;TZID=America/Halifax:20220201T100000
DTEND;TZID=America/Halifax:20220201T110000
DTSTAMP:20260420T072143
CREATED:20211008T141506Z
LAST-MODIFIED:20211008T141506Z
UID:10005431-1643709600-1643713200@gopei.ca
SUMMARY:50+ Exercise Class with Barbara
DESCRIPTION:Come join us on Tuesday and Thursday’s from 10-11:00am at the Tignish Legion for a fun exercise class.  There will be a $2/drop in fee.  All CPHO guidelines will be followed.
URL:https://gopei.ca/event-program/50-exercise-class-with-barbara/2022-02-01/
LOCATION:Tignish Legion\, 221 Phillip Street\, Tignish\, PE\, Canada
CATEGORIES:West
ATTACH;FMTTYPE=image/jpeg:https://gopei.ca/wp-content/uploads/2021/10/243170886_1553713651633646_7111847307585475223_n.jpg
END:VEVENT
BEGIN:VEVENT
DTSTART;TZID=America/Halifax:20220127T100000
DTEND;TZID=America/Halifax:20220127T110000
DTSTAMP:20260420T072143
CREATED:20211008T141506Z
LAST-MODIFIED:20211008T141506Z
UID:10005430-1643277600-1643281200@gopei.ca
SUMMARY:50+ Exercise Class with Barbara
DESCRIPTION:Come join us on Tuesday and Thursday’s from 10-11:00am at the Tignish Legion for a fun exercise class.  There will be a $2/drop in fee.  All CPHO guidelines will be followed.
URL:https://gopei.ca/event-program/50-exercise-class-with-barbara/2022-01-27/
LOCATION:Tignish Legion\, 221 Phillip Street\, Tignish\, PE\, Canada
CATEGORIES:West
ATTACH;FMTTYPE=image/jpeg:https://gopei.ca/wp-content/uploads/2021/10/243170886_1553713651633646_7111847307585475223_n.jpg
END:VEVENT
BEGIN:VEVENT
DTSTART;TZID=America/Halifax:20220125T100000
DTEND;TZID=America/Halifax:20220125T110000
DTSTAMP:20260420T072143
CREATED:20211008T141506Z
LAST-MODIFIED:20211008T141506Z
UID:10005429-1643104800-1643108400@gopei.ca
SUMMARY:50+ Exercise Class with Barbara
DESCRIPTION:Come join us on Tuesday and Thursday’s from 10-11:00am at the Tignish Legion for a fun exercise class.  There will be a $2/drop in fee.  All CPHO guidelines will be followed.
URL:https://gopei.ca/event-program/50-exercise-class-with-barbara/2022-01-25/
LOCATION:Tignish Legion\, 221 Phillip Street\, Tignish\, PE\, Canada
CATEGORIES:West
ATTACH;FMTTYPE=image/jpeg:https://gopei.ca/wp-content/uploads/2021/10/243170886_1553713651633646_7111847307585475223_n.jpg
END:VEVENT
BEGIN:VEVENT
DTSTART;TZID=America/Halifax:20220120T100000
DTEND;TZID=America/Halifax:20220120T110000
DTSTAMP:20260420T072143
CREATED:20211008T141506Z
LAST-MODIFIED:20211008T141506Z
UID:10005428-1642672800-1642676400@gopei.ca
SUMMARY:50+ Exercise Class with Barbara
DESCRIPTION:Come join us on Tuesday and Thursday’s from 10-11:00am at the Tignish Legion for a fun exercise class.  There will be a $2/drop in fee.  All CPHO guidelines will be followed.
URL:https://gopei.ca/event-program/50-exercise-class-with-barbara/2022-01-20/
LOCATION:Tignish Legion\, 221 Phillip Street\, Tignish\, PE\, Canada
CATEGORIES:West
ATTACH;FMTTYPE=image/jpeg:https://gopei.ca/wp-content/uploads/2021/10/243170886_1553713651633646_7111847307585475223_n.jpg
END:VEVENT
BEGIN:VEVENT
DTSTART;TZID=America/Halifax:20220118T100000
DTEND;TZID=America/Halifax:20220118T110000
DTSTAMP:20260420T072143
CREATED:20211008T141506Z
LAST-MODIFIED:20211008T141506Z
UID:10005427-1642500000-1642503600@gopei.ca
SUMMARY:50+ Exercise Class with Barbara
DESCRIPTION:Come join us on Tuesday and Thursday’s from 10-11:00am at the Tignish Legion for a fun exercise class.  There will be a $2/drop in fee.  All CPHO guidelines will be followed.
URL:https://gopei.ca/event-program/50-exercise-class-with-barbara/2022-01-18/
LOCATION:Tignish Legion\, 221 Phillip Street\, Tignish\, PE\, Canada
CATEGORIES:West
ATTACH;FMTTYPE=image/jpeg:https://gopei.ca/wp-content/uploads/2021/10/243170886_1553713651633646_7111847307585475223_n.jpg
END:VEVENT
END:VCALENDAR