BEGIN:VCALENDAR
VERSION:2.0
PRODID:-//go!PEI - ECPv6.15.20//NONSGML v1.0//EN
CALSCALE:GREGORIAN
METHOD:PUBLISH
X-WR-CALNAME:go!PEI
X-ORIGINAL-URL:https://gopei.ca
X-WR-CALDESC:Events for go!PEI
REFRESH-INTERVAL;VALUE=DURATION:PT1H
X-Robots-Tag:noindex
X-PUBLISHED-TTL:PT1H
BEGIN:VTIMEZONE
TZID:America/Halifax
BEGIN:DAYLIGHT
TZOFFSETFROM:-0400
TZOFFSETTO:-0300
TZNAME:ADT
DTSTART:20250309T060000
END:DAYLIGHT
BEGIN:STANDARD
TZOFFSETFROM:-0300
TZOFFSETTO:-0400
TZNAME:AST
DTSTART:20251102T050000
END:STANDARD
BEGIN:DAYLIGHT
TZOFFSETFROM:-0400
TZOFFSETTO:-0300
TZNAME:ADT
DTSTART:20260308T060000
END:DAYLIGHT
BEGIN:STANDARD
TZOFFSETFROM:-0300
TZOFFSETTO:-0400
TZNAME:AST
DTSTART:20261101T050000
END:STANDARD
BEGIN:DAYLIGHT
TZOFFSETFROM:-0400
TZOFFSETTO:-0300
TZNAME:ADT
DTSTART:20270314T060000
END:DAYLIGHT
BEGIN:STANDARD
TZOFFSETFROM:-0300
TZOFFSETTO:-0400
TZNAME:AST
DTSTART:20271107T050000
END:STANDARD
END:VTIMEZONE
BEGIN:VEVENT
DTSTART;TZID=America/Halifax:20260420T090000
DTEND;TZID=America/Halifax:20260420T110000
DTSTAMP:20260420T065949
CREATED:20251103T094211Z
LAST-MODIFIED:20251103T094211Z
UID:10009519-1776675600-1776682800@gopei.ca
SUMMARY:Pickleball
DESCRIPTION:Come and play Pickleball during the school year. \nDrop in: $3 \nNo sessions: \n\nNovember 6th\, 7th\, 10th\, 11th\, 21st.\nDecember 21st 2025 – January 4th 2026.\nFebruary 16th.\nMarch Break: March 16th-20th.\nApril 3rd\, 6th\, 10th.\nMay 1st\, 18th.
URL:https://gopei.ca/event-program/pickleball-6/2026-04-20/
LOCATION:Murray Harbour Community Centre\, 27 Faye Fraser Street\, Murray Harbour\, Prince Edward Island\, C0A1V0\, Canada
CATEGORIES:East
END:VEVENT
BEGIN:VEVENT
DTSTART;TZID=America/Halifax:20260420T190000
DTEND;TZID=America/Halifax:20260420T200000
DTSTAMP:20260420T065949
CREATED:20241004T161248Z
LAST-MODIFIED:20241009T140732Z
UID:10008591-1776711600-1776715200@gopei.ca
SUMMARY:Kensington - Yin Yang Yoga
DESCRIPTION:Beginner-Intermediate friendly classes! \nCost: By Donation\, Give What You Can \nGo at your own pace \nFocusing on movement/strength/flexibility and relaxation. \nBring your own mat and water \nContact Krista Shields with any questions or concerns\nEmail: kdshields05@gmail.com \nSign up HERE!
URL:https://gopei.ca/event-program/kensington-yin-yang-yoga/2026-04-20/
LOCATION:Murray Christian Center\, Kensington\, Canada
CATEGORIES:Central
GEO:46.439545214621;-63.636843870324
END:VEVENT
END:VCALENDAR