BEGIN:VCALENDAR
VERSION:2.0
PRODID:-//go!PEI - ECPv6.15.20//NONSGML v1.0//EN
CALSCALE:GREGORIAN
METHOD:PUBLISH
X-WR-CALNAME:go!PEI
X-ORIGINAL-URL:https://gopei.ca
X-WR-CALDESC:Events for go!PEI
REFRESH-INTERVAL;VALUE=DURATION:PT1H
X-Robots-Tag:noindex
X-PUBLISHED-TTL:PT1H
BEGIN:VTIMEZONE
TZID:America/Halifax
BEGIN:DAYLIGHT
TZOFFSETFROM:-0400
TZOFFSETTO:-0300
TZNAME:ADT
DTSTART:20240310T060000
END:DAYLIGHT
BEGIN:STANDARD
TZOFFSETFROM:-0300
TZOFFSETTO:-0400
TZNAME:AST
DTSTART:20241103T050000
END:STANDARD
BEGIN:DAYLIGHT
TZOFFSETFROM:-0400
TZOFFSETTO:-0300
TZNAME:ADT
DTSTART:20250309T060000
END:DAYLIGHT
BEGIN:STANDARD
TZOFFSETFROM:-0300
TZOFFSETTO:-0400
TZNAME:AST
DTSTART:20251102T050000
END:STANDARD
BEGIN:DAYLIGHT
TZOFFSETFROM:-0400
TZOFFSETTO:-0300
TZNAME:ADT
DTSTART:20260308T060000
END:DAYLIGHT
BEGIN:STANDARD
TZOFFSETFROM:-0300
TZOFFSETTO:-0400
TZNAME:AST
DTSTART:20261101T050000
END:STANDARD
END:VTIMEZONE
BEGIN:VEVENT
DTSTART;TZID=America/Halifax:20250922T121000
DTEND;TZID=America/Halifax:20250922T125000
DTSTAMP:20260421T093631
CREATED:20251103T075931Z
LAST-MODIFIED:20251103T075931Z
UID:10008842-1758543000-1758545400@gopei.ca
SUMMARY:Lunch Rush
DESCRIPTION:A dynamic 35-40min. workout to break up the work day with maximum calorie burn and strength optimization. Expect varied routines from HIIT and circuit training to heavy weights and mobility training to keep you on your toes and prevent boredom
URL:https://gopei.ca/event-program/lunch-rush/2025-09-22/
LOCATION:TCAP Family Aquatic & Fitness Centre
CATEGORIES:East
GEO:46.156865472382;-62.643361498436
END:VEVENT
BEGIN:VEVENT
DTSTART;TZID=America/Halifax:20250922T110000
DTEND;TZID=America/Halifax:20250922T120000
DTSTAMP:20260421T093631
CREATED:20251103T074556Z
LAST-MODIFIED:20251103T074556Z
UID:10008776-1758538800-1758542400@gopei.ca
SUMMARY:Gentle\, Mindful Chair & Mat Yoga
DESCRIPTION:
URL:https://gopei.ca/event-program/gentle-mindful-chair-mat-yoga-2/2025-09-22/
LOCATION:Belfast Recreation Centre
CATEGORIES:East
GEO:46.089000551509;-62.878814644462
END:VEVENT
BEGIN:VEVENT
DTSTART;TZID=America/Halifax:20250922T094500
DTEND;TZID=America/Halifax:20250922T103000
DTSTAMP:20260421T093631
CREATED:20251103T075125Z
LAST-MODIFIED:20251103T075125Z
UID:10008800-1758534300-1758537000@gopei.ca
SUMMARY:Senior Fitness
DESCRIPTION:
URL:https://gopei.ca/event-program/senior-fitness-2/2025-09-22/
LOCATION:Full Throttle Fitness\, 150 Bangor Road\, Morell\, Prince Edward Island\, C0A1S0\, Canada
CATEGORIES:East
END:VEVENT
BEGIN:VEVENT
DTSTART;TZID=America/Halifax:20250918T190000
DTEND;TZID=America/Halifax:20250918T200000
DTSTAMP:20260421T093631
CREATED:20241004T164602Z
LAST-MODIFIED:20241004T164759Z
UID:10007775-1758222000-1758225600@gopei.ca
SUMMARY:Kinkora - Multifit
DESCRIPTION:Weekly Fitness program where the style changes week to week \nBootcamp/Tabata/Circuit/Yoga \nwith various implements like: bands/balls/weights \nAll Levels Welcome! \nPay by Donation\, Give What You Can \nIf you have any questions or concerns\, contact:\nKrista Shields\nEmail: kdshields05@gmail.com \nSign up HERE!
URL:https://gopei.ca/event-program/kinkora-multifit/2025-09-18/
LOCATION:Kinkora Community Hall\, Canada
CATEGORIES:Central
GEO:46.323485530618;-63.594944
END:VEVENT
BEGIN:VEVENT
DTSTART;TZID=America/Halifax:20250918T103000
DTEND;TZID=America/Halifax:20250918T111500
DTSTAMP:20260421T093631
CREATED:20251103T075658Z
LAST-MODIFIED:20251103T075658Z
UID:10008831-1758191400-1758194100@gopei.ca
SUMMARY:Senior Fitness
DESCRIPTION:
URL:https://gopei.ca/event-program/senior-fitness-5/2025-09-18/
LOCATION:Mount Stewart Community Centre
CATEGORIES:East
GEO:46.364358;-62.857286
END:VEVENT
BEGIN:VEVENT
DTSTART;TZID=America/Halifax:20250918T093000
DTEND;TZID=America/Halifax:20250918T101500
DTSTAMP:20260421T093631
CREATED:20251103T075315Z
LAST-MODIFIED:20251103T075315Z
UID:10008815-1758187800-1758190500@gopei.ca
SUMMARY:Senior Fitness
DESCRIPTION:
URL:https://gopei.ca/event-program/senior-fitness-4/2025-09-18/
LOCATION:Tracadie Community Centre
CATEGORIES:East
GEO:46.348867959659;-62.969523657947
END:VEVENT
BEGIN:VEVENT
DTSTART;TZID=America/Halifax:20250917T094500
DTEND;TZID=America/Halifax:20250917T103000
DTSTAMP:20260421T093631
CREATED:20251103T075125Z
LAST-MODIFIED:20251103T075125Z
UID:10008799-1758102300-1758105000@gopei.ca
SUMMARY:Senior Fitness
DESCRIPTION:
URL:https://gopei.ca/event-program/senior-fitness-2/2025-09-17/
LOCATION:Full Throttle Fitness\, 150 Bangor Road\, Morell\, Prince Edward Island\, C0A1S0\, Canada
CATEGORIES:East
END:VEVENT
BEGIN:VEVENT
DTSTART;TZID=America/Halifax:20250916T130000
DTEND;TZID=America/Halifax:20250916T140000
DTSTAMP:20260421T093631
CREATED:20241009T133321Z
LAST-MODIFIED:20241009T140359Z
UID:10008296-1758027600-1758031200@gopei.ca
SUMMARY:Fitness Class with Heidi
DESCRIPTION:Join Heidi for a low impact fitness class! \nBody weight and Resistance band focused! \nIf you have any questions\, contact GoWest\nwebsite: GoWest\nEmail: gowestpei@gmail.com
URL:https://gopei.ca/event-program/fitness-class-with-heidi-2/2025-09-16/
LOCATION:Bloomfield – St. Anthony’s Legion
CATEGORIES:West
END:VEVENT
BEGIN:VEVENT
DTSTART;TZID=America/Halifax:20250916T103000
DTEND;TZID=America/Halifax:20250916T111500
DTSTAMP:20260421T093631
CREATED:20251103T075658Z
LAST-MODIFIED:20251103T075658Z
UID:10008830-1758018600-1758021300@gopei.ca
SUMMARY:Senior Fitness
DESCRIPTION:
URL:https://gopei.ca/event-program/senior-fitness-5/2025-09-16/
LOCATION:Mount Stewart Community Centre
CATEGORIES:East
GEO:46.364358;-62.857286
END:VEVENT
BEGIN:VEVENT
DTSTART;TZID=America/Halifax:20250916T093000
DTEND;TZID=America/Halifax:20250916T101500
DTSTAMP:20260421T093631
CREATED:20251103T075315Z
LAST-MODIFIED:20251103T075315Z
UID:10008814-1758015000-1758017700@gopei.ca
SUMMARY:Senior Fitness
DESCRIPTION:
URL:https://gopei.ca/event-program/senior-fitness-4/2025-09-16/
LOCATION:Tracadie Community Centre
CATEGORIES:East
GEO:46.348867959659;-62.969523657947
END:VEVENT
BEGIN:VEVENT
DTSTART;TZID=America/Halifax:20250916T090000
DTEND;TZID=America/Halifax:20250916T100000
DTSTAMP:20260421T093631
CREATED:20241009T133134Z
LAST-MODIFIED:20241009T133134Z
UID:10008035-1758013200-1758016800@gopei.ca
SUMMARY:Fitness Class with Heidi
DESCRIPTION:Join Heidi for a low impact fitness class! \nBody weight and Resistance band focused! \nIf you have any questions\, contact GoWest\nwebsite: GoWest\nEmail: gowestpei@gmail.com
URL:https://gopei.ca/event-program/fitness-class-with-heidi/2025-09-16/
LOCATION:St. Louis Community Centre\, 3563 Union Road\, St. Louis\, PE\, Canada
CATEGORIES:West
END:VEVENT
BEGIN:VEVENT
DTSTART;TZID=America/Halifax:20250915T190000
DTEND;TZID=America/Halifax:20250915T200000
DTSTAMP:20260421T093631
CREATED:20241004T161248Z
LAST-MODIFIED:20241009T140732Z
UID:10008560-1757962800-1757966400@gopei.ca
SUMMARY:Kensington - Yin Yang Yoga
DESCRIPTION:Beginner-Intermediate friendly classes! \nCost: By Donation\, Give What You Can \nGo at your own pace \nFocusing on movement/strength/flexibility and relaxation. \nBring your own mat and water \nContact Krista Shields with any questions or concerns\nEmail: kdshields05@gmail.com \nSign up HERE!
URL:https://gopei.ca/event-program/kensington-yin-yang-yoga/2025-09-15/
LOCATION:Murray Christian Center\, Kensington\, Canada
CATEGORIES:Central
GEO:46.439545214621;-63.636843870324
END:VEVENT
BEGIN:VEVENT
DTSTART;TZID=America/Halifax:20250915T110000
DTEND;TZID=America/Halifax:20250915T120000
DTSTAMP:20260421T093631
CREATED:20251103T074556Z
LAST-MODIFIED:20251103T074556Z
UID:10008775-1757934000-1757937600@gopei.ca
SUMMARY:Gentle\, Mindful Chair & Mat Yoga
DESCRIPTION:
URL:https://gopei.ca/event-program/gentle-mindful-chair-mat-yoga-2/2025-09-15/
LOCATION:Belfast Recreation Centre
CATEGORIES:East
GEO:46.089000551509;-62.878814644462
END:VEVENT
BEGIN:VEVENT
DTSTART;TZID=America/Halifax:20250915T094500
DTEND;TZID=America/Halifax:20250915T103000
DTSTAMP:20260421T093631
CREATED:20251103T075125Z
LAST-MODIFIED:20251103T075125Z
UID:10008798-1757929500-1757932200@gopei.ca
SUMMARY:Senior Fitness
DESCRIPTION:
URL:https://gopei.ca/event-program/senior-fitness-2/2025-09-15/
LOCATION:Full Throttle Fitness\, 150 Bangor Road\, Morell\, Prince Edward Island\, C0A1S0\, Canada
CATEGORIES:East
END:VEVENT
BEGIN:VEVENT
DTSTART;TZID=America/Halifax:20250911T190000
DTEND;TZID=America/Halifax:20250911T200000
DTSTAMP:20260421T093631
CREATED:20241004T164602Z
LAST-MODIFIED:20241004T164759Z
UID:10007774-1757617200-1757620800@gopei.ca
SUMMARY:Kinkora - Multifit
DESCRIPTION:Weekly Fitness program where the style changes week to week \nBootcamp/Tabata/Circuit/Yoga \nwith various implements like: bands/balls/weights \nAll Levels Welcome! \nPay by Donation\, Give What You Can \nIf you have any questions or concerns\, contact:\nKrista Shields\nEmail: kdshields05@gmail.com \nSign up HERE!
URL:https://gopei.ca/event-program/kinkora-multifit/2025-09-11/
LOCATION:Kinkora Community Hall\, Canada
CATEGORIES:Central
GEO:46.323485530618;-63.594944
END:VEVENT
BEGIN:VEVENT
DTSTART;TZID=America/Halifax:20250911T103000
DTEND;TZID=America/Halifax:20250911T111500
DTSTAMP:20260421T093631
CREATED:20251103T075658Z
LAST-MODIFIED:20251103T075658Z
UID:10008829-1757586600-1757589300@gopei.ca
SUMMARY:Senior Fitness
DESCRIPTION:
URL:https://gopei.ca/event-program/senior-fitness-5/2025-09-11/
LOCATION:Mount Stewart Community Centre
CATEGORIES:East
GEO:46.364358;-62.857286
END:VEVENT
BEGIN:VEVENT
DTSTART;TZID=America/Halifax:20250911T093000
DTEND;TZID=America/Halifax:20250911T101500
DTSTAMP:20260421T093631
CREATED:20251103T075315Z
LAST-MODIFIED:20251103T075315Z
UID:10008813-1757583000-1757585700@gopei.ca
SUMMARY:Senior Fitness
DESCRIPTION:
URL:https://gopei.ca/event-program/senior-fitness-4/2025-09-11/
LOCATION:Tracadie Community Centre
CATEGORIES:East
GEO:46.348867959659;-62.969523657947
END:VEVENT
BEGIN:VEVENT
DTSTART;TZID=America/Halifax:20250910T094500
DTEND;TZID=America/Halifax:20250910T103000
DTSTAMP:20260421T093631
CREATED:20251103T075125Z
LAST-MODIFIED:20251103T075125Z
UID:10008797-1757497500-1757500200@gopei.ca
SUMMARY:Senior Fitness
DESCRIPTION:
URL:https://gopei.ca/event-program/senior-fitness-2/2025-09-10/
LOCATION:Full Throttle Fitness\, 150 Bangor Road\, Morell\, Prince Edward Island\, C0A1S0\, Canada
CATEGORIES:East
END:VEVENT
BEGIN:VEVENT
DTSTART;TZID=America/Halifax:20250909T130000
DTEND;TZID=America/Halifax:20250909T140000
DTSTAMP:20260421T093631
CREATED:20241009T133321Z
LAST-MODIFIED:20241009T140359Z
UID:10008295-1757422800-1757426400@gopei.ca
SUMMARY:Fitness Class with Heidi
DESCRIPTION:Join Heidi for a low impact fitness class! \nBody weight and Resistance band focused! \nIf you have any questions\, contact GoWest\nwebsite: GoWest\nEmail: gowestpei@gmail.com
URL:https://gopei.ca/event-program/fitness-class-with-heidi-2/2025-09-09/
LOCATION:Bloomfield – St. Anthony’s Legion
CATEGORIES:West
END:VEVENT
BEGIN:VEVENT
DTSTART;TZID=America/Halifax:20250909T103000
DTEND;TZID=America/Halifax:20250909T111500
DTSTAMP:20260421T093631
CREATED:20251103T075658Z
LAST-MODIFIED:20251103T075658Z
UID:10008828-1757413800-1757416500@gopei.ca
SUMMARY:Senior Fitness
DESCRIPTION:
URL:https://gopei.ca/event-program/senior-fitness-5/2025-09-09/
LOCATION:Mount Stewart Community Centre
CATEGORIES:East
GEO:46.364358;-62.857286
END:VEVENT
BEGIN:VEVENT
DTSTART;TZID=America/Halifax:20250909T093000
DTEND;TZID=America/Halifax:20250909T101500
DTSTAMP:20260421T093631
CREATED:20251103T075315Z
LAST-MODIFIED:20251103T075315Z
UID:10008812-1757410200-1757412900@gopei.ca
SUMMARY:Senior Fitness
DESCRIPTION:
URL:https://gopei.ca/event-program/senior-fitness-4/2025-09-09/
LOCATION:Tracadie Community Centre
CATEGORIES:East
GEO:46.348867959659;-62.969523657947
END:VEVENT
BEGIN:VEVENT
DTSTART;TZID=America/Halifax:20250909T090000
DTEND;TZID=America/Halifax:20250909T100000
DTSTAMP:20260421T093631
CREATED:20241009T133134Z
LAST-MODIFIED:20241009T133134Z
UID:10008034-1757408400-1757412000@gopei.ca
SUMMARY:Fitness Class with Heidi
DESCRIPTION:Join Heidi for a low impact fitness class! \nBody weight and Resistance band focused! \nIf you have any questions\, contact GoWest\nwebsite: GoWest\nEmail: gowestpei@gmail.com
URL:https://gopei.ca/event-program/fitness-class-with-heidi/2025-09-09/
LOCATION:St. Louis Community Centre\, 3563 Union Road\, St. Louis\, PE\, Canada
CATEGORIES:West
END:VEVENT
BEGIN:VEVENT
DTSTART;TZID=America/Halifax:20250908T190000
DTEND;TZID=America/Halifax:20250908T200000
DTSTAMP:20260421T093631
CREATED:20241004T161248Z
LAST-MODIFIED:20241009T140732Z
UID:10008559-1757358000-1757361600@gopei.ca
SUMMARY:Kensington - Yin Yang Yoga
DESCRIPTION:Beginner-Intermediate friendly classes! \nCost: By Donation\, Give What You Can \nGo at your own pace \nFocusing on movement/strength/flexibility and relaxation. \nBring your own mat and water \nContact Krista Shields with any questions or concerns\nEmail: kdshields05@gmail.com \nSign up HERE!
URL:https://gopei.ca/event-program/kensington-yin-yang-yoga/2025-09-08/
LOCATION:Murray Christian Center\, Kensington\, Canada
CATEGORIES:Central
GEO:46.439545214621;-63.636843870324
END:VEVENT
BEGIN:VEVENT
DTSTART;TZID=America/Halifax:20250908T110000
DTEND;TZID=America/Halifax:20250908T120000
DTSTAMP:20260421T093631
CREATED:20251103T074556Z
LAST-MODIFIED:20251103T074556Z
UID:10008774-1757329200-1757332800@gopei.ca
SUMMARY:Gentle\, Mindful Chair & Mat Yoga
DESCRIPTION:
URL:https://gopei.ca/event-program/gentle-mindful-chair-mat-yoga-2/2025-09-08/
LOCATION:Belfast Recreation Centre
CATEGORIES:East
GEO:46.089000551509;-62.878814644462
END:VEVENT
BEGIN:VEVENT
DTSTART;TZID=America/Halifax:20250908T094500
DTEND;TZID=America/Halifax:20250908T103000
DTSTAMP:20260421T093631
CREATED:20251103T075125Z
LAST-MODIFIED:20251103T075125Z
UID:10008796-1757324700-1757327400@gopei.ca
SUMMARY:Senior Fitness
DESCRIPTION:
URL:https://gopei.ca/event-program/senior-fitness-2/2025-09-08/
LOCATION:Full Throttle Fitness\, 150 Bangor Road\, Morell\, Prince Edward Island\, C0A1S0\, Canada
CATEGORIES:East
END:VEVENT
BEGIN:VEVENT
DTSTART;TZID=America/Halifax:20250904T190000
DTEND;TZID=America/Halifax:20250904T200000
DTSTAMP:20260421T093631
CREATED:20241004T164602Z
LAST-MODIFIED:20241004T164759Z
UID:10007773-1757012400-1757016000@gopei.ca
SUMMARY:Kinkora - Multifit
DESCRIPTION:Weekly Fitness program where the style changes week to week \nBootcamp/Tabata/Circuit/Yoga \nwith various implements like: bands/balls/weights \nAll Levels Welcome! \nPay by Donation\, Give What You Can \nIf you have any questions or concerns\, contact:\nKrista Shields\nEmail: kdshields05@gmail.com \nSign up HERE!
URL:https://gopei.ca/event-program/kinkora-multifit/2025-09-04/
LOCATION:Kinkora Community Hall\, Canada
CATEGORIES:Central
GEO:46.323485530618;-63.594944
END:VEVENT
BEGIN:VEVENT
DTSTART;TZID=America/Halifax:20250904T103000
DTEND;TZID=America/Halifax:20250904T111500
DTSTAMP:20260421T093631
CREATED:20251103T075658Z
LAST-MODIFIED:20251103T075658Z
UID:10008827-1756981800-1756984500@gopei.ca
SUMMARY:Senior Fitness
DESCRIPTION:
URL:https://gopei.ca/event-program/senior-fitness-5/2025-09-04/
LOCATION:Mount Stewart Community Centre
CATEGORIES:East
GEO:46.364358;-62.857286
END:VEVENT
BEGIN:VEVENT
DTSTART;TZID=America/Halifax:20250904T093000
DTEND;TZID=America/Halifax:20250904T101500
DTSTAMP:20260421T093631
CREATED:20251103T075315Z
LAST-MODIFIED:20251103T075315Z
UID:10008811-1756978200-1756980900@gopei.ca
SUMMARY:Senior Fitness
DESCRIPTION:
URL:https://gopei.ca/event-program/senior-fitness-4/2025-09-04/
LOCATION:Tracadie Community Centre
CATEGORIES:East
GEO:46.348867959659;-62.969523657947
END:VEVENT
BEGIN:VEVENT
DTSTART;TZID=America/Halifax:20250903T094500
DTEND;TZID=America/Halifax:20250903T103000
DTSTAMP:20260421T093631
CREATED:20251103T075125Z
LAST-MODIFIED:20251103T075125Z
UID:10008795-1756892700-1756895400@gopei.ca
SUMMARY:Senior Fitness
DESCRIPTION:
URL:https://gopei.ca/event-program/senior-fitness-2/2025-09-03/
LOCATION:Full Throttle Fitness\, 150 Bangor Road\, Morell\, Prince Edward Island\, C0A1S0\, Canada
CATEGORIES:East
END:VEVENT
BEGIN:VEVENT
DTSTART;TZID=America/Halifax:20250902T130000
DTEND;TZID=America/Halifax:20250902T140000
DTSTAMP:20260421T093631
CREATED:20241009T133321Z
LAST-MODIFIED:20241009T140359Z
UID:10008294-1756818000-1756821600@gopei.ca
SUMMARY:Fitness Class with Heidi
DESCRIPTION:Join Heidi for a low impact fitness class! \nBody weight and Resistance band focused! \nIf you have any questions\, contact GoWest\nwebsite: GoWest\nEmail: gowestpei@gmail.com
URL:https://gopei.ca/event-program/fitness-class-with-heidi-2/2025-09-02/
LOCATION:Bloomfield – St. Anthony’s Legion
CATEGORIES:West
END:VEVENT
END:VCALENDAR