BEGIN:VCALENDAR
VERSION:2.0
PRODID:-//go!PEI - ECPv6.15.20//NONSGML v1.0//EN
CALSCALE:GREGORIAN
METHOD:PUBLISH
X-WR-CALNAME:go!PEI
X-ORIGINAL-URL:https://gopei.ca
X-WR-CALDESC:Events for go!PEI
REFRESH-INTERVAL;VALUE=DURATION:PT1H
X-Robots-Tag:noindex
X-PUBLISHED-TTL:PT1H
BEGIN:VTIMEZONE
TZID:America/Halifax
BEGIN:DAYLIGHT
TZOFFSETFROM:-0400
TZOFFSETTO:-0300
TZNAME:ADT
DTSTART:20240310T060000
END:DAYLIGHT
BEGIN:STANDARD
TZOFFSETFROM:-0300
TZOFFSETTO:-0400
TZNAME:AST
DTSTART:20241103T050000
END:STANDARD
BEGIN:DAYLIGHT
TZOFFSETFROM:-0400
TZOFFSETTO:-0300
TZNAME:ADT
DTSTART:20250309T060000
END:DAYLIGHT
BEGIN:STANDARD
TZOFFSETFROM:-0300
TZOFFSETTO:-0400
TZNAME:AST
DTSTART:20251102T050000
END:STANDARD
BEGIN:DAYLIGHT
TZOFFSETFROM:-0400
TZOFFSETTO:-0300
TZNAME:ADT
DTSTART:20260308T060000
END:DAYLIGHT
BEGIN:STANDARD
TZOFFSETFROM:-0300
TZOFFSETTO:-0400
TZNAME:AST
DTSTART:20261101T050000
END:STANDARD
END:VTIMEZONE
BEGIN:VEVENT
DTSTART;TZID=America/Halifax:20251104T180000
DTEND;TZID=America/Halifax:20251104T200000
DTSTAMP:20260421T003928
CREATED:20251103T094006Z
LAST-MODIFIED:20251103T094006Z
UID:10008925-1762279200-1762286400@gopei.ca
SUMMARY:Pickleball
DESCRIPTION:Come and play Pickleball during the school year. \nDrop in: $2 \nNo sessions: \n\nNovember 6th\, 7th\, 10th\, 11th\, 21st.\nDecember 21st 2025 – January 4th 2026.\nFebruary 16th.\nMarch Break: March 16th-20th.\nApril 3rd\, 6th\, 10th.\nMay 1st\, 18th.\n\n  \n 
URL:https://gopei.ca/event-program/pickleball-5/2025-11-04/
LOCATION:Southern Kings Consolidated School\, 2294 Peters Rd.\, Montague\, PE\, C0A 1R0\, Canada
CATEGORIES:East
END:VEVENT
BEGIN:VEVENT
DTSTART;TZID=America/Halifax:20251104T130000
DTEND;TZID=America/Halifax:20251104T140000
DTSTAMP:20260421T003928
CREATED:20241009T133321Z
LAST-MODIFIED:20241009T140359Z
UID:10008303-1762261200-1762264800@gopei.ca
SUMMARY:Fitness Class with Heidi
DESCRIPTION:Join Heidi for a low impact fitness class! \nBody weight and Resistance band focused! \nIf you have any questions\, contact GoWest\nwebsite: GoWest\nEmail: gowestpei@gmail.com
URL:https://gopei.ca/event-program/fitness-class-with-heidi-2/2025-11-04/
LOCATION:Bloomfield – St. Anthony’s Legion
CATEGORIES:West
END:VEVENT
BEGIN:VEVENT
DTSTART;TZID=America/Halifax:20251104T090000
DTEND;TZID=America/Halifax:20251104T100000
DTSTAMP:20260421T003928
CREATED:20241009T133134Z
LAST-MODIFIED:20241009T133134Z
UID:10008042-1762246800-1762250400@gopei.ca
SUMMARY:Fitness Class with Heidi
DESCRIPTION:Join Heidi for a low impact fitness class! \nBody weight and Resistance band focused! \nIf you have any questions\, contact GoWest\nwebsite: GoWest\nEmail: gowestpei@gmail.com
URL:https://gopei.ca/event-program/fitness-class-with-heidi/2025-11-04/
LOCATION:St. Louis Community Centre\, 3563 Union Road\, St. Louis\, PE\, Canada
CATEGORIES:West
END:VEVENT
BEGIN:VEVENT
DTSTART;TZID=America/Halifax:20251103T190000
DTEND;TZID=America/Halifax:20251103T200000
DTSTAMP:20260421T003928
CREATED:20241004T161248Z
LAST-MODIFIED:20241009T140732Z
UID:10008567-1762196400-1762200000@gopei.ca
SUMMARY:Kensington - Yin Yang Yoga
DESCRIPTION:Beginner-Intermediate friendly classes! \nCost: By Donation\, Give What You Can \nGo at your own pace \nFocusing on movement/strength/flexibility and relaxation. \nBring your own mat and water \nContact Krista Shields with any questions or concerns\nEmail: kdshields05@gmail.com \nSign up HERE!
URL:https://gopei.ca/event-program/kensington-yin-yang-yoga/2025-11-03/
LOCATION:Murray Christian Center\, Kensington\, Canada
CATEGORIES:Central
GEO:46.439545214621;-63.636843870324
END:VEVENT
BEGIN:VEVENT
DTSTART;TZID=America/Halifax:20251103T121000
DTEND;TZID=America/Halifax:20251103T125000
DTSTAMP:20260421T003928
CREATED:20251103T075931Z
LAST-MODIFIED:20251103T075931Z
UID:10008854-1762171800-1762174200@gopei.ca
SUMMARY:Lunch Rush
DESCRIPTION:A dynamic 35-40min. workout to break up the work day with maximum calorie burn and strength optimization. Expect varied routines from HIIT and circuit training to heavy weights and mobility training to keep you on your toes and prevent boredom
URL:https://gopei.ca/event-program/lunch-rush/2025-11-03/
LOCATION:TCAP Family Aquatic & Fitness Centre
CATEGORIES:East
GEO:46.156865472382;-62.643361498436
END:VEVENT
BEGIN:VEVENT
DTSTART;TZID=America/Halifax:20251103T110000
DTEND;TZID=America/Halifax:20251103T120000
DTSTAMP:20260421T003928
CREATED:20251103T074556Z
LAST-MODIFIED:20251103T074556Z
UID:10008781-1762167600-1762171200@gopei.ca
SUMMARY:Gentle\, Mindful Chair & Mat Yoga
DESCRIPTION:
URL:https://gopei.ca/event-program/gentle-mindful-chair-mat-yoga-2/2025-11-03/
LOCATION:Belfast Recreation Centre
CATEGORIES:East
GEO:46.089000551509;-62.878814644462
END:VEVENT
BEGIN:VEVENT
DTSTART;TZID=America/Halifax:20251103T090000
DTEND;TZID=America/Halifax:20251103T110000
DTSTAMP:20260421T003928
CREATED:20251103T094211Z
LAST-MODIFIED:20251103T094211Z
UID:10009447-1762160400-1762167600@gopei.ca
SUMMARY:Pickleball
DESCRIPTION:Come and play Pickleball during the school year. \nDrop in: $3 \nNo sessions: \n\nNovember 6th\, 7th\, 10th\, 11th\, 21st.\nDecember 21st 2025 – January 4th 2026.\nFebruary 16th.\nMarch Break: March 16th-20th.\nApril 3rd\, 6th\, 10th.\nMay 1st\, 18th.
URL:https://gopei.ca/event-program/pickleball-6/2025-11-03/
LOCATION:Murray Harbour Community Centre\, 27 Faye Fraser Street\, Murray Harbour\, Prince Edward Island\, C0A1V0\, Canada
CATEGORIES:East
END:VEVENT
BEGIN:VEVENT
DTSTART;TZID=America/Halifax:20251031T121000
DTEND;TZID=America/Halifax:20251031T125000
DTSTAMP:20260421T003928
CREATED:20251103T075931Z
LAST-MODIFIED:20251103T075931Z
UID:10008853-1761912600-1761915000@gopei.ca
SUMMARY:Lunch Rush
DESCRIPTION:A dynamic 35-40min. workout to break up the work day with maximum calorie burn and strength optimization. Expect varied routines from HIIT and circuit training to heavy weights and mobility training to keep you on your toes and prevent boredom
URL:https://gopei.ca/event-program/lunch-rush/2025-10-31/
LOCATION:TCAP Family Aquatic & Fitness Centre
CATEGORIES:East
GEO:46.156865472382;-62.643361498436
END:VEVENT
BEGIN:VEVENT
DTSTART;TZID=America/Halifax:20251030T190000
DTEND;TZID=America/Halifax:20251030T200000
DTSTAMP:20260421T003928
CREATED:20241004T164602Z
LAST-MODIFIED:20241004T164759Z
UID:10007781-1761850800-1761854400@gopei.ca
SUMMARY:Kinkora - Multifit
DESCRIPTION:Weekly Fitness program where the style changes week to week \nBootcamp/Tabata/Circuit/Yoga \nwith various implements like: bands/balls/weights \nAll Levels Welcome! \nPay by Donation\, Give What You Can \nIf you have any questions or concerns\, contact:\nKrista Shields\nEmail: kdshields05@gmail.com \nSign up HERE!
URL:https://gopei.ca/event-program/kinkora-multifit/2025-10-30/
LOCATION:Kinkora Community Hall\, Canada
CATEGORIES:Central
GEO:46.323485530618;-63.594944
END:VEVENT
BEGIN:VEVENT
DTSTART;TZID=America/Halifax:20251029T103000
DTEND;TZID=America/Halifax:20251029T233000
DTSTAMP:20260421T003928
CREATED:20251103T080354Z
LAST-MODIFIED:20251103T080354Z
UID:10008875-1761733800-1761780600@gopei.ca
SUMMARY:Line Dancing
DESCRIPTION:
URL:https://gopei.ca/event-program/line-dancing-2/2025-10-29/
LOCATION:Tracadie Community Centre
CATEGORIES:East
GEO:46.348867959659;-62.969523657947
END:VEVENT
BEGIN:VEVENT
DTSTART;TZID=America/Halifax:20251029T103000
DTEND;TZID=America/Halifax:20251029T113000
DTSTAMP:20260421T003928
CREATED:20251103T074831Z
LAST-MODIFIED:20251103T074831Z
UID:10008789-1761733800-1761737400@gopei.ca
SUMMARY:Chair Yoga
DESCRIPTION:
URL:https://gopei.ca/event-program/chair-yoga-5/2025-10-29/
LOCATION:Fort Augustus Community Centre (Paddy’s Pub)
CATEGORIES:East
GEO:46.318920845901;-62.929927429112
END:VEVENT
BEGIN:VEVENT
DTSTART;TZID=America/Halifax:20251028T130000
DTEND;TZID=America/Halifax:20251028T140000
DTSTAMP:20260421T003928
CREATED:20241009T133321Z
LAST-MODIFIED:20241009T140359Z
UID:10008302-1761656400-1761660000@gopei.ca
SUMMARY:Fitness Class with Heidi
DESCRIPTION:Join Heidi for a low impact fitness class! \nBody weight and Resistance band focused! \nIf you have any questions\, contact GoWest\nwebsite: GoWest\nEmail: gowestpei@gmail.com
URL:https://gopei.ca/event-program/fitness-class-with-heidi-2/2025-10-28/
LOCATION:Bloomfield – St. Anthony’s Legion
CATEGORIES:West
END:VEVENT
BEGIN:VEVENT
DTSTART;TZID=America/Halifax:20251028T090000
DTEND;TZID=America/Halifax:20251028T100000
DTSTAMP:20260421T003928
CREATED:20241009T133134Z
LAST-MODIFIED:20241009T133134Z
UID:10008041-1761642000-1761645600@gopei.ca
SUMMARY:Fitness Class with Heidi
DESCRIPTION:Join Heidi for a low impact fitness class! \nBody weight and Resistance band focused! \nIf you have any questions\, contact GoWest\nwebsite: GoWest\nEmail: gowestpei@gmail.com
URL:https://gopei.ca/event-program/fitness-class-with-heidi/2025-10-28/
LOCATION:St. Louis Community Centre\, 3563 Union Road\, St. Louis\, PE\, Canada
CATEGORIES:West
END:VEVENT
BEGIN:VEVENT
DTSTART;TZID=America/Halifax:20251027T190000
DTEND;TZID=America/Halifax:20251027T200000
DTSTAMP:20260421T003928
CREATED:20241004T161248Z
LAST-MODIFIED:20241009T140732Z
UID:10008566-1761591600-1761595200@gopei.ca
SUMMARY:Kensington - Yin Yang Yoga
DESCRIPTION:Beginner-Intermediate friendly classes! \nCost: By Donation\, Give What You Can \nGo at your own pace \nFocusing on movement/strength/flexibility and relaxation. \nBring your own mat and water \nContact Krista Shields with any questions or concerns\nEmail: kdshields05@gmail.com \nSign up HERE!
URL:https://gopei.ca/event-program/kensington-yin-yang-yoga/2025-10-27/
LOCATION:Murray Christian Center\, Kensington\, Canada
CATEGORIES:Central
GEO:46.439545214621;-63.636843870324
END:VEVENT
BEGIN:VEVENT
DTSTART;TZID=America/Halifax:20251027T121000
DTEND;TZID=America/Halifax:20251027T125000
DTSTAMP:20260421T003928
CREATED:20251103T075931Z
LAST-MODIFIED:20251103T075931Z
UID:10008852-1761567000-1761569400@gopei.ca
SUMMARY:Lunch Rush
DESCRIPTION:A dynamic 35-40min. workout to break up the work day with maximum calorie burn and strength optimization. Expect varied routines from HIIT and circuit training to heavy weights and mobility training to keep you on your toes and prevent boredom
URL:https://gopei.ca/event-program/lunch-rush/2025-10-27/
LOCATION:TCAP Family Aquatic & Fitness Centre
CATEGORIES:East
GEO:46.156865472382;-62.643361498436
END:VEVENT
BEGIN:VEVENT
DTSTART;TZID=America/Halifax:20251027T110000
DTEND;TZID=America/Halifax:20251027T120000
DTSTAMP:20260421T003928
CREATED:20251103T074556Z
LAST-MODIFIED:20251103T074556Z
UID:10008780-1761562800-1761566400@gopei.ca
SUMMARY:Gentle\, Mindful Chair & Mat Yoga
DESCRIPTION:
URL:https://gopei.ca/event-program/gentle-mindful-chair-mat-yoga-2/2025-10-27/
LOCATION:Belfast Recreation Centre
CATEGORIES:East
GEO:46.089000551509;-62.878814644462
END:VEVENT
BEGIN:VEVENT
DTSTART;TZID=America/Halifax:20251024T121000
DTEND;TZID=America/Halifax:20251024T125000
DTSTAMP:20260421T003928
CREATED:20251103T075931Z
LAST-MODIFIED:20251103T075931Z
UID:10008851-1761307800-1761310200@gopei.ca
SUMMARY:Lunch Rush
DESCRIPTION:A dynamic 35-40min. workout to break up the work day with maximum calorie burn and strength optimization. Expect varied routines from HIIT and circuit training to heavy weights and mobility training to keep you on your toes and prevent boredom
URL:https://gopei.ca/event-program/lunch-rush/2025-10-24/
LOCATION:TCAP Family Aquatic & Fitness Centre
CATEGORIES:East
GEO:46.156865472382;-62.643361498436
END:VEVENT
BEGIN:VEVENT
DTSTART;TZID=America/Halifax:20251023T190000
DTEND;TZID=America/Halifax:20251023T200000
DTSTAMP:20260421T003928
CREATED:20241004T164602Z
LAST-MODIFIED:20241004T164759Z
UID:10007780-1761246000-1761249600@gopei.ca
SUMMARY:Kinkora - Multifit
DESCRIPTION:Weekly Fitness program where the style changes week to week \nBootcamp/Tabata/Circuit/Yoga \nwith various implements like: bands/balls/weights \nAll Levels Welcome! \nPay by Donation\, Give What You Can \nIf you have any questions or concerns\, contact:\nKrista Shields\nEmail: kdshields05@gmail.com \nSign up HERE!
URL:https://gopei.ca/event-program/kinkora-multifit/2025-10-23/
LOCATION:Kinkora Community Hall\, Canada
CATEGORIES:Central
GEO:46.323485530618;-63.594944
END:VEVENT
BEGIN:VEVENT
DTSTART;TZID=America/Halifax:20251023T103000
DTEND;TZID=America/Halifax:20251023T111500
DTSTAMP:20260421T003928
CREATED:20251103T075658Z
LAST-MODIFIED:20251103T075658Z
UID:10008841-1761215400-1761218100@gopei.ca
SUMMARY:Senior Fitness
DESCRIPTION:
URL:https://gopei.ca/event-program/senior-fitness-5/2025-10-23/
LOCATION:Mount Stewart Community Centre
CATEGORIES:East
GEO:46.364358;-62.857286
END:VEVENT
BEGIN:VEVENT
DTSTART;TZID=America/Halifax:20251023T093000
DTEND;TZID=America/Halifax:20251023T101500
DTSTAMP:20260421T003928
CREATED:20251103T075315Z
LAST-MODIFIED:20251103T075315Z
UID:10008825-1761211800-1761214500@gopei.ca
SUMMARY:Senior Fitness
DESCRIPTION:
URL:https://gopei.ca/event-program/senior-fitness-4/2025-10-23/
LOCATION:Tracadie Community Centre
CATEGORIES:East
GEO:46.348867959659;-62.969523657947
END:VEVENT
BEGIN:VEVENT
DTSTART;TZID=America/Halifax:20251022T103000
DTEND;TZID=America/Halifax:20251022T233000
DTSTAMP:20260421T003928
CREATED:20251103T080354Z
LAST-MODIFIED:20251103T080354Z
UID:10008874-1761129000-1761175800@gopei.ca
SUMMARY:Line Dancing
DESCRIPTION:
URL:https://gopei.ca/event-program/line-dancing-2/2025-10-22/
LOCATION:Tracadie Community Centre
CATEGORIES:East
GEO:46.348867959659;-62.969523657947
END:VEVENT
BEGIN:VEVENT
DTSTART;TZID=America/Halifax:20251022T103000
DTEND;TZID=America/Halifax:20251022T113000
DTSTAMP:20260421T003928
CREATED:20251103T074831Z
LAST-MODIFIED:20251103T074831Z
UID:10008788-1761129000-1761132600@gopei.ca
SUMMARY:Chair Yoga
DESCRIPTION:
URL:https://gopei.ca/event-program/chair-yoga-5/2025-10-22/
LOCATION:Fort Augustus Community Centre (Paddy’s Pub)
CATEGORIES:East
GEO:46.318920845901;-62.929927429112
END:VEVENT
BEGIN:VEVENT
DTSTART;TZID=America/Halifax:20251022T094500
DTEND;TZID=America/Halifax:20251022T103000
DTSTAMP:20260421T003928
CREATED:20251103T075125Z
LAST-MODIFIED:20251103T075125Z
UID:10008809-1761126300-1761129000@gopei.ca
SUMMARY:Senior Fitness
DESCRIPTION:
URL:https://gopei.ca/event-program/senior-fitness-2/2025-10-22/
LOCATION:Full Throttle Fitness\, 150 Bangor Road\, Morell\, Prince Edward Island\, C0A1S0\, Canada
CATEGORIES:East
END:VEVENT
BEGIN:VEVENT
DTSTART;TZID=America/Halifax:20251021T130000
DTEND;TZID=America/Halifax:20251021T140000
DTSTAMP:20260421T003928
CREATED:20241009T133321Z
LAST-MODIFIED:20241009T140359Z
UID:10008301-1761051600-1761055200@gopei.ca
SUMMARY:Fitness Class with Heidi
DESCRIPTION:Join Heidi for a low impact fitness class! \nBody weight and Resistance band focused! \nIf you have any questions\, contact GoWest\nwebsite: GoWest\nEmail: gowestpei@gmail.com
URL:https://gopei.ca/event-program/fitness-class-with-heidi-2/2025-10-21/
LOCATION:Bloomfield – St. Anthony’s Legion
CATEGORIES:West
END:VEVENT
BEGIN:VEVENT
DTSTART;TZID=America/Halifax:20251021T103000
DTEND;TZID=America/Halifax:20251021T111500
DTSTAMP:20260421T003928
CREATED:20251103T075658Z
LAST-MODIFIED:20251103T075658Z
UID:10008840-1761042600-1761045300@gopei.ca
SUMMARY:Senior Fitness
DESCRIPTION:
URL:https://gopei.ca/event-program/senior-fitness-5/2025-10-21/
LOCATION:Mount Stewart Community Centre
CATEGORIES:East
GEO:46.364358;-62.857286
END:VEVENT
BEGIN:VEVENT
DTSTART;TZID=America/Halifax:20251021T093000
DTEND;TZID=America/Halifax:20251021T101500
DTSTAMP:20260421T003928
CREATED:20251103T075315Z
LAST-MODIFIED:20251103T075315Z
UID:10008824-1761039000-1761041700@gopei.ca
SUMMARY:Senior Fitness
DESCRIPTION:
URL:https://gopei.ca/event-program/senior-fitness-4/2025-10-21/
LOCATION:Tracadie Community Centre
CATEGORIES:East
GEO:46.348867959659;-62.969523657947
END:VEVENT
BEGIN:VEVENT
DTSTART;TZID=America/Halifax:20251021T090000
DTEND;TZID=America/Halifax:20251021T100000
DTSTAMP:20260421T003928
CREATED:20241009T133134Z
LAST-MODIFIED:20241009T133134Z
UID:10008040-1761037200-1761040800@gopei.ca
SUMMARY:Fitness Class with Heidi
DESCRIPTION:Join Heidi for a low impact fitness class! \nBody weight and Resistance band focused! \nIf you have any questions\, contact GoWest\nwebsite: GoWest\nEmail: gowestpei@gmail.com
URL:https://gopei.ca/event-program/fitness-class-with-heidi/2025-10-21/
LOCATION:St. Louis Community Centre\, 3563 Union Road\, St. Louis\, PE\, Canada
CATEGORIES:West
END:VEVENT
BEGIN:VEVENT
DTSTART;TZID=America/Halifax:20251020T190000
DTEND;TZID=America/Halifax:20251020T200000
DTSTAMP:20260421T003928
CREATED:20241004T161248Z
LAST-MODIFIED:20241009T140732Z
UID:10008565-1760986800-1760990400@gopei.ca
SUMMARY:Kensington - Yin Yang Yoga
DESCRIPTION:Beginner-Intermediate friendly classes! \nCost: By Donation\, Give What You Can \nGo at your own pace \nFocusing on movement/strength/flexibility and relaxation. \nBring your own mat and water \nContact Krista Shields with any questions or concerns\nEmail: kdshields05@gmail.com \nSign up HERE!
URL:https://gopei.ca/event-program/kensington-yin-yang-yoga/2025-10-20/
LOCATION:Murray Christian Center\, Kensington\, Canada
CATEGORIES:Central
GEO:46.439545214621;-63.636843870324
END:VEVENT
BEGIN:VEVENT
DTSTART;TZID=America/Halifax:20251020T121000
DTEND;TZID=America/Halifax:20251020T125000
DTSTAMP:20260421T003928
CREATED:20251103T075931Z
LAST-MODIFIED:20251103T075931Z
UID:10008850-1760962200-1760964600@gopei.ca
SUMMARY:Lunch Rush
DESCRIPTION:A dynamic 35-40min. workout to break up the work day with maximum calorie burn and strength optimization. Expect varied routines from HIIT and circuit training to heavy weights and mobility training to keep you on your toes and prevent boredom
URL:https://gopei.ca/event-program/lunch-rush/2025-10-20/
LOCATION:TCAP Family Aquatic & Fitness Centre
CATEGORIES:East
GEO:46.156865472382;-62.643361498436
END:VEVENT
BEGIN:VEVENT
DTSTART;TZID=America/Halifax:20251020T110000
DTEND;TZID=America/Halifax:20251020T120000
DTSTAMP:20260421T003928
CREATED:20251103T074556Z
LAST-MODIFIED:20251103T074556Z
UID:10008779-1760958000-1760961600@gopei.ca
SUMMARY:Gentle\, Mindful Chair & Mat Yoga
DESCRIPTION:
URL:https://gopei.ca/event-program/gentle-mindful-chair-mat-yoga-2/2025-10-20/
LOCATION:Belfast Recreation Centre
CATEGORIES:East
GEO:46.089000551509;-62.878814644462
END:VEVENT
END:VCALENDAR