BEGIN:VCALENDAR
VERSION:2.0
PRODID:-//go!PEI - ECPv6.15.20//NONSGML v1.0//EN
CALSCALE:GREGORIAN
METHOD:PUBLISH
X-WR-CALNAME:go!PEI
X-ORIGINAL-URL:https://gopei.ca
X-WR-CALDESC:Events for go!PEI
REFRESH-INTERVAL;VALUE=DURATION:PT1H
X-Robots-Tag:noindex
X-PUBLISHED-TTL:PT1H
BEGIN:VTIMEZONE
TZID:America/Halifax
BEGIN:DAYLIGHT
TZOFFSETFROM:-0400
TZOFFSETTO:-0300
TZNAME:ADT
DTSTART:20240310T060000
END:DAYLIGHT
BEGIN:STANDARD
TZOFFSETFROM:-0300
TZOFFSETTO:-0400
TZNAME:AST
DTSTART:20241103T050000
END:STANDARD
BEGIN:DAYLIGHT
TZOFFSETFROM:-0400
TZOFFSETTO:-0300
TZNAME:ADT
DTSTART:20250309T060000
END:DAYLIGHT
BEGIN:STANDARD
TZOFFSETFROM:-0300
TZOFFSETTO:-0400
TZNAME:AST
DTSTART:20251102T050000
END:STANDARD
BEGIN:DAYLIGHT
TZOFFSETFROM:-0400
TZOFFSETTO:-0300
TZNAME:ADT
DTSTART:20260308T060000
END:DAYLIGHT
BEGIN:STANDARD
TZOFFSETFROM:-0300
TZOFFSETTO:-0400
TZNAME:AST
DTSTART:20261101T050000
END:STANDARD
END:VTIMEZONE
BEGIN:VEVENT
DTSTART;TZID=America/Halifax:20251216T090000
DTEND;TZID=America/Halifax:20251216T100000
DTSTAMP:20260420T154945
CREATED:20241009T133134Z
LAST-MODIFIED:20241009T133134Z
UID:10008048-1765875600-1765879200@gopei.ca
SUMMARY:Fitness Class with Heidi
DESCRIPTION:Join Heidi for a low impact fitness class! \nBody weight and Resistance band focused! \nIf you have any questions\, contact GoWest\nwebsite: GoWest\nEmail: gowestpei@gmail.com
URL:https://gopei.ca/event-program/fitness-class-with-heidi/2025-12-16/
LOCATION:St. Louis Community Centre\, 3563 Union Road\, St. Louis\, PE\, Canada
CATEGORIES:West
END:VEVENT
BEGIN:VEVENT
DTSTART;TZID=America/Halifax:20251215T190000
DTEND;TZID=America/Halifax:20251215T200000
DTSTAMP:20260420T154945
CREATED:20241004T161248Z
LAST-MODIFIED:20241009T140732Z
UID:10008573-1765825200-1765828800@gopei.ca
SUMMARY:Kensington - Yin Yang Yoga
DESCRIPTION:Beginner-Intermediate friendly classes! \nCost: By Donation\, Give What You Can \nGo at your own pace \nFocusing on movement/strength/flexibility and relaxation. \nBring your own mat and water \nContact Krista Shields with any questions or concerns\nEmail: kdshields05@gmail.com \nSign up HERE!
URL:https://gopei.ca/event-program/kensington-yin-yang-yoga/2025-12-15/
LOCATION:Murray Christian Center\, Kensington\, Canada
CATEGORIES:Central
GEO:46.439545214621;-63.636843870324
END:VEVENT
BEGIN:VEVENT
DTSTART;TZID=America/Halifax:20251215T090000
DTEND;TZID=America/Halifax:20251215T110000
DTSTAMP:20260420T154945
CREATED:20251103T094211Z
LAST-MODIFIED:20251103T094211Z
UID:10009465-1765789200-1765796400@gopei.ca
SUMMARY:Pickleball
DESCRIPTION:Come and play Pickleball during the school year. \nDrop in: $3 \nNo sessions: \n\nNovember 6th\, 7th\, 10th\, 11th\, 21st.\nDecember 21st 2025 – January 4th 2026.\nFebruary 16th.\nMarch Break: March 16th-20th.\nApril 3rd\, 6th\, 10th.\nMay 1st\, 18th.
URL:https://gopei.ca/event-program/pickleball-6/2025-12-15/
LOCATION:Murray Harbour Community Centre\, 27 Faye Fraser Street\, Murray Harbour\, Prince Edward Island\, C0A1V0\, Canada
CATEGORIES:East
END:VEVENT
BEGIN:VEVENT
DTSTART;TZID=America/Halifax:20251212T090000
DTEND;TZID=America/Halifax:20251212T110000
DTSTAMP:20260420T154945
CREATED:20251103T094211Z
LAST-MODIFIED:20251103T094211Z
UID:10009464-1765530000-1765537200@gopei.ca
SUMMARY:Pickleball
DESCRIPTION:Come and play Pickleball during the school year. \nDrop in: $3 \nNo sessions: \n\nNovember 6th\, 7th\, 10th\, 11th\, 21st.\nDecember 21st 2025 – January 4th 2026.\nFebruary 16th.\nMarch Break: March 16th-20th.\nApril 3rd\, 6th\, 10th.\nMay 1st\, 18th.
URL:https://gopei.ca/event-program/pickleball-6/2025-12-12/
LOCATION:Murray Harbour Community Centre\, 27 Faye Fraser Street\, Murray Harbour\, Prince Edward Island\, C0A1V0\, Canada
CATEGORIES:East
END:VEVENT
BEGIN:VEVENT
DTSTART;TZID=America/Halifax:20251211T190000
DTEND;TZID=America/Halifax:20251211T200000
DTSTAMP:20260420T154945
CREATED:20241004T164602Z
LAST-MODIFIED:20241004T164759Z
UID:10007787-1765479600-1765483200@gopei.ca
SUMMARY:Kinkora - Multifit
DESCRIPTION:Weekly Fitness program where the style changes week to week \nBootcamp/Tabata/Circuit/Yoga \nwith various implements like: bands/balls/weights \nAll Levels Welcome! \nPay by Donation\, Give What You Can \nIf you have any questions or concerns\, contact:\nKrista Shields\nEmail: kdshields05@gmail.com \nSign up HERE!
URL:https://gopei.ca/event-program/kinkora-multifit/2025-12-11/
LOCATION:Kinkora Community Hall\, Canada
CATEGORIES:Central
GEO:46.323485530618;-63.594944
END:VEVENT
BEGIN:VEVENT
DTSTART;TZID=America/Halifax:20251211T180000
DTEND;TZID=America/Halifax:20251211T200000
DTSTAMP:20260420T154945
CREATED:20251103T094006Z
LAST-MODIFIED:20251103T094006Z
UID:10008936-1765476000-1765483200@gopei.ca
SUMMARY:Pickleball
DESCRIPTION:Come and play Pickleball during the school year. \nDrop in: $2 \nNo sessions: \n\nNovember 6th\, 7th\, 10th\, 11th\, 21st.\nDecember 21st 2025 – January 4th 2026.\nFebruary 16th.\nMarch Break: March 16th-20th.\nApril 3rd\, 6th\, 10th.\nMay 1st\, 18th.\n\n  \n 
URL:https://gopei.ca/event-program/pickleball-5/2025-12-11/
LOCATION:Southern Kings Consolidated School\, 2294 Peters Rd.\, Montague\, PE\, C0A 1R0\, Canada
CATEGORIES:East
END:VEVENT
BEGIN:VEVENT
DTSTART;TZID=America/Halifax:20251210T103000
DTEND;TZID=America/Halifax:20251210T233000
DTSTAMP:20260420T154945
CREATED:20251103T080354Z
LAST-MODIFIED:20251103T080354Z
UID:10008881-1765362600-1765409400@gopei.ca
SUMMARY:Line Dancing
DESCRIPTION:
URL:https://gopei.ca/event-program/line-dancing-2/2025-12-10/
LOCATION:Tracadie Community Centre
CATEGORIES:East
GEO:46.348867959659;-62.969523657947
END:VEVENT
BEGIN:VEVENT
DTSTART;TZID=America/Halifax:20251210T090000
DTEND;TZID=America/Halifax:20251210T110000
DTSTAMP:20260420T154945
CREATED:20251103T094211Z
LAST-MODIFIED:20251103T094211Z
UID:10009463-1765357200-1765364400@gopei.ca
SUMMARY:Pickleball
DESCRIPTION:Come and play Pickleball during the school year. \nDrop in: $3 \nNo sessions: \n\nNovember 6th\, 7th\, 10th\, 11th\, 21st.\nDecember 21st 2025 – January 4th 2026.\nFebruary 16th.\nMarch Break: March 16th-20th.\nApril 3rd\, 6th\, 10th.\nMay 1st\, 18th.
URL:https://gopei.ca/event-program/pickleball-6/2025-12-10/
LOCATION:Murray Harbour Community Centre\, 27 Faye Fraser Street\, Murray Harbour\, Prince Edward Island\, C0A1V0\, Canada
CATEGORIES:East
END:VEVENT
BEGIN:VEVENT
DTSTART;TZID=America/Halifax:20251209T180000
DTEND;TZID=America/Halifax:20251209T200000
DTSTAMP:20260420T154945
CREATED:20251103T094006Z
LAST-MODIFIED:20251103T094006Z
UID:10008935-1765303200-1765310400@gopei.ca
SUMMARY:Pickleball
DESCRIPTION:Come and play Pickleball during the school year. \nDrop in: $2 \nNo sessions: \n\nNovember 6th\, 7th\, 10th\, 11th\, 21st.\nDecember 21st 2025 – January 4th 2026.\nFebruary 16th.\nMarch Break: March 16th-20th.\nApril 3rd\, 6th\, 10th.\nMay 1st\, 18th.\n\n  \n 
URL:https://gopei.ca/event-program/pickleball-5/2025-12-09/
LOCATION:Southern Kings Consolidated School\, 2294 Peters Rd.\, Montague\, PE\, C0A 1R0\, Canada
CATEGORIES:East
END:VEVENT
BEGIN:VEVENT
DTSTART;TZID=America/Halifax:20251209T130000
DTEND;TZID=America/Halifax:20251209T140000
DTSTAMP:20260420T154945
CREATED:20241009T133321Z
LAST-MODIFIED:20241009T140359Z
UID:10008308-1765285200-1765288800@gopei.ca
SUMMARY:Fitness Class with Heidi
DESCRIPTION:Join Heidi for a low impact fitness class! \nBody weight and Resistance band focused! \nIf you have any questions\, contact GoWest\nwebsite: GoWest\nEmail: gowestpei@gmail.com
URL:https://gopei.ca/event-program/fitness-class-with-heidi-2/2025-12-09/
LOCATION:Bloomfield – St. Anthony’s Legion
CATEGORIES:West
END:VEVENT
BEGIN:VEVENT
DTSTART;TZID=America/Halifax:20251209T090000
DTEND;TZID=America/Halifax:20251209T100000
DTSTAMP:20260420T154945
CREATED:20241009T133134Z
LAST-MODIFIED:20241009T133134Z
UID:10008047-1765270800-1765274400@gopei.ca
SUMMARY:Fitness Class with Heidi
DESCRIPTION:Join Heidi for a low impact fitness class! \nBody weight and Resistance band focused! \nIf you have any questions\, contact GoWest\nwebsite: GoWest\nEmail: gowestpei@gmail.com
URL:https://gopei.ca/event-program/fitness-class-with-heidi/2025-12-09/
LOCATION:St. Louis Community Centre\, 3563 Union Road\, St. Louis\, PE\, Canada
CATEGORIES:West
END:VEVENT
BEGIN:VEVENT
DTSTART;TZID=America/Halifax:20251208T190000
DTEND;TZID=America/Halifax:20251208T200000
DTSTAMP:20260420T154945
CREATED:20241004T161248Z
LAST-MODIFIED:20241009T140732Z
UID:10008572-1765220400-1765224000@gopei.ca
SUMMARY:Kensington - Yin Yang Yoga
DESCRIPTION:Beginner-Intermediate friendly classes! \nCost: By Donation\, Give What You Can \nGo at your own pace \nFocusing on movement/strength/flexibility and relaxation. \nBring your own mat and water \nContact Krista Shields with any questions or concerns\nEmail: kdshields05@gmail.com \nSign up HERE!
URL:https://gopei.ca/event-program/kensington-yin-yang-yoga/2025-12-08/
LOCATION:Murray Christian Center\, Kensington\, Canada
CATEGORIES:Central
GEO:46.439545214621;-63.636843870324
END:VEVENT
BEGIN:VEVENT
DTSTART;TZID=America/Halifax:20251208T090000
DTEND;TZID=America/Halifax:20251208T110000
DTSTAMP:20260420T154945
CREATED:20251103T094211Z
LAST-MODIFIED:20251103T094211Z
UID:10009462-1765184400-1765191600@gopei.ca
SUMMARY:Pickleball
DESCRIPTION:Come and play Pickleball during the school year. \nDrop in: $3 \nNo sessions: \n\nNovember 6th\, 7th\, 10th\, 11th\, 21st.\nDecember 21st 2025 – January 4th 2026.\nFebruary 16th.\nMarch Break: March 16th-20th.\nApril 3rd\, 6th\, 10th.\nMay 1st\, 18th.
URL:https://gopei.ca/event-program/pickleball-6/2025-12-08/
LOCATION:Murray Harbour Community Centre\, 27 Faye Fraser Street\, Murray Harbour\, Prince Edward Island\, C0A1V0\, Canada
CATEGORIES:East
END:VEVENT
BEGIN:VEVENT
DTSTART;TZID=America/Halifax:20251205T090000
DTEND;TZID=America/Halifax:20251205T110000
DTSTAMP:20260420T154945
CREATED:20251103T094211Z
LAST-MODIFIED:20251103T094211Z
UID:10009461-1764925200-1764932400@gopei.ca
SUMMARY:Pickleball
DESCRIPTION:Come and play Pickleball during the school year. \nDrop in: $3 \nNo sessions: \n\nNovember 6th\, 7th\, 10th\, 11th\, 21st.\nDecember 21st 2025 – January 4th 2026.\nFebruary 16th.\nMarch Break: March 16th-20th.\nApril 3rd\, 6th\, 10th.\nMay 1st\, 18th.
URL:https://gopei.ca/event-program/pickleball-6/2025-12-05/
LOCATION:Murray Harbour Community Centre\, 27 Faye Fraser Street\, Murray Harbour\, Prince Edward Island\, C0A1V0\, Canada
CATEGORIES:East
END:VEVENT
BEGIN:VEVENT
DTSTART;TZID=America/Halifax:20251204T190000
DTEND;TZID=America/Halifax:20251204T200000
DTSTAMP:20260420T154945
CREATED:20241004T164602Z
LAST-MODIFIED:20241004T164759Z
UID:10007786-1764874800-1764878400@gopei.ca
SUMMARY:Kinkora - Multifit
DESCRIPTION:Weekly Fitness program where the style changes week to week \nBootcamp/Tabata/Circuit/Yoga \nwith various implements like: bands/balls/weights \nAll Levels Welcome! \nPay by Donation\, Give What You Can \nIf you have any questions or concerns\, contact:\nKrista Shields\nEmail: kdshields05@gmail.com \nSign up HERE!
URL:https://gopei.ca/event-program/kinkora-multifit/2025-12-04/
LOCATION:Kinkora Community Hall\, Canada
CATEGORIES:Central
GEO:46.323485530618;-63.594944
END:VEVENT
BEGIN:VEVENT
DTSTART;TZID=America/Halifax:20251204T180000
DTEND;TZID=America/Halifax:20251204T200000
DTSTAMP:20260420T154945
CREATED:20251103T094006Z
LAST-MODIFIED:20251103T094006Z
UID:10008934-1764871200-1764878400@gopei.ca
SUMMARY:Pickleball
DESCRIPTION:Come and play Pickleball during the school year. \nDrop in: $2 \nNo sessions: \n\nNovember 6th\, 7th\, 10th\, 11th\, 21st.\nDecember 21st 2025 – January 4th 2026.\nFebruary 16th.\nMarch Break: March 16th-20th.\nApril 3rd\, 6th\, 10th.\nMay 1st\, 18th.\n\n  \n 
URL:https://gopei.ca/event-program/pickleball-5/2025-12-04/
LOCATION:Southern Kings Consolidated School\, 2294 Peters Rd.\, Montague\, PE\, C0A 1R0\, Canada
CATEGORIES:East
END:VEVENT
BEGIN:VEVENT
DTSTART;TZID=America/Halifax:20251203T103000
DTEND;TZID=America/Halifax:20251203T233000
DTSTAMP:20260420T154945
CREATED:20251103T080354Z
LAST-MODIFIED:20251103T080354Z
UID:10008880-1764757800-1764804600@gopei.ca
SUMMARY:Line Dancing
DESCRIPTION:
URL:https://gopei.ca/event-program/line-dancing-2/2025-12-03/
LOCATION:Tracadie Community Centre
CATEGORIES:East
GEO:46.348867959659;-62.969523657947
END:VEVENT
BEGIN:VEVENT
DTSTART;TZID=America/Halifax:20251203T090000
DTEND;TZID=America/Halifax:20251203T110000
DTSTAMP:20260420T154945
CREATED:20251103T094211Z
LAST-MODIFIED:20251103T094211Z
UID:10009460-1764752400-1764759600@gopei.ca
SUMMARY:Pickleball
DESCRIPTION:Come and play Pickleball during the school year. \nDrop in: $3 \nNo sessions: \n\nNovember 6th\, 7th\, 10th\, 11th\, 21st.\nDecember 21st 2025 – January 4th 2026.\nFebruary 16th.\nMarch Break: March 16th-20th.\nApril 3rd\, 6th\, 10th.\nMay 1st\, 18th.
URL:https://gopei.ca/event-program/pickleball-6/2025-12-03/
LOCATION:Murray Harbour Community Centre\, 27 Faye Fraser Street\, Murray Harbour\, Prince Edward Island\, C0A1V0\, Canada
CATEGORIES:East
END:VEVENT
BEGIN:VEVENT
DTSTART;TZID=America/Halifax:20251202T180000
DTEND;TZID=America/Halifax:20251202T200000
DTSTAMP:20260420T154945
CREATED:20251103T094006Z
LAST-MODIFIED:20251103T094006Z
UID:10008933-1764698400-1764705600@gopei.ca
SUMMARY:Pickleball
DESCRIPTION:Come and play Pickleball during the school year. \nDrop in: $2 \nNo sessions: \n\nNovember 6th\, 7th\, 10th\, 11th\, 21st.\nDecember 21st 2025 – January 4th 2026.\nFebruary 16th.\nMarch Break: March 16th-20th.\nApril 3rd\, 6th\, 10th.\nMay 1st\, 18th.\n\n  \n 
URL:https://gopei.ca/event-program/pickleball-5/2025-12-02/
LOCATION:Southern Kings Consolidated School\, 2294 Peters Rd.\, Montague\, PE\, C0A 1R0\, Canada
CATEGORIES:East
END:VEVENT
BEGIN:VEVENT
DTSTART;TZID=America/Halifax:20251202T130000
DTEND;TZID=America/Halifax:20251202T140000
DTSTAMP:20260420T154945
CREATED:20241009T133321Z
LAST-MODIFIED:20241009T140359Z
UID:10008307-1764680400-1764684000@gopei.ca
SUMMARY:Fitness Class with Heidi
DESCRIPTION:Join Heidi for a low impact fitness class! \nBody weight and Resistance band focused! \nIf you have any questions\, contact GoWest\nwebsite: GoWest\nEmail: gowestpei@gmail.com
URL:https://gopei.ca/event-program/fitness-class-with-heidi-2/2025-12-02/
LOCATION:Bloomfield – St. Anthony’s Legion
CATEGORIES:West
END:VEVENT
BEGIN:VEVENT
DTSTART;TZID=America/Halifax:20251202T090000
DTEND;TZID=America/Halifax:20251202T100000
DTSTAMP:20260420T154945
CREATED:20241009T133134Z
LAST-MODIFIED:20241009T133134Z
UID:10008046-1764666000-1764669600@gopei.ca
SUMMARY:Fitness Class with Heidi
DESCRIPTION:Join Heidi for a low impact fitness class! \nBody weight and Resistance band focused! \nIf you have any questions\, contact GoWest\nwebsite: GoWest\nEmail: gowestpei@gmail.com
URL:https://gopei.ca/event-program/fitness-class-with-heidi/2025-12-02/
LOCATION:St. Louis Community Centre\, 3563 Union Road\, St. Louis\, PE\, Canada
CATEGORIES:West
END:VEVENT
BEGIN:VEVENT
DTSTART;TZID=America/Halifax:20251201T190000
DTEND;TZID=America/Halifax:20251201T200000
DTSTAMP:20260420T154945
CREATED:20241004T161248Z
LAST-MODIFIED:20241009T140732Z
UID:10008571-1764615600-1764619200@gopei.ca
SUMMARY:Kensington - Yin Yang Yoga
DESCRIPTION:Beginner-Intermediate friendly classes! \nCost: By Donation\, Give What You Can \nGo at your own pace \nFocusing on movement/strength/flexibility and relaxation. \nBring your own mat and water \nContact Krista Shields with any questions or concerns\nEmail: kdshields05@gmail.com \nSign up HERE!
URL:https://gopei.ca/event-program/kensington-yin-yang-yoga/2025-12-01/
LOCATION:Murray Christian Center\, Kensington\, Canada
CATEGORIES:Central
GEO:46.439545214621;-63.636843870324
END:VEVENT
BEGIN:VEVENT
DTSTART;TZID=America/Halifax:20251201T110000
DTEND;TZID=America/Halifax:20251201T120000
DTSTAMP:20260420T154945
CREATED:20251103T074556Z
LAST-MODIFIED:20251103T074556Z
UID:10008785-1764586800-1764590400@gopei.ca
SUMMARY:Gentle\, Mindful Chair & Mat Yoga
DESCRIPTION:
URL:https://gopei.ca/event-program/gentle-mindful-chair-mat-yoga-2/2025-12-01/
LOCATION:Belfast Recreation Centre
CATEGORIES:East
GEO:46.089000551509;-62.878814644462
END:VEVENT
BEGIN:VEVENT
DTSTART;TZID=America/Halifax:20251201T090000
DTEND;TZID=America/Halifax:20251201T110000
DTSTAMP:20260420T154945
CREATED:20251103T094211Z
LAST-MODIFIED:20251103T094211Z
UID:10009459-1764579600-1764586800@gopei.ca
SUMMARY:Pickleball
DESCRIPTION:Come and play Pickleball during the school year. \nDrop in: $3 \nNo sessions: \n\nNovember 6th\, 7th\, 10th\, 11th\, 21st.\nDecember 21st 2025 – January 4th 2026.\nFebruary 16th.\nMarch Break: March 16th-20th.\nApril 3rd\, 6th\, 10th.\nMay 1st\, 18th.
URL:https://gopei.ca/event-program/pickleball-6/2025-12-01/
LOCATION:Murray Harbour Community Centre\, 27 Faye Fraser Street\, Murray Harbour\, Prince Edward Island\, C0A1V0\, Canada
CATEGORIES:East
END:VEVENT
BEGIN:VEVENT
DTSTART;TZID=America/Halifax:20251128T121000
DTEND;TZID=America/Halifax:20251128T125000
DTSTAMP:20260420T154945
CREATED:20251103T075931Z
LAST-MODIFIED:20251103T075931Z
UID:10008861-1764331800-1764334200@gopei.ca
SUMMARY:Lunch Rush
DESCRIPTION:A dynamic 35-40min. workout to break up the work day with maximum calorie burn and strength optimization. Expect varied routines from HIIT and circuit training to heavy weights and mobility training to keep you on your toes and prevent boredom
URL:https://gopei.ca/event-program/lunch-rush/2025-11-28/
LOCATION:TCAP Family Aquatic & Fitness Centre
CATEGORIES:East
GEO:46.156865472382;-62.643361498436
END:VEVENT
BEGIN:VEVENT
DTSTART;TZID=America/Halifax:20251128T090000
DTEND;TZID=America/Halifax:20251128T110000
DTSTAMP:20260420T154945
CREATED:20251103T094211Z
LAST-MODIFIED:20251103T094211Z
UID:10009458-1764320400-1764327600@gopei.ca
SUMMARY:Pickleball
DESCRIPTION:Come and play Pickleball during the school year. \nDrop in: $3 \nNo sessions: \n\nNovember 6th\, 7th\, 10th\, 11th\, 21st.\nDecember 21st 2025 – January 4th 2026.\nFebruary 16th.\nMarch Break: March 16th-20th.\nApril 3rd\, 6th\, 10th.\nMay 1st\, 18th.
URL:https://gopei.ca/event-program/pickleball-6/2025-11-28/
LOCATION:Murray Harbour Community Centre\, 27 Faye Fraser Street\, Murray Harbour\, Prince Edward Island\, C0A1V0\, Canada
CATEGORIES:East
END:VEVENT
BEGIN:VEVENT
DTSTART;TZID=America/Halifax:20251127T190000
DTEND;TZID=America/Halifax:20251127T200000
DTSTAMP:20260420T154945
CREATED:20241004T164602Z
LAST-MODIFIED:20241004T164759Z
UID:10007785-1764270000-1764273600@gopei.ca
SUMMARY:Kinkora - Multifit
DESCRIPTION:Weekly Fitness program where the style changes week to week \nBootcamp/Tabata/Circuit/Yoga \nwith various implements like: bands/balls/weights \nAll Levels Welcome! \nPay by Donation\, Give What You Can \nIf you have any questions or concerns\, contact:\nKrista Shields\nEmail: kdshields05@gmail.com \nSign up HERE!
URL:https://gopei.ca/event-program/kinkora-multifit/2025-11-27/
LOCATION:Kinkora Community Hall\, Canada
CATEGORIES:Central
GEO:46.323485530618;-63.594944
END:VEVENT
BEGIN:VEVENT
DTSTART;TZID=America/Halifax:20251127T180000
DTEND;TZID=America/Halifax:20251127T200000
DTSTAMP:20260420T154945
CREATED:20251103T094006Z
LAST-MODIFIED:20251103T094006Z
UID:10008932-1764266400-1764273600@gopei.ca
SUMMARY:Pickleball
DESCRIPTION:Come and play Pickleball during the school year. \nDrop in: $2 \nNo sessions: \n\nNovember 6th\, 7th\, 10th\, 11th\, 21st.\nDecember 21st 2025 – January 4th 2026.\nFebruary 16th.\nMarch Break: March 16th-20th.\nApril 3rd\, 6th\, 10th.\nMay 1st\, 18th.\n\n  \n 
URL:https://gopei.ca/event-program/pickleball-5/2025-11-27/
LOCATION:Southern Kings Consolidated School\, 2294 Peters Rd.\, Montague\, PE\, C0A 1R0\, Canada
CATEGORIES:East
END:VEVENT
BEGIN:VEVENT
DTSTART;TZID=America/Halifax:20251126T103000
DTEND;TZID=America/Halifax:20251126T233000
DTSTAMP:20260420T154945
CREATED:20251103T080354Z
LAST-MODIFIED:20251103T080354Z
UID:10008879-1764153000-1764199800@gopei.ca
SUMMARY:Line Dancing
DESCRIPTION:
URL:https://gopei.ca/event-program/line-dancing-2/2025-11-26/
LOCATION:Tracadie Community Centre
CATEGORIES:East
GEO:46.348867959659;-62.969523657947
END:VEVENT
BEGIN:VEVENT
DTSTART;TZID=America/Halifax:20251126T103000
DTEND;TZID=America/Halifax:20251126T113000
DTSTAMP:20260420T154945
CREATED:20251103T074831Z
LAST-MODIFIED:20251103T074831Z
UID:10008793-1764153000-1764156600@gopei.ca
SUMMARY:Chair Yoga
DESCRIPTION:
URL:https://gopei.ca/event-program/chair-yoga-5/2025-11-26/
LOCATION:Fort Augustus Community Centre (Paddy’s Pub)
CATEGORIES:East
GEO:46.318920845901;-62.929927429112
END:VEVENT
END:VCALENDAR