BEGIN:VCALENDAR
VERSION:2.0
PRODID:-//go!PEI - ECPv6.15.20//NONSGML v1.0//EN
CALSCALE:GREGORIAN
METHOD:PUBLISH
X-WR-CALNAME:go!PEI
X-ORIGINAL-URL:https://gopei.ca
X-WR-CALDESC:Events for go!PEI
REFRESH-INTERVAL;VALUE=DURATION:PT1H
X-Robots-Tag:noindex
X-PUBLISHED-TTL:PT1H
BEGIN:VTIMEZONE
TZID:America/Halifax
BEGIN:DAYLIGHT
TZOFFSETFROM:-0400
TZOFFSETTO:-0300
TZNAME:ADT
DTSTART:20270314T060000
END:DAYLIGHT
BEGIN:STANDARD
TZOFFSETFROM:-0300
TZOFFSETTO:-0400
TZNAME:AST
DTSTART:20271107T050000
END:STANDARD
BEGIN:DAYLIGHT
TZOFFSETFROM:-0400
TZOFFSETTO:-0300
TZNAME:ADT
DTSTART:20280312T060000
END:DAYLIGHT
BEGIN:STANDARD
TZOFFSETFROM:-0300
TZOFFSETTO:-0400
TZNAME:AST
DTSTART:20281105T050000
END:STANDARD
BEGIN:DAYLIGHT
TZOFFSETFROM:-0400
TZOFFSETTO:-0300
TZNAME:ADT
DTSTART:20290311T060000
END:DAYLIGHT
BEGIN:STANDARD
TZOFFSETFROM:-0300
TZOFFSETTO:-0400
TZNAME:AST
DTSTART:20291104T050000
END:STANDARD
END:VTIMEZONE
BEGIN:VEVENT
DTSTART;TZID=America/Halifax:20280131T190000
DTEND;TZID=America/Halifax:20280131T200000
DTSTAMP:20260423T172957
CREATED:20241004T161248Z
LAST-MODIFIED:20241009T140732Z
UID:10008684-1832958000-1832961600@gopei.ca
SUMMARY:Kensington - Yin Yang Yoga
DESCRIPTION:Beginner-Intermediate friendly classes! \nCost: By Donation\, Give What You Can \nGo at your own pace \nFocusing on movement/strength/flexibility and relaxation. \nBring your own mat and water \nContact Krista Shields with any questions or concerns\nEmail: kdshields05@gmail.com \nSign up HERE!
URL:https://gopei.ca/event-program/kensington-yin-yang-yoga/2028-01-31/
LOCATION:Murray Christian Center\, Kensington\, Canada
CATEGORIES:Central
GEO:46.439545214621;-63.636843870324
END:VEVENT
BEGIN:VEVENT
DTSTART;TZID=America/Halifax:20280201T090000
DTEND;TZID=America/Halifax:20280201T100000
DTSTAMP:20260423T172957
CREATED:20241009T133134Z
LAST-MODIFIED:20241009T133134Z
UID:10008159-1833008400-1833012000@gopei.ca
SUMMARY:Fitness Class with Heidi
DESCRIPTION:Join Heidi for a low impact fitness class! \nBody weight and Resistance band focused! \nIf you have any questions\, contact GoWest\nwebsite: GoWest\nEmail: gowestpei@gmail.com
URL:https://gopei.ca/event-program/fitness-class-with-heidi/2028-02-01/
LOCATION:St. Louis Community Centre\, 3563 Union Road\, St. Louis\, PE\, Canada
CATEGORIES:West
END:VEVENT
BEGIN:VEVENT
DTSTART;TZID=America/Halifax:20280201T130000
DTEND;TZID=America/Halifax:20280201T140000
DTSTAMP:20260423T172957
CREATED:20241009T133321Z
LAST-MODIFIED:20241009T140359Z
UID:10008420-1833022800-1833026400@gopei.ca
SUMMARY:Fitness Class with Heidi
DESCRIPTION:Join Heidi for a low impact fitness class! \nBody weight and Resistance band focused! \nIf you have any questions\, contact GoWest\nwebsite: GoWest\nEmail: gowestpei@gmail.com
URL:https://gopei.ca/event-program/fitness-class-with-heidi-2/2028-02-01/
LOCATION:Bloomfield – St. Anthony’s Legion
CATEGORIES:West
END:VEVENT
BEGIN:VEVENT
DTSTART;TZID=America/Halifax:20280201T180000
DTEND;TZID=America/Halifax:20280201T200000
DTSTAMP:20260423T172957
CREATED:20251103T094006Z
LAST-MODIFIED:20251103T094006Z
UID:10009159-1833040800-1833048000@gopei.ca
SUMMARY:Pickleball
DESCRIPTION:Come and play Pickleball during the school year. \nDrop in: $2 \nNo sessions: \n\nNovember 6th\, 7th\, 10th\, 11th\, 21st.\nDecember 21st 2025 – January 4th 2026.\nFebruary 16th.\nMarch Break: March 16th-20th.\nApril 3rd\, 6th\, 10th.\nMay 1st\, 18th.\n\n  \n 
URL:https://gopei.ca/event-program/pickleball-5/2028-02-01/
LOCATION:Southern Kings Consolidated School\, 2294 Peters Rd.\, Montague\, PE\, C0A 1R0\, Canada
CATEGORIES:East
END:VEVENT
BEGIN:VEVENT
DTSTART;TZID=America/Halifax:20280202T090000
DTEND;TZID=America/Halifax:20280202T110000
DTSTAMP:20260423T172957
CREATED:20251103T094211Z
LAST-MODIFIED:20251103T094211Z
UID:10009799-1833094800-1833102000@gopei.ca
SUMMARY:Pickleball
DESCRIPTION:Come and play Pickleball during the school year. \nDrop in: $3 \nNo sessions: \n\nNovember 6th\, 7th\, 10th\, 11th\, 21st.\nDecember 21st 2025 – January 4th 2026.\nFebruary 16th.\nMarch Break: March 16th-20th.\nApril 3rd\, 6th\, 10th.\nMay 1st\, 18th.
URL:https://gopei.ca/event-program/pickleball-6/2028-02-02/
LOCATION:Murray Harbour Community Centre\, 27 Faye Fraser Street\, Murray Harbour\, Prince Edward Island\, C0A1V0\, Canada
CATEGORIES:East
END:VEVENT
BEGIN:VEVENT
DTSTART;TZID=America/Halifax:20280203T180000
DTEND;TZID=America/Halifax:20280203T200000
DTSTAMP:20260423T172957
CREATED:20251103T094006Z
LAST-MODIFIED:20251103T094006Z
UID:10009160-1833213600-1833220800@gopei.ca
SUMMARY:Pickleball
DESCRIPTION:Come and play Pickleball during the school year. \nDrop in: $2 \nNo sessions: \n\nNovember 6th\, 7th\, 10th\, 11th\, 21st.\nDecember 21st 2025 – January 4th 2026.\nFebruary 16th.\nMarch Break: March 16th-20th.\nApril 3rd\, 6th\, 10th.\nMay 1st\, 18th.\n\n  \n 
URL:https://gopei.ca/event-program/pickleball-5/2028-02-03/
LOCATION:Southern Kings Consolidated School\, 2294 Peters Rd.\, Montague\, PE\, C0A 1R0\, Canada
CATEGORIES:East
END:VEVENT
BEGIN:VEVENT
DTSTART;TZID=America/Halifax:20280203T190000
DTEND;TZID=America/Halifax:20280203T200000
DTSTAMP:20260423T172957
CREATED:20241004T164602Z
LAST-MODIFIED:20241004T164759Z
UID:10007899-1833217200-1833220800@gopei.ca
SUMMARY:Kinkora - Multifit
DESCRIPTION:Weekly Fitness program where the style changes week to week \nBootcamp/Tabata/Circuit/Yoga \nwith various implements like: bands/balls/weights \nAll Levels Welcome! \nPay by Donation\, Give What You Can \nIf you have any questions or concerns\, contact:\nKrista Shields\nEmail: kdshields05@gmail.com \nSign up HERE!
URL:https://gopei.ca/event-program/kinkora-multifit/2028-02-03/
LOCATION:Kinkora Community Hall\, Canada
CATEGORIES:Central
GEO:46.323485530618;-63.594944
END:VEVENT
BEGIN:VEVENT
DTSTART;TZID=America/Halifax:20280204T090000
DTEND;TZID=America/Halifax:20280204T110000
DTSTAMP:20260423T172957
CREATED:20251103T094211Z
LAST-MODIFIED:20251103T094211Z
UID:10009800-1833267600-1833274800@gopei.ca
SUMMARY:Pickleball
DESCRIPTION:Come and play Pickleball during the school year. \nDrop in: $3 \nNo sessions: \n\nNovember 6th\, 7th\, 10th\, 11th\, 21st.\nDecember 21st 2025 – January 4th 2026.\nFebruary 16th.\nMarch Break: March 16th-20th.\nApril 3rd\, 6th\, 10th.\nMay 1st\, 18th.
URL:https://gopei.ca/event-program/pickleball-6/2028-02-04/
LOCATION:Murray Harbour Community Centre\, 27 Faye Fraser Street\, Murray Harbour\, Prince Edward Island\, C0A1V0\, Canada
CATEGORIES:East
END:VEVENT
BEGIN:VEVENT
DTSTART;TZID=America/Halifax:20280207T090000
DTEND;TZID=America/Halifax:20280207T110000
DTSTAMP:20260423T172957
CREATED:20251103T094211Z
LAST-MODIFIED:20251103T094211Z
UID:10009801-1833526800-1833534000@gopei.ca
SUMMARY:Pickleball
DESCRIPTION:Come and play Pickleball during the school year. \nDrop in: $3 \nNo sessions: \n\nNovember 6th\, 7th\, 10th\, 11th\, 21st.\nDecember 21st 2025 – January 4th 2026.\nFebruary 16th.\nMarch Break: March 16th-20th.\nApril 3rd\, 6th\, 10th.\nMay 1st\, 18th.
URL:https://gopei.ca/event-program/pickleball-6/2028-02-07/
LOCATION:Murray Harbour Community Centre\, 27 Faye Fraser Street\, Murray Harbour\, Prince Edward Island\, C0A1V0\, Canada
CATEGORIES:East
END:VEVENT
BEGIN:VEVENT
DTSTART;TZID=America/Halifax:20280207T190000
DTEND;TZID=America/Halifax:20280207T200000
DTSTAMP:20260423T172958
CREATED:20241004T161248Z
LAST-MODIFIED:20241009T140732Z
UID:10008685-1833562800-1833566400@gopei.ca
SUMMARY:Kensington - Yin Yang Yoga
DESCRIPTION:Beginner-Intermediate friendly classes! \nCost: By Donation\, Give What You Can \nGo at your own pace \nFocusing on movement/strength/flexibility and relaxation. \nBring your own mat and water \nContact Krista Shields with any questions or concerns\nEmail: kdshields05@gmail.com \nSign up HERE!
URL:https://gopei.ca/event-program/kensington-yin-yang-yoga/2028-02-07/
LOCATION:Murray Christian Center\, Kensington\, Canada
CATEGORIES:Central
GEO:46.439545214621;-63.636843870324
END:VEVENT
BEGIN:VEVENT
DTSTART;TZID=America/Halifax:20280208T090000
DTEND;TZID=America/Halifax:20280208T100000
DTSTAMP:20260423T172958
CREATED:20241009T133134Z
LAST-MODIFIED:20241009T133134Z
UID:10008160-1833613200-1833616800@gopei.ca
SUMMARY:Fitness Class with Heidi
DESCRIPTION:Join Heidi for a low impact fitness class! \nBody weight and Resistance band focused! \nIf you have any questions\, contact GoWest\nwebsite: GoWest\nEmail: gowestpei@gmail.com
URL:https://gopei.ca/event-program/fitness-class-with-heidi/2028-02-08/
LOCATION:St. Louis Community Centre\, 3563 Union Road\, St. Louis\, PE\, Canada
CATEGORIES:West
END:VEVENT
BEGIN:VEVENT
DTSTART;TZID=America/Halifax:20280208T130000
DTEND;TZID=America/Halifax:20280208T140000
DTSTAMP:20260423T172958
CREATED:20241009T133321Z
LAST-MODIFIED:20241009T140359Z
UID:10008421-1833627600-1833631200@gopei.ca
SUMMARY:Fitness Class with Heidi
DESCRIPTION:Join Heidi for a low impact fitness class! \nBody weight and Resistance band focused! \nIf you have any questions\, contact GoWest\nwebsite: GoWest\nEmail: gowestpei@gmail.com
URL:https://gopei.ca/event-program/fitness-class-with-heidi-2/2028-02-08/
LOCATION:Bloomfield – St. Anthony’s Legion
CATEGORIES:West
END:VEVENT
BEGIN:VEVENT
DTSTART;TZID=America/Halifax:20280208T180000
DTEND;TZID=America/Halifax:20280208T200000
DTSTAMP:20260423T172958
CREATED:20251103T094006Z
LAST-MODIFIED:20251103T094006Z
UID:10009161-1833645600-1833652800@gopei.ca
SUMMARY:Pickleball
DESCRIPTION:Come and play Pickleball during the school year. \nDrop in: $2 \nNo sessions: \n\nNovember 6th\, 7th\, 10th\, 11th\, 21st.\nDecember 21st 2025 – January 4th 2026.\nFebruary 16th.\nMarch Break: March 16th-20th.\nApril 3rd\, 6th\, 10th.\nMay 1st\, 18th.\n\n  \n 
URL:https://gopei.ca/event-program/pickleball-5/2028-02-08/
LOCATION:Southern Kings Consolidated School\, 2294 Peters Rd.\, Montague\, PE\, C0A 1R0\, Canada
CATEGORIES:East
END:VEVENT
BEGIN:VEVENT
DTSTART;TZID=America/Halifax:20280209T090000
DTEND;TZID=America/Halifax:20280209T110000
DTSTAMP:20260423T172958
CREATED:20251103T094211Z
LAST-MODIFIED:20251103T094211Z
UID:10009802-1833699600-1833706800@gopei.ca
SUMMARY:Pickleball
DESCRIPTION:Come and play Pickleball during the school year. \nDrop in: $3 \nNo sessions: \n\nNovember 6th\, 7th\, 10th\, 11th\, 21st.\nDecember 21st 2025 – January 4th 2026.\nFebruary 16th.\nMarch Break: March 16th-20th.\nApril 3rd\, 6th\, 10th.\nMay 1st\, 18th.
URL:https://gopei.ca/event-program/pickleball-6/2028-02-09/
LOCATION:Murray Harbour Community Centre\, 27 Faye Fraser Street\, Murray Harbour\, Prince Edward Island\, C0A1V0\, Canada
CATEGORIES:East
END:VEVENT
BEGIN:VEVENT
DTSTART;TZID=America/Halifax:20280210T180000
DTEND;TZID=America/Halifax:20280210T200000
DTSTAMP:20260423T172958
CREATED:20251103T094006Z
LAST-MODIFIED:20251103T094006Z
UID:10009162-1833818400-1833825600@gopei.ca
SUMMARY:Pickleball
DESCRIPTION:Come and play Pickleball during the school year. \nDrop in: $2 \nNo sessions: \n\nNovember 6th\, 7th\, 10th\, 11th\, 21st.\nDecember 21st 2025 – January 4th 2026.\nFebruary 16th.\nMarch Break: March 16th-20th.\nApril 3rd\, 6th\, 10th.\nMay 1st\, 18th.\n\n  \n 
URL:https://gopei.ca/event-program/pickleball-5/2028-02-10/
LOCATION:Southern Kings Consolidated School\, 2294 Peters Rd.\, Montague\, PE\, C0A 1R0\, Canada
CATEGORIES:East
END:VEVENT
BEGIN:VEVENT
DTSTART;TZID=America/Halifax:20280210T190000
DTEND;TZID=America/Halifax:20280210T200000
DTSTAMP:20260423T172958
CREATED:20241004T164602Z
LAST-MODIFIED:20241004T164759Z
UID:10007900-1833822000-1833825600@gopei.ca
SUMMARY:Kinkora - Multifit
DESCRIPTION:Weekly Fitness program where the style changes week to week \nBootcamp/Tabata/Circuit/Yoga \nwith various implements like: bands/balls/weights \nAll Levels Welcome! \nPay by Donation\, Give What You Can \nIf you have any questions or concerns\, contact:\nKrista Shields\nEmail: kdshields05@gmail.com \nSign up HERE!
URL:https://gopei.ca/event-program/kinkora-multifit/2028-02-10/
LOCATION:Kinkora Community Hall\, Canada
CATEGORIES:Central
GEO:46.323485530618;-63.594944
END:VEVENT
BEGIN:VEVENT
DTSTART;TZID=America/Halifax:20280211T090000
DTEND;TZID=America/Halifax:20280211T110000
DTSTAMP:20260423T172958
CREATED:20251103T094211Z
LAST-MODIFIED:20251103T094211Z
UID:10009803-1833872400-1833879600@gopei.ca
SUMMARY:Pickleball
DESCRIPTION:Come and play Pickleball during the school year. \nDrop in: $3 \nNo sessions: \n\nNovember 6th\, 7th\, 10th\, 11th\, 21st.\nDecember 21st 2025 – January 4th 2026.\nFebruary 16th.\nMarch Break: March 16th-20th.\nApril 3rd\, 6th\, 10th.\nMay 1st\, 18th.
URL:https://gopei.ca/event-program/pickleball-6/2028-02-11/
LOCATION:Murray Harbour Community Centre\, 27 Faye Fraser Street\, Murray Harbour\, Prince Edward Island\, C0A1V0\, Canada
CATEGORIES:East
END:VEVENT
BEGIN:VEVENT
DTSTART;TZID=America/Halifax:20280214T090000
DTEND;TZID=America/Halifax:20280214T110000
DTSTAMP:20260423T172958
CREATED:20251103T094211Z
LAST-MODIFIED:20251103T094211Z
UID:10009804-1834131600-1834138800@gopei.ca
SUMMARY:Pickleball
DESCRIPTION:Come and play Pickleball during the school year. \nDrop in: $3 \nNo sessions: \n\nNovember 6th\, 7th\, 10th\, 11th\, 21st.\nDecember 21st 2025 – January 4th 2026.\nFebruary 16th.\nMarch Break: March 16th-20th.\nApril 3rd\, 6th\, 10th.\nMay 1st\, 18th.
URL:https://gopei.ca/event-program/pickleball-6/2028-02-14/
LOCATION:Murray Harbour Community Centre\, 27 Faye Fraser Street\, Murray Harbour\, Prince Edward Island\, C0A1V0\, Canada
CATEGORIES:East
END:VEVENT
BEGIN:VEVENT
DTSTART;TZID=America/Halifax:20280214T190000
DTEND;TZID=America/Halifax:20280214T200000
DTSTAMP:20260423T172958
CREATED:20241004T161248Z
LAST-MODIFIED:20241009T140732Z
UID:10008686-1834167600-1834171200@gopei.ca
SUMMARY:Kensington - Yin Yang Yoga
DESCRIPTION:Beginner-Intermediate friendly classes! \nCost: By Donation\, Give What You Can \nGo at your own pace \nFocusing on movement/strength/flexibility and relaxation. \nBring your own mat and water \nContact Krista Shields with any questions or concerns\nEmail: kdshields05@gmail.com \nSign up HERE!
URL:https://gopei.ca/event-program/kensington-yin-yang-yoga/2028-02-14/
LOCATION:Murray Christian Center\, Kensington\, Canada
CATEGORIES:Central
GEO:46.439545214621;-63.636843870324
END:VEVENT
BEGIN:VEVENT
DTSTART;TZID=America/Halifax:20280215T090000
DTEND;TZID=America/Halifax:20280215T100000
DTSTAMP:20260423T172958
CREATED:20241009T133134Z
LAST-MODIFIED:20241009T133134Z
UID:10008161-1834218000-1834221600@gopei.ca
SUMMARY:Fitness Class with Heidi
DESCRIPTION:Join Heidi for a low impact fitness class! \nBody weight and Resistance band focused! \nIf you have any questions\, contact GoWest\nwebsite: GoWest\nEmail: gowestpei@gmail.com
URL:https://gopei.ca/event-program/fitness-class-with-heidi/2028-02-15/
LOCATION:St. Louis Community Centre\, 3563 Union Road\, St. Louis\, PE\, Canada
CATEGORIES:West
END:VEVENT
BEGIN:VEVENT
DTSTART;TZID=America/Halifax:20280215T130000
DTEND;TZID=America/Halifax:20280215T140000
DTSTAMP:20260423T172958
CREATED:20241009T133321Z
LAST-MODIFIED:20241009T140359Z
UID:10008422-1834232400-1834236000@gopei.ca
SUMMARY:Fitness Class with Heidi
DESCRIPTION:Join Heidi for a low impact fitness class! \nBody weight and Resistance band focused! \nIf you have any questions\, contact GoWest\nwebsite: GoWest\nEmail: gowestpei@gmail.com
URL:https://gopei.ca/event-program/fitness-class-with-heidi-2/2028-02-15/
LOCATION:Bloomfield – St. Anthony’s Legion
CATEGORIES:West
END:VEVENT
BEGIN:VEVENT
DTSTART;TZID=America/Halifax:20280215T180000
DTEND;TZID=America/Halifax:20280215T200000
DTSTAMP:20260423T172958
CREATED:20251103T094006Z
LAST-MODIFIED:20251103T094006Z
UID:10009163-1834250400-1834257600@gopei.ca
SUMMARY:Pickleball
DESCRIPTION:Come and play Pickleball during the school year. \nDrop in: $2 \nNo sessions: \n\nNovember 6th\, 7th\, 10th\, 11th\, 21st.\nDecember 21st 2025 – January 4th 2026.\nFebruary 16th.\nMarch Break: March 16th-20th.\nApril 3rd\, 6th\, 10th.\nMay 1st\, 18th.\n\n  \n 
URL:https://gopei.ca/event-program/pickleball-5/2028-02-15/
LOCATION:Southern Kings Consolidated School\, 2294 Peters Rd.\, Montague\, PE\, C0A 1R0\, Canada
CATEGORIES:East
END:VEVENT
BEGIN:VEVENT
DTSTART;TZID=America/Halifax:20280216T090000
DTEND;TZID=America/Halifax:20280216T110000
DTSTAMP:20260423T172958
CREATED:20251103T094211Z
LAST-MODIFIED:20251103T094211Z
UID:10009805-1834304400-1834311600@gopei.ca
SUMMARY:Pickleball
DESCRIPTION:Come and play Pickleball during the school year. \nDrop in: $3 \nNo sessions: \n\nNovember 6th\, 7th\, 10th\, 11th\, 21st.\nDecember 21st 2025 – January 4th 2026.\nFebruary 16th.\nMarch Break: March 16th-20th.\nApril 3rd\, 6th\, 10th.\nMay 1st\, 18th.
URL:https://gopei.ca/event-program/pickleball-6/2028-02-16/
LOCATION:Murray Harbour Community Centre\, 27 Faye Fraser Street\, Murray Harbour\, Prince Edward Island\, C0A1V0\, Canada
CATEGORIES:East
END:VEVENT
BEGIN:VEVENT
DTSTART;TZID=America/Halifax:20280217T180000
DTEND;TZID=America/Halifax:20280217T200000
DTSTAMP:20260423T172958
CREATED:20251103T094006Z
LAST-MODIFIED:20251103T094006Z
UID:10009164-1834423200-1834430400@gopei.ca
SUMMARY:Pickleball
DESCRIPTION:Come and play Pickleball during the school year. \nDrop in: $2 \nNo sessions: \n\nNovember 6th\, 7th\, 10th\, 11th\, 21st.\nDecember 21st 2025 – January 4th 2026.\nFebruary 16th.\nMarch Break: March 16th-20th.\nApril 3rd\, 6th\, 10th.\nMay 1st\, 18th.\n\n  \n 
URL:https://gopei.ca/event-program/pickleball-5/2028-02-17/
LOCATION:Southern Kings Consolidated School\, 2294 Peters Rd.\, Montague\, PE\, C0A 1R0\, Canada
CATEGORIES:East
END:VEVENT
BEGIN:VEVENT
DTSTART;TZID=America/Halifax:20280217T190000
DTEND;TZID=America/Halifax:20280217T200000
DTSTAMP:20260423T172958
CREATED:20241004T164602Z
LAST-MODIFIED:20241004T164759Z
UID:10007901-1834426800-1834430400@gopei.ca
SUMMARY:Kinkora - Multifit
DESCRIPTION:Weekly Fitness program where the style changes week to week \nBootcamp/Tabata/Circuit/Yoga \nwith various implements like: bands/balls/weights \nAll Levels Welcome! \nPay by Donation\, Give What You Can \nIf you have any questions or concerns\, contact:\nKrista Shields\nEmail: kdshields05@gmail.com \nSign up HERE!
URL:https://gopei.ca/event-program/kinkora-multifit/2028-02-17/
LOCATION:Kinkora Community Hall\, Canada
CATEGORIES:Central
GEO:46.323485530618;-63.594944
END:VEVENT
BEGIN:VEVENT
DTSTART;TZID=America/Halifax:20280218T090000
DTEND;TZID=America/Halifax:20280218T110000
DTSTAMP:20260423T172958
CREATED:20251103T094211Z
LAST-MODIFIED:20251103T094211Z
UID:10009806-1834477200-1834484400@gopei.ca
SUMMARY:Pickleball
DESCRIPTION:Come and play Pickleball during the school year. \nDrop in: $3 \nNo sessions: \n\nNovember 6th\, 7th\, 10th\, 11th\, 21st.\nDecember 21st 2025 – January 4th 2026.\nFebruary 16th.\nMarch Break: March 16th-20th.\nApril 3rd\, 6th\, 10th.\nMay 1st\, 18th.
URL:https://gopei.ca/event-program/pickleball-6/2028-02-18/
LOCATION:Murray Harbour Community Centre\, 27 Faye Fraser Street\, Murray Harbour\, Prince Edward Island\, C0A1V0\, Canada
CATEGORIES:East
END:VEVENT
BEGIN:VEVENT
DTSTART;TZID=America/Halifax:20280221T090000
DTEND;TZID=America/Halifax:20280221T110000
DTSTAMP:20260423T172958
CREATED:20251103T094211Z
LAST-MODIFIED:20251103T094211Z
UID:10009807-1834736400-1834743600@gopei.ca
SUMMARY:Pickleball
DESCRIPTION:Come and play Pickleball during the school year. \nDrop in: $3 \nNo sessions: \n\nNovember 6th\, 7th\, 10th\, 11th\, 21st.\nDecember 21st 2025 – January 4th 2026.\nFebruary 16th.\nMarch Break: March 16th-20th.\nApril 3rd\, 6th\, 10th.\nMay 1st\, 18th.
URL:https://gopei.ca/event-program/pickleball-6/2028-02-21/
LOCATION:Murray Harbour Community Centre\, 27 Faye Fraser Street\, Murray Harbour\, Prince Edward Island\, C0A1V0\, Canada
CATEGORIES:East
END:VEVENT
BEGIN:VEVENT
DTSTART;TZID=America/Halifax:20280221T190000
DTEND;TZID=America/Halifax:20280221T200000
DTSTAMP:20260423T172958
CREATED:20241004T161248Z
LAST-MODIFIED:20241009T140732Z
UID:10008687-1834772400-1834776000@gopei.ca
SUMMARY:Kensington - Yin Yang Yoga
DESCRIPTION:Beginner-Intermediate friendly classes! \nCost: By Donation\, Give What You Can \nGo at your own pace \nFocusing on movement/strength/flexibility and relaxation. \nBring your own mat and water \nContact Krista Shields with any questions or concerns\nEmail: kdshields05@gmail.com \nSign up HERE!
URL:https://gopei.ca/event-program/kensington-yin-yang-yoga/2028-02-21/
LOCATION:Murray Christian Center\, Kensington\, Canada
CATEGORIES:Central
GEO:46.439545214621;-63.636843870324
END:VEVENT
BEGIN:VEVENT
DTSTART;TZID=America/Halifax:20280222T090000
DTEND;TZID=America/Halifax:20280222T100000
DTSTAMP:20260423T172958
CREATED:20241009T133134Z
LAST-MODIFIED:20241009T133134Z
UID:10008162-1834822800-1834826400@gopei.ca
SUMMARY:Fitness Class with Heidi
DESCRIPTION:Join Heidi for a low impact fitness class! \nBody weight and Resistance band focused! \nIf you have any questions\, contact GoWest\nwebsite: GoWest\nEmail: gowestpei@gmail.com
URL:https://gopei.ca/event-program/fitness-class-with-heidi/2028-02-22/
LOCATION:St. Louis Community Centre\, 3563 Union Road\, St. Louis\, PE\, Canada
CATEGORIES:West
END:VEVENT
BEGIN:VEVENT
DTSTART;TZID=America/Halifax:20280222T130000
DTEND;TZID=America/Halifax:20280222T140000
DTSTAMP:20260423T172958
CREATED:20241009T133321Z
LAST-MODIFIED:20241009T140359Z
UID:10008423-1834837200-1834840800@gopei.ca
SUMMARY:Fitness Class with Heidi
DESCRIPTION:Join Heidi for a low impact fitness class! \nBody weight and Resistance band focused! \nIf you have any questions\, contact GoWest\nwebsite: GoWest\nEmail: gowestpei@gmail.com
URL:https://gopei.ca/event-program/fitness-class-with-heidi-2/2028-02-22/
LOCATION:Bloomfield – St. Anthony’s Legion
CATEGORIES:West
END:VEVENT
END:VCALENDAR