BEGIN:VCALENDAR
VERSION:2.0
PRODID:-//go!PEI - ECPv6.15.20//NONSGML v1.0//EN
CALSCALE:GREGORIAN
METHOD:PUBLISH
X-WR-CALNAME:go!PEI
X-ORIGINAL-URL:https://gopei.ca
X-WR-CALDESC:Events for go!PEI
REFRESH-INTERVAL;VALUE=DURATION:PT1H
X-Robots-Tag:noindex
X-PUBLISHED-TTL:PT1H
BEGIN:VTIMEZONE
TZID:America/Halifax
BEGIN:DAYLIGHT
TZOFFSETFROM:-0400
TZOFFSETTO:-0300
TZNAME:ADT
DTSTART:20210314T060000
END:DAYLIGHT
BEGIN:STANDARD
TZOFFSETFROM:-0300
TZOFFSETTO:-0400
TZNAME:AST
DTSTART:20211107T050000
END:STANDARD
BEGIN:DAYLIGHT
TZOFFSETFROM:-0400
TZOFFSETTO:-0300
TZNAME:ADT
DTSTART:20220313T060000
END:DAYLIGHT
BEGIN:STANDARD
TZOFFSETFROM:-0300
TZOFFSETTO:-0400
TZNAME:AST
DTSTART:20221106T050000
END:STANDARD
BEGIN:DAYLIGHT
TZOFFSETFROM:-0400
TZOFFSETTO:-0300
TZNAME:ADT
DTSTART:20230312T060000
END:DAYLIGHT
BEGIN:STANDARD
TZOFFSETFROM:-0300
TZOFFSETTO:-0400
TZNAME:AST
DTSTART:20231105T050000
END:STANDARD
END:VTIMEZONE
BEGIN:VEVENT
DTSTART;TZID=America/Halifax:20220523T183000
DTEND;TZID=America/Halifax:20220523T193000
DTSTAMP:20260423T044605
CREATED:20220421T124847Z
LAST-MODIFIED:20220421T124847Z
UID:10005759-1653330600-1653334200@gopei.ca
SUMMARY:Learn to Run 5k (Westisle Walking Track)
DESCRIPTION:Come join our leader\, Cherissa Arsenault on Monday\, April 25 at 6:30pm.\n\n\n\nA Learn to Run program is a 10-week program designed to gradually take you from walking to running. You only need to meet with your group once a week.\n\n\nTo register please call 902-859-8856 or email: gowestpei@gmail.com
URL:https://gopei.ca/event-program/learn-to-run-5k-westisle-walking-track/2022-05-23/
LOCATION:Westisle High School Walking Track\, 39570 Western Rd\, Elmsdale\, PEI\, Canada
CATEGORIES:West
ATTACH;FMTTYPE=image/jpeg:https://gopei.ca/wp-content/uploads/2022/04/Westisle-5km-Made-with-PosterMyWall.jpg
ORGANIZER;CN="go! WestPEI":MAILTO:gowestpei@gmail.com
END:VEVENT
BEGIN:VEVENT
DTSTART;TZID=America/Halifax:20220524T180000
DTEND;TZID=America/Halifax:20220524T190000
DTSTAMP:20260423T044605
CREATED:20220510T155744Z
LAST-MODIFIED:20220510T155744Z
UID:10005809-1653415200-1653418800@gopei.ca
SUMMARY:Trail Hiking Series
DESCRIPTION:Join us on Tuesday evenings for 6 weeks of exploring a different trail each week. \nEach Hike is approximately 1 hour.
URL:https://gopei.ca/event-program/trail-hiking-series/2022-05-24/
LOCATION:Prince Edward Island
CATEGORIES:West
ATTACH;FMTTYPE=image/jpeg:https://gopei.ca/wp-content/uploads/2022/05/Trail-Hiking-Series-May-2022-Made-with-PosterMyWall.jpg
ORGANIZER;CN="go! WestPEI":MAILTO:programcoordinator.wsrc@gmail.com
END:VEVENT
BEGIN:VEVENT
DTSTART;TZID=America/Halifax:20220524T190000
DTEND;TZID=America/Halifax:20220524T200000
DTSTAMP:20260423T044605
CREATED:20220420T145351Z
LAST-MODIFIED:20220421T185915Z
UID:10005754-1653418800-1653422400@gopei.ca
SUMMARY:"Come Try" Yoga
DESCRIPTION:Join us at the beautiful West Point Harbourside Centre for a 4-week “Come Try” Yoga series.  If you ever wanted to try yoga\, now is your chance.  $10 for the 4 sessions. \nTo register please contact us at 902-859-8856 or email gowestpei@gmail.com \n 
URL:https://gopei.ca/event-program/come-try-yoga/2022-05-24/
LOCATION:West Point Harbourside Centre\, 159 Cedar Dunes Park Road\, West Point\, PE\, C0B1V0\, Canada
CATEGORIES:West
ATTACH;FMTTYPE=image/jpeg:https://gopei.ca/wp-content/uploads/2022/04/Come-Try-Yoga-Insta-Made-with-PosterMyWall-1.jpg
ORGANIZER;CN="go! WestPEI":MAILTO:gowestpei@gmail.com
END:VEVENT
BEGIN:VEVENT
DTSTART;TZID=America/Halifax:20220525T093000
DTEND;TZID=America/Halifax:20220525T103000
DTSTAMP:20260423T044605
CREATED:20220513T145943Z
LAST-MODIFIED:20220513T145943Z
UID:10005824-1653471000-1653474600@gopei.ca
SUMMARY:Club De Marche/Walking Club
DESCRIPTION:Join in each week as the group will meet up at a different location to discover new trails \nMay 18:  Mill River Trail (starting at the parking lot of Mill River Resort) \nMay 25: Trout River Natural Area \nJune 1: Heather Moyse Park in Summerside \nJune 8: Sentier Breadalbane Trails \nTo register please contact Velma Durant at 902-439-3100 or email: loisr@cscevangeline.ca
URL:https://gopei.ca/event-program/club-de-marche-walking-club/2022-05-25/
LOCATION:Prince Edward Island
CATEGORIES:West
ATTACH;FMTTYPE=image/jpeg:https://gopei.ca/wp-content/uploads/2022/05/280749190_363660285792213_6571509865168136358_n.jpg
END:VEVENT
BEGIN:VEVENT
DTSTART;TZID=America/Halifax:20220525T160000
DTEND;TZID=America/Halifax:20220525T180000
DTSTAMP:20260423T044605
CREATED:20210929T170803Z
LAST-MODIFIED:20220323T132205Z
UID:10005393-1653494400-1653501600@gopei.ca
SUMMARY:Alberton Pickleball
DESCRIPTION:All necessary equipment is provided \nBeginners are welcome at join any time \nTo register please contact Krista at 902-859-8856 or email: gowestpei@gmail.com \nIf leaving message\, please leave your name\, phone number and the program you are registering for.
URL:https://gopei.ca/event-program/alberton-pickleball/2022-05-25/
LOCATION:Alberton Elementary\, 354 Church Street\, Alberton\, PEI\, Canada
CATEGORIES:West
ATTACH;FMTTYPE=image/jpeg:https://gopei.ca/wp-content/uploads/2021/09/Pickleball-Alberton-2021-Made-with-PosterMyWall-1.jpg
ORGANIZER;CN="go! WestPEI":MAILTO:programcoordinator.wsrc@gmail.com
GEO:46.8102286;-64.0766002
X-APPLE-STRUCTURED-LOCATION;VALUE=URI;X-ADDRESS=Alberton Elementary 354 Church Street Alberton PEI Canada;X-APPLE-RADIUS=500;X-TITLE=354 Church Street:geo:-64.0766002,46.8102286
END:VEVENT
BEGIN:VEVENT
DTSTART;TZID=America/Halifax:20220525T180000
DTEND;TZID=America/Halifax:20220525T203000
DTSTAMP:20260423T044605
CREATED:20210920T184933Z
LAST-MODIFIED:20220323T132235Z
UID:10005354-1653501600-1653510600@gopei.ca
SUMMARY:O'Leary Pickleball
DESCRIPTION:Please pre-register by calling 902-859-8856 or email: gowestpei@gmail.com \nBeginners are welcome\, all necessary equipment is provided. \n 
URL:https://gopei.ca/event-program/pickleball/2022-05-25/
LOCATION:O’Leary Elementary School\, 25 Barclay Rd\, O'Leary\, PE\, C0B1V0\, Canada
CATEGORIES:West
ATTACH;FMTTYPE=image/jpeg:https://gopei.ca/wp-content/uploads/2021/09/OLeary-Feb-2022-Made-with-PosterMyWall.jpg
ORGANIZER;CN="go! WestPEI":MAILTO:gowestpei@gmail.com
GEO:46.7038628;-64.2317408
X-APPLE-STRUCTURED-LOCATION;VALUE=URI;X-ADDRESS=O’Leary Elementary School 25 Barclay Rd O'Leary PE C0B1V0 Canada;X-APPLE-RADIUS=500;X-TITLE=25 Barclay Rd:geo:-64.2317408,46.7038628
END:VEVENT
BEGIN:VEVENT
DTSTART;TZID=America/Halifax:20220525T183000
DTEND;TZID=America/Halifax:20220525T193000
DTSTAMP:20260423T044605
CREATED:20220420T144035Z
LAST-MODIFIED:20220420T144656Z
UID:10005735-1653503400-1653507000@gopei.ca
SUMMARY:Learn to Run Miscouche & Area
DESCRIPTION:Join us for this 10-week Learn to Run program that is designed to gradually take you from walking to running!  Each week\, the group will meet at the trail head of the Confederation Trail (at the corner of Lady Slipper Drive) in Miscouche.   All necessary resources will be provided\, i.e. weekly training schedule. \nTo register contact us at 902-859-8856 or email gowestpei@gmail.com.  Please leave your name and number. \nLeaders: Karla Lynch and Linda Perry
URL:https://gopei.ca/event-program/learn-to-run-miscouche/2022-05-25/
LOCATION:Prince Edward Island
CATEGORIES:West
ATTACH;FMTTYPE=image/jpeg:https://gopei.ca/wp-content/uploads/2022/04/Miscouche-L2R-Made-with-PosterMyWall.jpg
END:VEVENT
BEGIN:VEVENT
DTSTART;TZID=America/Halifax:20220525T183000
DTEND;TZID=America/Halifax:20220525T193000
DTSTAMP:20260423T044605
CREATED:20220302T171332Z
LAST-MODIFIED:20220425T152006Z
UID:10005727-1653503400-1653507000@gopei.ca
SUMMARY:Lively Line Dancing - Souris
DESCRIPTION:**PROGRAM EXTENDED BY 4 WEEKS UNTIL JUNE 1ST** \nA line dance is a choreographed routine done with a group of people that has a repeated sequence of steps. Line dancing is great fun because it can be danced with or without a partner! Come on out for some fun and energetic nights of Line Dancing with Lorraine Robertson! \nYou will only be contacted before the program if the program is full…otherwise see you March 16th! \nPre-registration Google Forms Link: https://forms.gle/GsNFTuvJY4hV9h9u6
URL:https://gopei.ca/event-program/lively-line-dancing-souris/2022-05-25/
LOCATION:St. Mary’s Hall
CATEGORIES:East
ATTACH;FMTTYPE=image/jpeg:https://gopei.ca/wp-content/uploads/2022/03/Souris-Line-Dancing-Evening-scaled-e1646241115385.jpg
GEO:46.355043062719;-62.255738871441
END:VEVENT
BEGIN:VEVENT
DTSTART;TZID=America/Halifax:20220525T183000
DTEND;TZID=America/Halifax:20220525T210000
DTSTAMP:20260423T044605
CREATED:20211105T163628Z
LAST-MODIFIED:20211201T193603Z
UID:10005599-1653503400-1653512400@gopei.ca
SUMMARY:Evangeline Pickleball
DESCRIPTION:All necessary equipment is provided.  Beginner’s are welcome to join at any time.
URL:https://gopei.ca/event-program/evangeline-pickleball/2022-05-25/
LOCATION:Ecole Evangeline\, civic # 1596 Route 124\, Evangeline\, PE\, Canada
CATEGORIES:West
ATTACH;FMTTYPE=image/jpeg:https://gopei.ca/wp-content/uploads/2021/11/Western-Pickleball-2021-Made-with-PosterMyWall.jpg
END:VEVENT
BEGIN:VEVENT
DTSTART;TZID=America/Halifax:20220525T190000
DTEND;TZID=America/Halifax:20220525T200000
DTSTAMP:20260423T044605
CREATED:20220420T144602Z
LAST-MODIFIED:20220420T144602Z
UID:10005745-1653505200-1653508800@gopei.ca
SUMMARY:Learn to Run O'Leary and Area
DESCRIPTION:Join us for this 10-week Learn to Run program that is designed to gradually take you from walking to running!  Each week\, the group will meet at the Centennial Park in O’Leary.   All necessary resources will be provided\, i.e. weekly training schedule. \nTo register please contact us at 902-859-8856 or email: gowestpei@gmail.com  Please leave your name and phone number \nLeader: Julie Stewart Ramsay
URL:https://gopei.ca/event-program/learn-to-run-oleary-and-area/2022-05-25/
LOCATION:Prince Edward Island
CATEGORIES:West
ATTACH;FMTTYPE=image/jpeg:https://gopei.ca/wp-content/uploads/2022/04/OLeary-5km-Made-with-PosterMyWall.jpg
END:VEVENT
BEGIN:VEVENT
DTSTART;TZID=America/Halifax:20220526T163000
DTEND;TZID=America/Halifax:20220526T173000
DTSTAMP:20260423T044605
CREATED:20220427T201923Z
LAST-MODIFIED:20220427T201923Z
UID:10005797-1653582600-1653586200@gopei.ca
SUMMARY:Evangeline & Area Learn to Run 5k
DESCRIPTION:Have you always wanted to learn how to run\, but felt you didn’t know how?  We are offering a 10-week “Learn to Run 5k” program\, led by Emily Arsenault. \nEach week we will meet at the walking track at the Evangeline school.  Children are more than welcome to attend along with their parents.  They can participate or play on the inside of the track.
URL:https://gopei.ca/event-program/evangeline-area-learn-to-run-5k/2022-05-26/
LOCATION:Ecole Evangeline\, civic # 1596 Route 124\, Evangeline\, PE\, Canada
CATEGORIES:West
ATTACH;FMTTYPE=image/jpeg:https://gopei.ca/wp-content/uploads/2022/04/L2R-Evangeline-May-22-Made-with-PosterMyWall.jpg
ORGANIZER;CN="go! WestPEI":MAILTO:programcoordinator.wsrc@gmail.com
END:VEVENT
BEGIN:VEVENT
DTSTART;TZID=America/Halifax:20220526T180000
DTEND;TZID=America/Halifax:20220526T190000
DTSTAMP:20260423T044605
CREATED:20220510T154213Z
LAST-MODIFIED:20220510T154832Z
UID:10005804-1653588000-1653591600@gopei.ca
SUMMARY:Family Hike Night
DESCRIPTION:Suitable for all ages.  Sign up for one night or all three.\n\n\n\nTo register please include in the email the names of all participants\, ages of children\, phone number and what nights/Trails you would like to register for.
URL:https://gopei.ca/event-program/family-hiking-series/
LOCATION:Mill River Trail\, 180 Mill River Resort Rd\, O'Leary\, PE\, C0B 1V0\, Canada
CATEGORIES:West
ATTACH;FMTTYPE=image/jpeg:https://gopei.ca/wp-content/uploads/2022/05/Family-Hike-Night-Made-with-PosterMyWall.jpg
ORGANIZER;CN="go! WestPEI":MAILTO:programcoordinator.wsrc@gmail.com
END:VEVENT
BEGIN:VEVENT
DTSTART;TZID=America/Halifax:20220528T090000
DTEND;TZID=America/Halifax:20220528T100000
DTSTAMP:20260423T044605
CREATED:20220513T150351Z
LAST-MODIFIED:20220513T150351Z
UID:10005829-1653728400-1653732000@gopei.ca
SUMMARY:Club De Velo - Bike Club
DESCRIPTION:Each week the group will meet at the Old Mills Park in Wellington \nMay 14 – Heading towards Miscouche \nMay 21: Heading towards Richmond \nMay 28: Heading towards Summerside \nJune 4: TBD
URL:https://gopei.ca/event-program/club-de-velo-bike-club/2022-05-28/
LOCATION:Prince Edward Island
CATEGORIES:West
ATTACH;FMTTYPE=image/png:https://gopei.ca/wp-content/uploads/2022/05/0001-1.png
END:VEVENT
BEGIN:VEVENT
DTSTART;TZID=America/Halifax:20220530T090000
DTEND;TZID=America/Halifax:20220530T100000
DTSTAMP:20260423T044605
CREATED:20220427T172725Z
LAST-MODIFIED:20220427T182520Z
UID:10005773-1653901200-1653904800@gopei.ca
SUMMARY:Walk-n-Talk
DESCRIPTION:Come join us each week as we walk together on the beautiful Confederation Trail.  Take time to stay healthy and socialize at the same time.  Get to know your neighbour a little better or simply meet new friends.  This is a great opportunity to walk the trails with company. \n 
URL:https://gopei.ca/event-program/walk-n-chat/2022-05-30/
LOCATION:Prince Edward Island
CATEGORIES:West
ATTACH;FMTTYPE=image/jpeg:https://gopei.ca/wp-content/uploads/2022/04/Elmsdale-Walking-Group-Made-with-PosterMyWall-1.jpg
ORGANIZER;CN="go! WestPEI":MAILTO:gowestpei@gmail.com
END:VEVENT
BEGIN:VEVENT
DTSTART;TZID=America/Halifax:20220530T160000
DTEND;TZID=America/Halifax:20220530T180000
DTSTAMP:20260423T044605
CREATED:20220524T183530Z
LAST-MODIFIED:20220524T183530Z
UID:10005831-1653926400-1653933600@gopei.ca
SUMMARY:Evangeline Minor Soccer Registration Night
DESCRIPTION:Minor Soccer Registration
URL:https://gopei.ca/event-program/evangeline-minor-soccer-registration-night/
LOCATION:Ecole Evangeline\, civic # 1596 Route 124\, Evangeline\, PE\, Canada
CATEGORIES:West
ATTACH;FMTTYPE=image/jpeg:https://gopei.ca/wp-content/uploads/2022/05/poster.jpg
ORGANIZER;CN="go! WestPEI":MAILTO:programcoordinator.wsrc@gmail.com
END:VEVENT
BEGIN:VEVENT
DTSTART;TZID=America/Halifax:20220530T180000
DTEND;TZID=America/Halifax:20220530T190000
DTSTAMP:20260423T044605
CREATED:20220513T145309Z
LAST-MODIFIED:20220513T145309Z
UID:10005814-1653933600-1653937200@gopei.ca
SUMMARY:Learn to Run Richmond
DESCRIPTION:Join us at the start of the Confederation Trail by the Richmond Bakin Express each Monday evening at 6pm.  The Learn to Run program is designed to gradually take you from walking to running in 10 weeks.  No previous running experience is required. \nRain Location:  meeting at Rt2 Success Training Facility (civic #31037 Rt 2) at 5:30pm.
URL:https://gopei.ca/event-program/learn-to-run-richmond/2022-05-30/
LOCATION:Richmond Bakin Donuts
CATEGORIES:West
ATTACH;FMTTYPE=image/jpeg:https://gopei.ca/wp-content/uploads/2022/05/L2Run-Richmond-22-Made-with-PosterMyWall.jpg
ORGANIZER;CN="go! WestPEI":MAILTO:gowestpei@gmail.com
GEO:46.509174372008;-63.991922346029
END:VEVENT
BEGIN:VEVENT
DTSTART;TZID=America/Halifax:20220530T180000
DTEND;TZID=America/Halifax:20220530T203000
DTSTAMP:20260423T044605
CREATED:20210920T184933Z
LAST-MODIFIED:20220323T132235Z
UID:10005355-1653933600-1653942600@gopei.ca
SUMMARY:O'Leary Pickleball
DESCRIPTION:Please pre-register by calling 902-859-8856 or email: gowestpei@gmail.com \nBeginners are welcome\, all necessary equipment is provided. \n 
URL:https://gopei.ca/event-program/pickleball/2022-05-30/
LOCATION:O’Leary Elementary School\, 25 Barclay Rd\, O'Leary\, PE\, C0B1V0\, Canada
CATEGORIES:West
ATTACH;FMTTYPE=image/jpeg:https://gopei.ca/wp-content/uploads/2021/09/OLeary-Feb-2022-Made-with-PosterMyWall.jpg
ORGANIZER;CN="go! WestPEI":MAILTO:gowestpei@gmail.com
GEO:46.7038628;-64.2317408
X-APPLE-STRUCTURED-LOCATION;VALUE=URI;X-ADDRESS=O’Leary Elementary School 25 Barclay Rd O'Leary PE C0B1V0 Canada;X-APPLE-RADIUS=500;X-TITLE=25 Barclay Rd:geo:-64.2317408,46.7038628
END:VEVENT
BEGIN:VEVENT
DTSTART;TZID=America/Halifax:20220530T183000
DTEND;TZID=America/Halifax:20220530T193000
DTSTAMP:20260423T044605
CREATED:20220421T124847Z
LAST-MODIFIED:20220421T124847Z
UID:10005760-1653935400-1653939000@gopei.ca
SUMMARY:Learn to Run 5k (Westisle Walking Track)
DESCRIPTION:Come join our leader\, Cherissa Arsenault on Monday\, April 25 at 6:30pm.\n\n\n\nA Learn to Run program is a 10-week program designed to gradually take you from walking to running. You only need to meet with your group once a week.\n\n\nTo register please call 902-859-8856 or email: gowestpei@gmail.com
URL:https://gopei.ca/event-program/learn-to-run-5k-westisle-walking-track/2022-05-30/
LOCATION:Westisle High School Walking Track\, 39570 Western Rd\, Elmsdale\, PEI\, Canada
CATEGORIES:West
ATTACH;FMTTYPE=image/jpeg:https://gopei.ca/wp-content/uploads/2022/04/Westisle-5km-Made-with-PosterMyWall.jpg
ORGANIZER;CN="go! WestPEI":MAILTO:gowestpei@gmail.com
END:VEVENT
BEGIN:VEVENT
DTSTART;TZID=America/Halifax:20220531T180000
DTEND;TZID=America/Halifax:20220531T190000
DTSTAMP:20260423T044605
CREATED:20220510T155744Z
LAST-MODIFIED:20220510T155744Z
UID:10005810-1654020000-1654023600@gopei.ca
SUMMARY:Trail Hiking Series
DESCRIPTION:Join us on Tuesday evenings for 6 weeks of exploring a different trail each week. \nEach Hike is approximately 1 hour.
URL:https://gopei.ca/event-program/trail-hiking-series/2022-05-31/
LOCATION:Prince Edward Island
CATEGORIES:West
ATTACH;FMTTYPE=image/jpeg:https://gopei.ca/wp-content/uploads/2022/05/Trail-Hiking-Series-May-2022-Made-with-PosterMyWall.jpg
ORGANIZER;CN="go! WestPEI":MAILTO:programcoordinator.wsrc@gmail.com
END:VEVENT
BEGIN:VEVENT
DTSTART;TZID=America/Halifax:20220601T093000
DTEND;TZID=America/Halifax:20220601T103000
DTSTAMP:20260423T044605
CREATED:20220513T145943Z
LAST-MODIFIED:20220513T145943Z
UID:10005825-1654075800-1654079400@gopei.ca
SUMMARY:Club De Marche/Walking Club
DESCRIPTION:Join in each week as the group will meet up at a different location to discover new trails \nMay 18:  Mill River Trail (starting at the parking lot of Mill River Resort) \nMay 25: Trout River Natural Area \nJune 1: Heather Moyse Park in Summerside \nJune 8: Sentier Breadalbane Trails \nTo register please contact Velma Durant at 902-439-3100 or email: loisr@cscevangeline.ca
URL:https://gopei.ca/event-program/club-de-marche-walking-club/2022-06-01/
LOCATION:Prince Edward Island
CATEGORIES:West
ATTACH;FMTTYPE=image/jpeg:https://gopei.ca/wp-content/uploads/2022/05/280749190_363660285792213_6571509865168136358_n.jpg
END:VEVENT
BEGIN:VEVENT
DTSTART;TZID=America/Halifax:20220601T160000
DTEND;TZID=America/Halifax:20220601T180000
DTSTAMP:20260423T044605
CREATED:20210929T170803Z
LAST-MODIFIED:20220323T132205Z
UID:10005394-1654099200-1654106400@gopei.ca
SUMMARY:Alberton Pickleball
DESCRIPTION:All necessary equipment is provided \nBeginners are welcome at join any time \nTo register please contact Krista at 902-859-8856 or email: gowestpei@gmail.com \nIf leaving message\, please leave your name\, phone number and the program you are registering for.
URL:https://gopei.ca/event-program/alberton-pickleball/2022-06-01/
LOCATION:Alberton Elementary\, 354 Church Street\, Alberton\, PEI\, Canada
CATEGORIES:West
ATTACH;FMTTYPE=image/jpeg:https://gopei.ca/wp-content/uploads/2021/09/Pickleball-Alberton-2021-Made-with-PosterMyWall-1.jpg
ORGANIZER;CN="go! WestPEI":MAILTO:programcoordinator.wsrc@gmail.com
GEO:46.8102286;-64.0766002
X-APPLE-STRUCTURED-LOCATION;VALUE=URI;X-ADDRESS=Alberton Elementary 354 Church Street Alberton PEI Canada;X-APPLE-RADIUS=500;X-TITLE=354 Church Street:geo:-64.0766002,46.8102286
END:VEVENT
BEGIN:VEVENT
DTSTART;TZID=America/Halifax:20220601T180000
DTEND;TZID=America/Halifax:20220601T203000
DTSTAMP:20260423T044605
CREATED:20210920T184933Z
LAST-MODIFIED:20220323T132235Z
UID:10005356-1654106400-1654115400@gopei.ca
SUMMARY:O'Leary Pickleball
DESCRIPTION:Please pre-register by calling 902-859-8856 or email: gowestpei@gmail.com \nBeginners are welcome\, all necessary equipment is provided. \n 
URL:https://gopei.ca/event-program/pickleball/2022-06-01/
LOCATION:O’Leary Elementary School\, 25 Barclay Rd\, O'Leary\, PE\, C0B1V0\, Canada
CATEGORIES:West
ATTACH;FMTTYPE=image/jpeg:https://gopei.ca/wp-content/uploads/2021/09/OLeary-Feb-2022-Made-with-PosterMyWall.jpg
ORGANIZER;CN="go! WestPEI":MAILTO:gowestpei@gmail.com
GEO:46.7038628;-64.2317408
X-APPLE-STRUCTURED-LOCATION;VALUE=URI;X-ADDRESS=O’Leary Elementary School 25 Barclay Rd O'Leary PE C0B1V0 Canada;X-APPLE-RADIUS=500;X-TITLE=25 Barclay Rd:geo:-64.2317408,46.7038628
END:VEVENT
BEGIN:VEVENT
DTSTART;TZID=America/Halifax:20220601T183000
DTEND;TZID=America/Halifax:20220601T193000
DTSTAMP:20260423T044605
CREATED:20220420T144035Z
LAST-MODIFIED:20220420T144656Z
UID:10005736-1654108200-1654111800@gopei.ca
SUMMARY:Learn to Run Miscouche & Area
DESCRIPTION:Join us for this 10-week Learn to Run program that is designed to gradually take you from walking to running!  Each week\, the group will meet at the trail head of the Confederation Trail (at the corner of Lady Slipper Drive) in Miscouche.   All necessary resources will be provided\, i.e. weekly training schedule. \nTo register contact us at 902-859-8856 or email gowestpei@gmail.com.  Please leave your name and number. \nLeaders: Karla Lynch and Linda Perry
URL:https://gopei.ca/event-program/learn-to-run-miscouche/2022-06-01/
LOCATION:Prince Edward Island
CATEGORIES:West
ATTACH;FMTTYPE=image/jpeg:https://gopei.ca/wp-content/uploads/2022/04/Miscouche-L2R-Made-with-PosterMyWall.jpg
END:VEVENT
BEGIN:VEVENT
DTSTART;TZID=America/Halifax:20220601T183000
DTEND;TZID=America/Halifax:20220601T193000
DTSTAMP:20260423T044605
CREATED:20220302T171332Z
LAST-MODIFIED:20220425T152006Z
UID:10005728-1654108200-1654111800@gopei.ca
SUMMARY:Lively Line Dancing - Souris
DESCRIPTION:**PROGRAM EXTENDED BY 4 WEEKS UNTIL JUNE 1ST** \nA line dance is a choreographed routine done with a group of people that has a repeated sequence of steps. Line dancing is great fun because it can be danced with or without a partner! Come on out for some fun and energetic nights of Line Dancing with Lorraine Robertson! \nYou will only be contacted before the program if the program is full…otherwise see you March 16th! \nPre-registration Google Forms Link: https://forms.gle/GsNFTuvJY4hV9h9u6
URL:https://gopei.ca/event-program/lively-line-dancing-souris/2022-06-01/
LOCATION:St. Mary’s Hall
CATEGORIES:East
ATTACH;FMTTYPE=image/jpeg:https://gopei.ca/wp-content/uploads/2022/03/Souris-Line-Dancing-Evening-scaled-e1646241115385.jpg
GEO:46.355043062719;-62.255738871441
END:VEVENT
BEGIN:VEVENT
DTSTART;TZID=America/Halifax:20220601T183000
DTEND;TZID=America/Halifax:20220601T210000
DTSTAMP:20260423T044605
CREATED:20211105T163628Z
LAST-MODIFIED:20211201T193603Z
UID:10005600-1654108200-1654117200@gopei.ca
SUMMARY:Evangeline Pickleball
DESCRIPTION:All necessary equipment is provided.  Beginner’s are welcome to join at any time.
URL:https://gopei.ca/event-program/evangeline-pickleball/2022-06-01/
LOCATION:Ecole Evangeline\, civic # 1596 Route 124\, Evangeline\, PE\, Canada
CATEGORIES:West
ATTACH;FMTTYPE=image/jpeg:https://gopei.ca/wp-content/uploads/2021/11/Western-Pickleball-2021-Made-with-PosterMyWall.jpg
END:VEVENT
BEGIN:VEVENT
DTSTART;TZID=America/Halifax:20220601T190000
DTEND;TZID=America/Halifax:20220601T200000
DTSTAMP:20260423T044605
CREATED:20220420T144602Z
LAST-MODIFIED:20220420T144602Z
UID:10005746-1654110000-1654113600@gopei.ca
SUMMARY:Learn to Run O'Leary and Area
DESCRIPTION:Join us for this 10-week Learn to Run program that is designed to gradually take you from walking to running!  Each week\, the group will meet at the Centennial Park in O’Leary.   All necessary resources will be provided\, i.e. weekly training schedule. \nTo register please contact us at 902-859-8856 or email: gowestpei@gmail.com  Please leave your name and phone number \nLeader: Julie Stewart Ramsay
URL:https://gopei.ca/event-program/learn-to-run-oleary-and-area/2022-06-01/
LOCATION:Prince Edward Island
CATEGORIES:West
ATTACH;FMTTYPE=image/jpeg:https://gopei.ca/wp-content/uploads/2022/04/OLeary-5km-Made-with-PosterMyWall.jpg
END:VEVENT
BEGIN:VEVENT
DTSTART;TZID=America/Halifax:20220602T163000
DTEND;TZID=America/Halifax:20220602T173000
DTSTAMP:20260423T044605
CREATED:20220427T201923Z
LAST-MODIFIED:20220427T201923Z
UID:10005798-1654187400-1654191000@gopei.ca
SUMMARY:Evangeline & Area Learn to Run 5k
DESCRIPTION:Have you always wanted to learn how to run\, but felt you didn’t know how?  We are offering a 10-week “Learn to Run 5k” program\, led by Emily Arsenault. \nEach week we will meet at the walking track at the Evangeline school.  Children are more than welcome to attend along with their parents.  They can participate or play on the inside of the track.
URL:https://gopei.ca/event-program/evangeline-area-learn-to-run-5k/2022-06-02/
LOCATION:Ecole Evangeline\, civic # 1596 Route 124\, Evangeline\, PE\, Canada
CATEGORIES:West
ATTACH;FMTTYPE=image/jpeg:https://gopei.ca/wp-content/uploads/2022/04/L2R-Evangeline-May-22-Made-with-PosterMyWall.jpg
ORGANIZER;CN="go! WestPEI":MAILTO:programcoordinator.wsrc@gmail.com
END:VEVENT
BEGIN:VEVENT
DTSTART;TZID=America/Halifax:20220604T090000
DTEND;TZID=America/Halifax:20220604T100000
DTSTAMP:20260423T044605
CREATED:20220513T150351Z
LAST-MODIFIED:20220513T150351Z
UID:10005830-1654333200-1654336800@gopei.ca
SUMMARY:Club De Velo - Bike Club
DESCRIPTION:Each week the group will meet at the Old Mills Park in Wellington \nMay 14 – Heading towards Miscouche \nMay 21: Heading towards Richmond \nMay 28: Heading towards Summerside \nJune 4: TBD
URL:https://gopei.ca/event-program/club-de-velo-bike-club/2022-06-04/
LOCATION:Prince Edward Island
CATEGORIES:West
ATTACH;FMTTYPE=image/png:https://gopei.ca/wp-content/uploads/2022/05/0001-1.png
END:VEVENT
BEGIN:VEVENT
DTSTART;TZID=America/Halifax:20220606T090000
DTEND;TZID=America/Halifax:20220606T100000
DTSTAMP:20260423T044605
CREATED:20220427T172725Z
LAST-MODIFIED:20220427T182520Z
UID:10005774-1654506000-1654509600@gopei.ca
SUMMARY:Walk-n-Talk
DESCRIPTION:Come join us each week as we walk together on the beautiful Confederation Trail.  Take time to stay healthy and socialize at the same time.  Get to know your neighbour a little better or simply meet new friends.  This is a great opportunity to walk the trails with company. \n 
URL:https://gopei.ca/event-program/walk-n-chat/2022-06-06/
LOCATION:Prince Edward Island
CATEGORIES:West
ATTACH;FMTTYPE=image/jpeg:https://gopei.ca/wp-content/uploads/2022/04/Elmsdale-Walking-Group-Made-with-PosterMyWall-1.jpg
ORGANIZER;CN="go! WestPEI":MAILTO:gowestpei@gmail.com
END:VEVENT
BEGIN:VEVENT
DTSTART;TZID=America/Halifax:20220606T150000
DTEND;TZID=America/Halifax:20220606T160000
DTSTAMP:20260423T044605
CREATED:20220601T134710Z
LAST-MODIFIED:20220601T134710Z
UID:10005832-1654527600-1654531200@gopei.ca
SUMMARY:O'Leary Elementary After School Program
DESCRIPTION:O’Leary Elementary After School Disc Golf Program (Grades 2-6). Students must bring a note to stay after school each day.\n\n\nTo register: complete the below form\n\n\nhttps://forms.gle/Nw71GhJ2Ce4qSsMJ9
URL:https://gopei.ca/event-program/oleary-elementary-after-school-program/2022-06-06/
LOCATION:Prince Edward Island
CATEGORIES:West
ATTACH;FMTTYPE=image/jpeg:https://gopei.ca/wp-content/uploads/2022/06/OLeary-Disc-Golf-Made-with-PosterMyWall.jpg
ORGANIZER;CN="go! WestPEI":MAILTO:gowestpei@gmail.com
END:VEVENT
END:VCALENDAR