BEGIN:VCALENDAR
VERSION:2.0
PRODID:-//go!PEI - ECPv6.15.20//NONSGML v1.0//EN
CALSCALE:GREGORIAN
METHOD:PUBLISH
X-ORIGINAL-URL:https://gopei.ca
X-WR-CALDESC:Events for go!PEI
REFRESH-INTERVAL;VALUE=DURATION:PT1H
X-Robots-Tag:noindex
X-PUBLISHED-TTL:PT1H
BEGIN:VTIMEZONE
TZID:America/Halifax
BEGIN:DAYLIGHT
TZOFFSETFROM:-0400
TZOFFSETTO:-0300
TZNAME:ADT
DTSTART:20260308T060000
END:DAYLIGHT
BEGIN:STANDARD
TZOFFSETFROM:-0300
TZOFFSETTO:-0400
TZNAME:AST
DTSTART:20261101T050000
END:STANDARD
BEGIN:DAYLIGHT
TZOFFSETFROM:-0400
TZOFFSETTO:-0300
TZNAME:ADT
DTSTART:20270314T060000
END:DAYLIGHT
BEGIN:STANDARD
TZOFFSETFROM:-0300
TZOFFSETTO:-0400
TZNAME:AST
DTSTART:20271107T050000
END:STANDARD
BEGIN:DAYLIGHT
TZOFFSETFROM:-0400
TZOFFSETTO:-0300
TZNAME:ADT
DTSTART:20280312T060000
END:DAYLIGHT
BEGIN:STANDARD
TZOFFSETFROM:-0300
TZOFFSETTO:-0400
TZNAME:AST
DTSTART:20281105T050000
END:STANDARD
END:VTIMEZONE
BEGIN:VEVENT
DTSTART;TZID=America/Halifax:20271028T190000
DTEND;TZID=America/Halifax:20271028T200000
DTSTAMP:20260423T024950
CREATED:20241004T164602Z
LAST-MODIFIED:20241004T164759Z
UID:10007885-1824750000-1824753600@gopei.ca
SUMMARY:Kinkora - Multifit
DESCRIPTION:Weekly Fitness program where the style changes week to week \nBootcamp/Tabata/Circuit/Yoga \nwith various implements like: bands/balls/weights \nAll Levels Welcome! \nPay by Donation\, Give What You Can \nIf you have any questions or concerns\, contact:\nKrista Shields\nEmail: kdshields05@gmail.com \nSign up HERE!
URL:https://gopei.ca/event-program/kinkora-multifit/2027-10-28/
LOCATION:Kinkora Community Hall\, Canada
CATEGORIES:Central
GEO:46.323485530618;-63.594944
END:VEVENT
BEGIN:VEVENT
DTSTART;TZID=America/Halifax:20271029T090000
DTEND;TZID=America/Halifax:20271029T110000
DTSTAMP:20260423T024950
CREATED:20251103T094211Z
LAST-MODIFIED:20251103T094211Z
UID:10009758-1824800400-1824807600@gopei.ca
SUMMARY:Pickleball
DESCRIPTION:Come and play Pickleball during the school year. \nDrop in: $3 \nNo sessions: \n\nNovember 6th\, 7th\, 10th\, 11th\, 21st.\nDecember 21st 2025 – January 4th 2026.\nFebruary 16th.\nMarch Break: March 16th-20th.\nApril 3rd\, 6th\, 10th.\nMay 1st\, 18th.
URL:https://gopei.ca/event-program/pickleball-6/2027-10-29/
LOCATION:Murray Harbour Community Centre\, 27 Faye Fraser Street\, Murray Harbour\, Prince Edward Island\, C0A1V0\, Canada
CATEGORIES:East
END:VEVENT
BEGIN:VEVENT
DTSTART;TZID=America/Halifax:20271101T090000
DTEND;TZID=America/Halifax:20271101T110000
DTSTAMP:20260423T024950
CREATED:20251103T094211Z
LAST-MODIFIED:20251103T094211Z
UID:10009759-1825059600-1825066800@gopei.ca
SUMMARY:Pickleball
DESCRIPTION:Come and play Pickleball during the school year. \nDrop in: $3 \nNo sessions: \n\nNovember 6th\, 7th\, 10th\, 11th\, 21st.\nDecember 21st 2025 – January 4th 2026.\nFebruary 16th.\nMarch Break: March 16th-20th.\nApril 3rd\, 6th\, 10th.\nMay 1st\, 18th.
URL:https://gopei.ca/event-program/pickleball-6/2027-11-01/
LOCATION:Murray Harbour Community Centre\, 27 Faye Fraser Street\, Murray Harbour\, Prince Edward Island\, C0A1V0\, Canada
CATEGORIES:East
END:VEVENT
BEGIN:VEVENT
DTSTART;TZID=America/Halifax:20271101T190000
DTEND;TZID=America/Halifax:20271101T200000
DTSTAMP:20260423T024950
CREATED:20241004T161248Z
LAST-MODIFIED:20241009T140732Z
UID:10008671-1825095600-1825099200@gopei.ca
SUMMARY:Kensington - Yin Yang Yoga
DESCRIPTION:Beginner-Intermediate friendly classes! \nCost: By Donation\, Give What You Can \nGo at your own pace \nFocusing on movement/strength/flexibility and relaxation. \nBring your own mat and water \nContact Krista Shields with any questions or concerns\nEmail: kdshields05@gmail.com \nSign up HERE!
URL:https://gopei.ca/event-program/kensington-yin-yang-yoga/2027-11-01/
LOCATION:Murray Christian Center\, Kensington\, Canada
CATEGORIES:Central
GEO:46.439545214621;-63.636843870324
END:VEVENT
BEGIN:VEVENT
DTSTART;TZID=America/Halifax:20271102T090000
DTEND;TZID=America/Halifax:20271102T100000
DTSTAMP:20260423T024950
CREATED:20241009T133134Z
LAST-MODIFIED:20241009T133134Z
UID:10008146-1825146000-1825149600@gopei.ca
SUMMARY:Fitness Class with Heidi
DESCRIPTION:Join Heidi for a low impact fitness class! \nBody weight and Resistance band focused! \nIf you have any questions\, contact GoWest\nwebsite: GoWest\nEmail: gowestpei@gmail.com
URL:https://gopei.ca/event-program/fitness-class-with-heidi/2027-11-02/
LOCATION:St. Louis Community Centre\, 3563 Union Road\, St. Louis\, PE\, Canada
CATEGORIES:West
END:VEVENT
BEGIN:VEVENT
DTSTART;TZID=America/Halifax:20271102T130000
DTEND;TZID=America/Halifax:20271102T140000
DTSTAMP:20260423T024950
CREATED:20241009T133321Z
LAST-MODIFIED:20241009T140359Z
UID:10008407-1825160400-1825164000@gopei.ca
SUMMARY:Fitness Class with Heidi
DESCRIPTION:Join Heidi for a low impact fitness class! \nBody weight and Resistance band focused! \nIf you have any questions\, contact GoWest\nwebsite: GoWest\nEmail: gowestpei@gmail.com
URL:https://gopei.ca/event-program/fitness-class-with-heidi-2/2027-11-02/
LOCATION:Bloomfield – St. Anthony’s Legion
CATEGORIES:West
END:VEVENT
BEGIN:VEVENT
DTSTART;TZID=America/Halifax:20271102T180000
DTEND;TZID=America/Halifax:20271102T200000
DTSTAMP:20260423T024950
CREATED:20251103T094006Z
LAST-MODIFIED:20251103T094006Z
UID:10009133-1825178400-1825185600@gopei.ca
SUMMARY:Pickleball
DESCRIPTION:Come and play Pickleball during the school year. \nDrop in: $2 \nNo sessions: \n\nNovember 6th\, 7th\, 10th\, 11th\, 21st.\nDecember 21st 2025 – January 4th 2026.\nFebruary 16th.\nMarch Break: March 16th-20th.\nApril 3rd\, 6th\, 10th.\nMay 1st\, 18th.\n\n  \n 
URL:https://gopei.ca/event-program/pickleball-5/2027-11-02/
LOCATION:Southern Kings Consolidated School\, 2294 Peters Rd.\, Montague\, PE\, C0A 1R0\, Canada
CATEGORIES:East
END:VEVENT
BEGIN:VEVENT
DTSTART;TZID=America/Halifax:20271103T090000
DTEND;TZID=America/Halifax:20271103T110000
DTSTAMP:20260423T024950
CREATED:20251103T094211Z
LAST-MODIFIED:20251103T094211Z
UID:10009760-1825232400-1825239600@gopei.ca
SUMMARY:Pickleball
DESCRIPTION:Come and play Pickleball during the school year. \nDrop in: $3 \nNo sessions: \n\nNovember 6th\, 7th\, 10th\, 11th\, 21st.\nDecember 21st 2025 – January 4th 2026.\nFebruary 16th.\nMarch Break: March 16th-20th.\nApril 3rd\, 6th\, 10th.\nMay 1st\, 18th.
URL:https://gopei.ca/event-program/pickleball-6/2027-11-03/
LOCATION:Murray Harbour Community Centre\, 27 Faye Fraser Street\, Murray Harbour\, Prince Edward Island\, C0A1V0\, Canada
CATEGORIES:East
END:VEVENT
BEGIN:VEVENT
DTSTART;TZID=America/Halifax:20271104T180000
DTEND;TZID=America/Halifax:20271104T200000
DTSTAMP:20260423T024950
CREATED:20251103T094006Z
LAST-MODIFIED:20251103T094006Z
UID:10009134-1825351200-1825358400@gopei.ca
SUMMARY:Pickleball
DESCRIPTION:Come and play Pickleball during the school year. \nDrop in: $2 \nNo sessions: \n\nNovember 6th\, 7th\, 10th\, 11th\, 21st.\nDecember 21st 2025 – January 4th 2026.\nFebruary 16th.\nMarch Break: March 16th-20th.\nApril 3rd\, 6th\, 10th.\nMay 1st\, 18th.\n\n  \n 
URL:https://gopei.ca/event-program/pickleball-5/2027-11-04/
LOCATION:Southern Kings Consolidated School\, 2294 Peters Rd.\, Montague\, PE\, C0A 1R0\, Canada
CATEGORIES:East
END:VEVENT
BEGIN:VEVENT
DTSTART;TZID=America/Halifax:20271104T190000
DTEND;TZID=America/Halifax:20271104T200000
DTSTAMP:20260423T024950
CREATED:20241004T164602Z
LAST-MODIFIED:20241004T164759Z
UID:10007886-1825354800-1825358400@gopei.ca
SUMMARY:Kinkora - Multifit
DESCRIPTION:Weekly Fitness program where the style changes week to week \nBootcamp/Tabata/Circuit/Yoga \nwith various implements like: bands/balls/weights \nAll Levels Welcome! \nPay by Donation\, Give What You Can \nIf you have any questions or concerns\, contact:\nKrista Shields\nEmail: kdshields05@gmail.com \nSign up HERE!
URL:https://gopei.ca/event-program/kinkora-multifit/2027-11-04/
LOCATION:Kinkora Community Hall\, Canada
CATEGORIES:Central
GEO:46.323485530618;-63.594944
END:VEVENT
BEGIN:VEVENT
DTSTART;TZID=America/Halifax:20271105T090000
DTEND;TZID=America/Halifax:20271105T110000
DTSTAMP:20260423T024950
CREATED:20251103T094211Z
LAST-MODIFIED:20251103T094211Z
UID:10009761-1825405200-1825412400@gopei.ca
SUMMARY:Pickleball
DESCRIPTION:Come and play Pickleball during the school year. \nDrop in: $3 \nNo sessions: \n\nNovember 6th\, 7th\, 10th\, 11th\, 21st.\nDecember 21st 2025 – January 4th 2026.\nFebruary 16th.\nMarch Break: March 16th-20th.\nApril 3rd\, 6th\, 10th.\nMay 1st\, 18th.
URL:https://gopei.ca/event-program/pickleball-6/2027-11-05/
LOCATION:Murray Harbour Community Centre\, 27 Faye Fraser Street\, Murray Harbour\, Prince Edward Island\, C0A1V0\, Canada
CATEGORIES:East
END:VEVENT
BEGIN:VEVENT
DTSTART;TZID=America/Halifax:20271108T090000
DTEND;TZID=America/Halifax:20271108T110000
DTSTAMP:20260423T024950
CREATED:20251103T094211Z
LAST-MODIFIED:20251103T094211Z
UID:10009762-1825664400-1825671600@gopei.ca
SUMMARY:Pickleball
DESCRIPTION:Come and play Pickleball during the school year. \nDrop in: $3 \nNo sessions: \n\nNovember 6th\, 7th\, 10th\, 11th\, 21st.\nDecember 21st 2025 – January 4th 2026.\nFebruary 16th.\nMarch Break: March 16th-20th.\nApril 3rd\, 6th\, 10th.\nMay 1st\, 18th.
URL:https://gopei.ca/event-program/pickleball-6/2027-11-08/
LOCATION:Murray Harbour Community Centre\, 27 Faye Fraser Street\, Murray Harbour\, Prince Edward Island\, C0A1V0\, Canada
CATEGORIES:East
END:VEVENT
BEGIN:VEVENT
DTSTART;TZID=America/Halifax:20271108T190000
DTEND;TZID=America/Halifax:20271108T200000
DTSTAMP:20260423T024950
CREATED:20241004T161248Z
LAST-MODIFIED:20241009T140732Z
UID:10008672-1825700400-1825704000@gopei.ca
SUMMARY:Kensington - Yin Yang Yoga
DESCRIPTION:Beginner-Intermediate friendly classes! \nCost: By Donation\, Give What You Can \nGo at your own pace \nFocusing on movement/strength/flexibility and relaxation. \nBring your own mat and water \nContact Krista Shields with any questions or concerns\nEmail: kdshields05@gmail.com \nSign up HERE!
URL:https://gopei.ca/event-program/kensington-yin-yang-yoga/2027-11-08/
LOCATION:Murray Christian Center\, Kensington\, Canada
CATEGORIES:Central
GEO:46.439545214621;-63.636843870324
END:VEVENT
BEGIN:VEVENT
DTSTART;TZID=America/Halifax:20271109T090000
DTEND;TZID=America/Halifax:20271109T100000
DTSTAMP:20260423T024950
CREATED:20241009T133134Z
LAST-MODIFIED:20241009T133134Z
UID:10008147-1825750800-1825754400@gopei.ca
SUMMARY:Fitness Class with Heidi
DESCRIPTION:Join Heidi for a low impact fitness class! \nBody weight and Resistance band focused! \nIf you have any questions\, contact GoWest\nwebsite: GoWest\nEmail: gowestpei@gmail.com
URL:https://gopei.ca/event-program/fitness-class-with-heidi/2027-11-09/
LOCATION:St. Louis Community Centre\, 3563 Union Road\, St. Louis\, PE\, Canada
CATEGORIES:West
END:VEVENT
BEGIN:VEVENT
DTSTART;TZID=America/Halifax:20271109T130000
DTEND;TZID=America/Halifax:20271109T140000
DTSTAMP:20260423T024950
CREATED:20241009T133321Z
LAST-MODIFIED:20241009T140359Z
UID:10008408-1825765200-1825768800@gopei.ca
SUMMARY:Fitness Class with Heidi
DESCRIPTION:Join Heidi for a low impact fitness class! \nBody weight and Resistance band focused! \nIf you have any questions\, contact GoWest\nwebsite: GoWest\nEmail: gowestpei@gmail.com
URL:https://gopei.ca/event-program/fitness-class-with-heidi-2/2027-11-09/
LOCATION:Bloomfield – St. Anthony’s Legion
CATEGORIES:West
END:VEVENT
BEGIN:VEVENT
DTSTART;TZID=America/Halifax:20271109T180000
DTEND;TZID=America/Halifax:20271109T200000
DTSTAMP:20260423T024950
CREATED:20251103T094006Z
LAST-MODIFIED:20251103T094006Z
UID:10009135-1825783200-1825790400@gopei.ca
SUMMARY:Pickleball
DESCRIPTION:Come and play Pickleball during the school year. \nDrop in: $2 \nNo sessions: \n\nNovember 6th\, 7th\, 10th\, 11th\, 21st.\nDecember 21st 2025 – January 4th 2026.\nFebruary 16th.\nMarch Break: March 16th-20th.\nApril 3rd\, 6th\, 10th.\nMay 1st\, 18th.\n\n  \n 
URL:https://gopei.ca/event-program/pickleball-5/2027-11-09/
LOCATION:Southern Kings Consolidated School\, 2294 Peters Rd.\, Montague\, PE\, C0A 1R0\, Canada
CATEGORIES:East
END:VEVENT
BEGIN:VEVENT
DTSTART;TZID=America/Halifax:20271110T090000
DTEND;TZID=America/Halifax:20271110T110000
DTSTAMP:20260423T024950
CREATED:20251103T094211Z
LAST-MODIFIED:20251103T094211Z
UID:10009763-1825837200-1825844400@gopei.ca
SUMMARY:Pickleball
DESCRIPTION:Come and play Pickleball during the school year. \nDrop in: $3 \nNo sessions: \n\nNovember 6th\, 7th\, 10th\, 11th\, 21st.\nDecember 21st 2025 – January 4th 2026.\nFebruary 16th.\nMarch Break: March 16th-20th.\nApril 3rd\, 6th\, 10th.\nMay 1st\, 18th.
URL:https://gopei.ca/event-program/pickleball-6/2027-11-10/
LOCATION:Murray Harbour Community Centre\, 27 Faye Fraser Street\, Murray Harbour\, Prince Edward Island\, C0A1V0\, Canada
CATEGORIES:East
END:VEVENT
BEGIN:VEVENT
DTSTART;TZID=America/Halifax:20271111T180000
DTEND;TZID=America/Halifax:20271111T200000
DTSTAMP:20260423T024950
CREATED:20251103T094006Z
LAST-MODIFIED:20251103T094006Z
UID:10009136-1825956000-1825963200@gopei.ca
SUMMARY:Pickleball
DESCRIPTION:Come and play Pickleball during the school year. \nDrop in: $2 \nNo sessions: \n\nNovember 6th\, 7th\, 10th\, 11th\, 21st.\nDecember 21st 2025 – January 4th 2026.\nFebruary 16th.\nMarch Break: March 16th-20th.\nApril 3rd\, 6th\, 10th.\nMay 1st\, 18th.\n\n  \n 
URL:https://gopei.ca/event-program/pickleball-5/2027-11-11/
LOCATION:Southern Kings Consolidated School\, 2294 Peters Rd.\, Montague\, PE\, C0A 1R0\, Canada
CATEGORIES:East
END:VEVENT
BEGIN:VEVENT
DTSTART;TZID=America/Halifax:20271111T190000
DTEND;TZID=America/Halifax:20271111T200000
DTSTAMP:20260423T024950
CREATED:20241004T164602Z
LAST-MODIFIED:20241004T164759Z
UID:10007887-1825959600-1825963200@gopei.ca
SUMMARY:Kinkora - Multifit
DESCRIPTION:Weekly Fitness program where the style changes week to week \nBootcamp/Tabata/Circuit/Yoga \nwith various implements like: bands/balls/weights \nAll Levels Welcome! \nPay by Donation\, Give What You Can \nIf you have any questions or concerns\, contact:\nKrista Shields\nEmail: kdshields05@gmail.com \nSign up HERE!
URL:https://gopei.ca/event-program/kinkora-multifit/2027-11-11/
LOCATION:Kinkora Community Hall\, Canada
CATEGORIES:Central
GEO:46.323485530618;-63.594944
END:VEVENT
BEGIN:VEVENT
DTSTART;TZID=America/Halifax:20271112T090000
DTEND;TZID=America/Halifax:20271112T110000
DTSTAMP:20260423T024950
CREATED:20251103T094211Z
LAST-MODIFIED:20251103T094211Z
UID:10009764-1826010000-1826017200@gopei.ca
SUMMARY:Pickleball
DESCRIPTION:Come and play Pickleball during the school year. \nDrop in: $3 \nNo sessions: \n\nNovember 6th\, 7th\, 10th\, 11th\, 21st.\nDecember 21st 2025 – January 4th 2026.\nFebruary 16th.\nMarch Break: March 16th-20th.\nApril 3rd\, 6th\, 10th.\nMay 1st\, 18th.
URL:https://gopei.ca/event-program/pickleball-6/2027-11-12/
LOCATION:Murray Harbour Community Centre\, 27 Faye Fraser Street\, Murray Harbour\, Prince Edward Island\, C0A1V0\, Canada
CATEGORIES:East
END:VEVENT
BEGIN:VEVENT
DTSTART;TZID=America/Halifax:20271115T090000
DTEND;TZID=America/Halifax:20271115T110000
DTSTAMP:20260423T024950
CREATED:20251103T094211Z
LAST-MODIFIED:20251103T094211Z
UID:10009765-1826269200-1826276400@gopei.ca
SUMMARY:Pickleball
DESCRIPTION:Come and play Pickleball during the school year. \nDrop in: $3 \nNo sessions: \n\nNovember 6th\, 7th\, 10th\, 11th\, 21st.\nDecember 21st 2025 – January 4th 2026.\nFebruary 16th.\nMarch Break: March 16th-20th.\nApril 3rd\, 6th\, 10th.\nMay 1st\, 18th.
URL:https://gopei.ca/event-program/pickleball-6/2027-11-15/
LOCATION:Murray Harbour Community Centre\, 27 Faye Fraser Street\, Murray Harbour\, Prince Edward Island\, C0A1V0\, Canada
CATEGORIES:East
END:VEVENT
BEGIN:VEVENT
DTSTART;TZID=America/Halifax:20271115T190000
DTEND;TZID=America/Halifax:20271115T200000
DTSTAMP:20260423T024950
CREATED:20241004T161248Z
LAST-MODIFIED:20241009T140732Z
UID:10008673-1826305200-1826308800@gopei.ca
SUMMARY:Kensington - Yin Yang Yoga
DESCRIPTION:Beginner-Intermediate friendly classes! \nCost: By Donation\, Give What You Can \nGo at your own pace \nFocusing on movement/strength/flexibility and relaxation. \nBring your own mat and water \nContact Krista Shields with any questions or concerns\nEmail: kdshields05@gmail.com \nSign up HERE!
URL:https://gopei.ca/event-program/kensington-yin-yang-yoga/2027-11-15/
LOCATION:Murray Christian Center\, Kensington\, Canada
CATEGORIES:Central
GEO:46.439545214621;-63.636843870324
END:VEVENT
BEGIN:VEVENT
DTSTART;TZID=America/Halifax:20271116T090000
DTEND;TZID=America/Halifax:20271116T100000
DTSTAMP:20260423T024950
CREATED:20241009T133134Z
LAST-MODIFIED:20241009T133134Z
UID:10008148-1826355600-1826359200@gopei.ca
SUMMARY:Fitness Class with Heidi
DESCRIPTION:Join Heidi for a low impact fitness class! \nBody weight and Resistance band focused! \nIf you have any questions\, contact GoWest\nwebsite: GoWest\nEmail: gowestpei@gmail.com
URL:https://gopei.ca/event-program/fitness-class-with-heidi/2027-11-16/
LOCATION:St. Louis Community Centre\, 3563 Union Road\, St. Louis\, PE\, Canada
CATEGORIES:West
END:VEVENT
BEGIN:VEVENT
DTSTART;TZID=America/Halifax:20271116T130000
DTEND;TZID=America/Halifax:20271116T140000
DTSTAMP:20260423T024950
CREATED:20241009T133321Z
LAST-MODIFIED:20241009T140359Z
UID:10008409-1826370000-1826373600@gopei.ca
SUMMARY:Fitness Class with Heidi
DESCRIPTION:Join Heidi for a low impact fitness class! \nBody weight and Resistance band focused! \nIf you have any questions\, contact GoWest\nwebsite: GoWest\nEmail: gowestpei@gmail.com
URL:https://gopei.ca/event-program/fitness-class-with-heidi-2/2027-11-16/
LOCATION:Bloomfield – St. Anthony’s Legion
CATEGORIES:West
END:VEVENT
BEGIN:VEVENT
DTSTART;TZID=America/Halifax:20271116T180000
DTEND;TZID=America/Halifax:20271116T200000
DTSTAMP:20260423T024950
CREATED:20251103T094006Z
LAST-MODIFIED:20251103T094006Z
UID:10009137-1826388000-1826395200@gopei.ca
SUMMARY:Pickleball
DESCRIPTION:Come and play Pickleball during the school year. \nDrop in: $2 \nNo sessions: \n\nNovember 6th\, 7th\, 10th\, 11th\, 21st.\nDecember 21st 2025 – January 4th 2026.\nFebruary 16th.\nMarch Break: March 16th-20th.\nApril 3rd\, 6th\, 10th.\nMay 1st\, 18th.\n\n  \n 
URL:https://gopei.ca/event-program/pickleball-5/2027-11-16/
LOCATION:Southern Kings Consolidated School\, 2294 Peters Rd.\, Montague\, PE\, C0A 1R0\, Canada
CATEGORIES:East
END:VEVENT
BEGIN:VEVENT
DTSTART;TZID=America/Halifax:20271117T090000
DTEND;TZID=America/Halifax:20271117T110000
DTSTAMP:20260423T024950
CREATED:20251103T094211Z
LAST-MODIFIED:20251103T094211Z
UID:10009766-1826442000-1826449200@gopei.ca
SUMMARY:Pickleball
DESCRIPTION:Come and play Pickleball during the school year. \nDrop in: $3 \nNo sessions: \n\nNovember 6th\, 7th\, 10th\, 11th\, 21st.\nDecember 21st 2025 – January 4th 2026.\nFebruary 16th.\nMarch Break: March 16th-20th.\nApril 3rd\, 6th\, 10th.\nMay 1st\, 18th.
URL:https://gopei.ca/event-program/pickleball-6/2027-11-17/
LOCATION:Murray Harbour Community Centre\, 27 Faye Fraser Street\, Murray Harbour\, Prince Edward Island\, C0A1V0\, Canada
CATEGORIES:East
END:VEVENT
BEGIN:VEVENT
DTSTART;TZID=America/Halifax:20271118T180000
DTEND;TZID=America/Halifax:20271118T200000
DTSTAMP:20260423T024950
CREATED:20251103T094006Z
LAST-MODIFIED:20251103T094006Z
UID:10009138-1826560800-1826568000@gopei.ca
SUMMARY:Pickleball
DESCRIPTION:Come and play Pickleball during the school year. \nDrop in: $2 \nNo sessions: \n\nNovember 6th\, 7th\, 10th\, 11th\, 21st.\nDecember 21st 2025 – January 4th 2026.\nFebruary 16th.\nMarch Break: March 16th-20th.\nApril 3rd\, 6th\, 10th.\nMay 1st\, 18th.\n\n  \n 
URL:https://gopei.ca/event-program/pickleball-5/2027-11-18/
LOCATION:Southern Kings Consolidated School\, 2294 Peters Rd.\, Montague\, PE\, C0A 1R0\, Canada
CATEGORIES:East
END:VEVENT
BEGIN:VEVENT
DTSTART;TZID=America/Halifax:20271118T190000
DTEND;TZID=America/Halifax:20271118T200000
DTSTAMP:20260423T024950
CREATED:20241004T164602Z
LAST-MODIFIED:20241004T164759Z
UID:10007888-1826564400-1826568000@gopei.ca
SUMMARY:Kinkora - Multifit
DESCRIPTION:Weekly Fitness program where the style changes week to week \nBootcamp/Tabata/Circuit/Yoga \nwith various implements like: bands/balls/weights \nAll Levels Welcome! \nPay by Donation\, Give What You Can \nIf you have any questions or concerns\, contact:\nKrista Shields\nEmail: kdshields05@gmail.com \nSign up HERE!
URL:https://gopei.ca/event-program/kinkora-multifit/2027-11-18/
LOCATION:Kinkora Community Hall\, Canada
CATEGORIES:Central
GEO:46.323485530618;-63.594944
END:VEVENT
BEGIN:VEVENT
DTSTART;TZID=America/Halifax:20271119T090000
DTEND;TZID=America/Halifax:20271119T110000
DTSTAMP:20260423T024950
CREATED:20251103T094211Z
LAST-MODIFIED:20251103T094211Z
UID:10009767-1826614800-1826622000@gopei.ca
SUMMARY:Pickleball
DESCRIPTION:Come and play Pickleball during the school year. \nDrop in: $3 \nNo sessions: \n\nNovember 6th\, 7th\, 10th\, 11th\, 21st.\nDecember 21st 2025 – January 4th 2026.\nFebruary 16th.\nMarch Break: March 16th-20th.\nApril 3rd\, 6th\, 10th.\nMay 1st\, 18th.
URL:https://gopei.ca/event-program/pickleball-6/2027-11-19/
LOCATION:Murray Harbour Community Centre\, 27 Faye Fraser Street\, Murray Harbour\, Prince Edward Island\, C0A1V0\, Canada
CATEGORIES:East
END:VEVENT
BEGIN:VEVENT
DTSTART;TZID=America/Halifax:20271122T090000
DTEND;TZID=America/Halifax:20271122T110000
DTSTAMP:20260423T024950
CREATED:20251103T094211Z
LAST-MODIFIED:20251103T094211Z
UID:10009768-1826874000-1826881200@gopei.ca
SUMMARY:Pickleball
DESCRIPTION:Come and play Pickleball during the school year. \nDrop in: $3 \nNo sessions: \n\nNovember 6th\, 7th\, 10th\, 11th\, 21st.\nDecember 21st 2025 – January 4th 2026.\nFebruary 16th.\nMarch Break: March 16th-20th.\nApril 3rd\, 6th\, 10th.\nMay 1st\, 18th.
URL:https://gopei.ca/event-program/pickleball-6/2027-11-22/
LOCATION:Murray Harbour Community Centre\, 27 Faye Fraser Street\, Murray Harbour\, Prince Edward Island\, C0A1V0\, Canada
CATEGORIES:East
END:VEVENT
END:VCALENDAR