BEGIN:VCALENDAR
VERSION:2.0
PRODID:-//go!PEI - ECPv6.15.20//NONSGML v1.0//EN
CALSCALE:GREGORIAN
METHOD:PUBLISH
X-ORIGINAL-URL:https://gopei.ca
X-WR-CALDESC:Events for go!PEI
REFRESH-INTERVAL;VALUE=DURATION:PT1H
X-Robots-Tag:noindex
X-PUBLISHED-TTL:PT1H
BEGIN:VTIMEZONE
TZID:America/Halifax
BEGIN:DAYLIGHT
TZOFFSETFROM:-0400
TZOFFSETTO:-0300
TZNAME:ADT
DTSTART:20270314T060000
END:DAYLIGHT
BEGIN:STANDARD
TZOFFSETFROM:-0300
TZOFFSETTO:-0400
TZNAME:AST
DTSTART:20271107T050000
END:STANDARD
BEGIN:DAYLIGHT
TZOFFSETFROM:-0400
TZOFFSETTO:-0300
TZNAME:ADT
DTSTART:20280312T060000
END:DAYLIGHT
BEGIN:STANDARD
TZOFFSETFROM:-0300
TZOFFSETTO:-0400
TZNAME:AST
DTSTART:20281105T050000
END:STANDARD
BEGIN:DAYLIGHT
TZOFFSETFROM:-0400
TZOFFSETTO:-0300
TZNAME:ADT
DTSTART:20290311T060000
END:DAYLIGHT
BEGIN:STANDARD
TZOFFSETFROM:-0300
TZOFFSETTO:-0400
TZNAME:AST
DTSTART:20291104T050000
END:STANDARD
END:VTIMEZONE
BEGIN:VEVENT
DTSTART;TZID=America/Halifax:20280110T090000
DTEND;TZID=America/Halifax:20280110T110000
DTSTAMP:20260423T123020
CREATED:20251103T094211Z
LAST-MODIFIED:20251103T094211Z
UID:10009789-1831107600-1831114800@gopei.ca
SUMMARY:Pickleball
DESCRIPTION:Come and play Pickleball during the school year. \nDrop in: $3 \nNo sessions: \n\nNovember 6th\, 7th\, 10th\, 11th\, 21st.\nDecember 21st 2025 – January 4th 2026.\nFebruary 16th.\nMarch Break: March 16th-20th.\nApril 3rd\, 6th\, 10th.\nMay 1st\, 18th.
URL:https://gopei.ca/event-program/pickleball-6/2028-01-10/
LOCATION:Murray Harbour Community Centre\, 27 Faye Fraser Street\, Murray Harbour\, Prince Edward Island\, C0A1V0\, Canada
CATEGORIES:East
END:VEVENT
BEGIN:VEVENT
DTSTART;TZID=America/Halifax:20280110T190000
DTEND;TZID=America/Halifax:20280110T200000
DTSTAMP:20260423T123020
CREATED:20241004T161248Z
LAST-MODIFIED:20241009T140732Z
UID:10008681-1831143600-1831147200@gopei.ca
SUMMARY:Kensington - Yin Yang Yoga
DESCRIPTION:Beginner-Intermediate friendly classes! \nCost: By Donation\, Give What You Can \nGo at your own pace \nFocusing on movement/strength/flexibility and relaxation. \nBring your own mat and water \nContact Krista Shields with any questions or concerns\nEmail: kdshields05@gmail.com \nSign up HERE!
URL:https://gopei.ca/event-program/kensington-yin-yang-yoga/2028-01-10/
LOCATION:Murray Christian Center\, Kensington\, Canada
CATEGORIES:Central
GEO:46.439545214621;-63.636843870324
END:VEVENT
BEGIN:VEVENT
DTSTART;TZID=America/Halifax:20280111T090000
DTEND;TZID=America/Halifax:20280111T100000
DTSTAMP:20260423T123020
CREATED:20241009T133134Z
LAST-MODIFIED:20241009T133134Z
UID:10008156-1831194000-1831197600@gopei.ca
SUMMARY:Fitness Class with Heidi
DESCRIPTION:Join Heidi for a low impact fitness class! \nBody weight and Resistance band focused! \nIf you have any questions\, contact GoWest\nwebsite: GoWest\nEmail: gowestpei@gmail.com
URL:https://gopei.ca/event-program/fitness-class-with-heidi/2028-01-11/
LOCATION:St. Louis Community Centre\, 3563 Union Road\, St. Louis\, PE\, Canada
CATEGORIES:West
END:VEVENT
BEGIN:VEVENT
DTSTART;TZID=America/Halifax:20280111T130000
DTEND;TZID=America/Halifax:20280111T140000
DTSTAMP:20260423T123020
CREATED:20241009T133321Z
LAST-MODIFIED:20241009T140359Z
UID:10008417-1831208400-1831212000@gopei.ca
SUMMARY:Fitness Class with Heidi
DESCRIPTION:Join Heidi for a low impact fitness class! \nBody weight and Resistance band focused! \nIf you have any questions\, contact GoWest\nwebsite: GoWest\nEmail: gowestpei@gmail.com
URL:https://gopei.ca/event-program/fitness-class-with-heidi-2/2028-01-11/
LOCATION:Bloomfield – St. Anthony’s Legion
CATEGORIES:West
END:VEVENT
BEGIN:VEVENT
DTSTART;TZID=America/Halifax:20280111T180000
DTEND;TZID=America/Halifax:20280111T200000
DTSTAMP:20260423T123020
CREATED:20251103T094006Z
LAST-MODIFIED:20251103T094006Z
UID:10009153-1831226400-1831233600@gopei.ca
SUMMARY:Pickleball
DESCRIPTION:Come and play Pickleball during the school year. \nDrop in: $2 \nNo sessions: \n\nNovember 6th\, 7th\, 10th\, 11th\, 21st.\nDecember 21st 2025 – January 4th 2026.\nFebruary 16th.\nMarch Break: March 16th-20th.\nApril 3rd\, 6th\, 10th.\nMay 1st\, 18th.\n\n  \n 
URL:https://gopei.ca/event-program/pickleball-5/2028-01-11/
LOCATION:Southern Kings Consolidated School\, 2294 Peters Rd.\, Montague\, PE\, C0A 1R0\, Canada
CATEGORIES:East
END:VEVENT
BEGIN:VEVENT
DTSTART;TZID=America/Halifax:20280112T090000
DTEND;TZID=America/Halifax:20280112T110000
DTSTAMP:20260423T123020
CREATED:20251103T094211Z
LAST-MODIFIED:20251103T094211Z
UID:10009790-1831280400-1831287600@gopei.ca
SUMMARY:Pickleball
DESCRIPTION:Come and play Pickleball during the school year. \nDrop in: $3 \nNo sessions: \n\nNovember 6th\, 7th\, 10th\, 11th\, 21st.\nDecember 21st 2025 – January 4th 2026.\nFebruary 16th.\nMarch Break: March 16th-20th.\nApril 3rd\, 6th\, 10th.\nMay 1st\, 18th.
URL:https://gopei.ca/event-program/pickleball-6/2028-01-12/
LOCATION:Murray Harbour Community Centre\, 27 Faye Fraser Street\, Murray Harbour\, Prince Edward Island\, C0A1V0\, Canada
CATEGORIES:East
END:VEVENT
BEGIN:VEVENT
DTSTART;TZID=America/Halifax:20280113T180000
DTEND;TZID=America/Halifax:20280113T200000
DTSTAMP:20260423T123020
CREATED:20251103T094006Z
LAST-MODIFIED:20251103T094006Z
UID:10009154-1831399200-1831406400@gopei.ca
SUMMARY:Pickleball
DESCRIPTION:Come and play Pickleball during the school year. \nDrop in: $2 \nNo sessions: \n\nNovember 6th\, 7th\, 10th\, 11th\, 21st.\nDecember 21st 2025 – January 4th 2026.\nFebruary 16th.\nMarch Break: March 16th-20th.\nApril 3rd\, 6th\, 10th.\nMay 1st\, 18th.\n\n  \n 
URL:https://gopei.ca/event-program/pickleball-5/2028-01-13/
LOCATION:Southern Kings Consolidated School\, 2294 Peters Rd.\, Montague\, PE\, C0A 1R0\, Canada
CATEGORIES:East
END:VEVENT
BEGIN:VEVENT
DTSTART;TZID=America/Halifax:20280113T190000
DTEND;TZID=America/Halifax:20280113T200000
DTSTAMP:20260423T123020
CREATED:20241004T164602Z
LAST-MODIFIED:20241004T164759Z
UID:10007896-1831402800-1831406400@gopei.ca
SUMMARY:Kinkora - Multifit
DESCRIPTION:Weekly Fitness program where the style changes week to week \nBootcamp/Tabata/Circuit/Yoga \nwith various implements like: bands/balls/weights \nAll Levels Welcome! \nPay by Donation\, Give What You Can \nIf you have any questions or concerns\, contact:\nKrista Shields\nEmail: kdshields05@gmail.com \nSign up HERE!
URL:https://gopei.ca/event-program/kinkora-multifit/2028-01-13/
LOCATION:Kinkora Community Hall\, Canada
CATEGORIES:Central
GEO:46.323485530618;-63.594944
END:VEVENT
BEGIN:VEVENT
DTSTART;TZID=America/Halifax:20280114T090000
DTEND;TZID=America/Halifax:20280114T110000
DTSTAMP:20260423T123020
CREATED:20251103T094211Z
LAST-MODIFIED:20251103T094211Z
UID:10009791-1831453200-1831460400@gopei.ca
SUMMARY:Pickleball
DESCRIPTION:Come and play Pickleball during the school year. \nDrop in: $3 \nNo sessions: \n\nNovember 6th\, 7th\, 10th\, 11th\, 21st.\nDecember 21st 2025 – January 4th 2026.\nFebruary 16th.\nMarch Break: March 16th-20th.\nApril 3rd\, 6th\, 10th.\nMay 1st\, 18th.
URL:https://gopei.ca/event-program/pickleball-6/2028-01-14/
LOCATION:Murray Harbour Community Centre\, 27 Faye Fraser Street\, Murray Harbour\, Prince Edward Island\, C0A1V0\, Canada
CATEGORIES:East
END:VEVENT
BEGIN:VEVENT
DTSTART;TZID=America/Halifax:20280117T090000
DTEND;TZID=America/Halifax:20280117T110000
DTSTAMP:20260423T123020
CREATED:20251103T094211Z
LAST-MODIFIED:20251103T094211Z
UID:10009792-1831712400-1831719600@gopei.ca
SUMMARY:Pickleball
DESCRIPTION:Come and play Pickleball during the school year. \nDrop in: $3 \nNo sessions: \n\nNovember 6th\, 7th\, 10th\, 11th\, 21st.\nDecember 21st 2025 – January 4th 2026.\nFebruary 16th.\nMarch Break: March 16th-20th.\nApril 3rd\, 6th\, 10th.\nMay 1st\, 18th.
URL:https://gopei.ca/event-program/pickleball-6/2028-01-17/
LOCATION:Murray Harbour Community Centre\, 27 Faye Fraser Street\, Murray Harbour\, Prince Edward Island\, C0A1V0\, Canada
CATEGORIES:East
END:VEVENT
BEGIN:VEVENT
DTSTART;TZID=America/Halifax:20280117T190000
DTEND;TZID=America/Halifax:20280117T200000
DTSTAMP:20260423T123020
CREATED:20241004T161248Z
LAST-MODIFIED:20241009T140732Z
UID:10008682-1831748400-1831752000@gopei.ca
SUMMARY:Kensington - Yin Yang Yoga
DESCRIPTION:Beginner-Intermediate friendly classes! \nCost: By Donation\, Give What You Can \nGo at your own pace \nFocusing on movement/strength/flexibility and relaxation. \nBring your own mat and water \nContact Krista Shields with any questions or concerns\nEmail: kdshields05@gmail.com \nSign up HERE!
URL:https://gopei.ca/event-program/kensington-yin-yang-yoga/2028-01-17/
LOCATION:Murray Christian Center\, Kensington\, Canada
CATEGORIES:Central
GEO:46.439545214621;-63.636843870324
END:VEVENT
BEGIN:VEVENT
DTSTART;TZID=America/Halifax:20280118T090000
DTEND;TZID=America/Halifax:20280118T100000
DTSTAMP:20260423T123020
CREATED:20241009T133134Z
LAST-MODIFIED:20241009T133134Z
UID:10008157-1831798800-1831802400@gopei.ca
SUMMARY:Fitness Class with Heidi
DESCRIPTION:Join Heidi for a low impact fitness class! \nBody weight and Resistance band focused! \nIf you have any questions\, contact GoWest\nwebsite: GoWest\nEmail: gowestpei@gmail.com
URL:https://gopei.ca/event-program/fitness-class-with-heidi/2028-01-18/
LOCATION:St. Louis Community Centre\, 3563 Union Road\, St. Louis\, PE\, Canada
CATEGORIES:West
END:VEVENT
BEGIN:VEVENT
DTSTART;TZID=America/Halifax:20280118T130000
DTEND;TZID=America/Halifax:20280118T140000
DTSTAMP:20260423T123020
CREATED:20241009T133321Z
LAST-MODIFIED:20241009T140359Z
UID:10008418-1831813200-1831816800@gopei.ca
SUMMARY:Fitness Class with Heidi
DESCRIPTION:Join Heidi for a low impact fitness class! \nBody weight and Resistance band focused! \nIf you have any questions\, contact GoWest\nwebsite: GoWest\nEmail: gowestpei@gmail.com
URL:https://gopei.ca/event-program/fitness-class-with-heidi-2/2028-01-18/
LOCATION:Bloomfield – St. Anthony’s Legion
CATEGORIES:West
END:VEVENT
BEGIN:VEVENT
DTSTART;TZID=America/Halifax:20280118T180000
DTEND;TZID=America/Halifax:20280118T200000
DTSTAMP:20260423T123020
CREATED:20251103T094006Z
LAST-MODIFIED:20251103T094006Z
UID:10009155-1831831200-1831838400@gopei.ca
SUMMARY:Pickleball
DESCRIPTION:Come and play Pickleball during the school year. \nDrop in: $2 \nNo sessions: \n\nNovember 6th\, 7th\, 10th\, 11th\, 21st.\nDecember 21st 2025 – January 4th 2026.\nFebruary 16th.\nMarch Break: March 16th-20th.\nApril 3rd\, 6th\, 10th.\nMay 1st\, 18th.\n\n  \n 
URL:https://gopei.ca/event-program/pickleball-5/2028-01-18/
LOCATION:Southern Kings Consolidated School\, 2294 Peters Rd.\, Montague\, PE\, C0A 1R0\, Canada
CATEGORIES:East
END:VEVENT
BEGIN:VEVENT
DTSTART;TZID=America/Halifax:20280119T090000
DTEND;TZID=America/Halifax:20280119T110000
DTSTAMP:20260423T123020
CREATED:20251103T094211Z
LAST-MODIFIED:20251103T094211Z
UID:10009793-1831885200-1831892400@gopei.ca
SUMMARY:Pickleball
DESCRIPTION:Come and play Pickleball during the school year. \nDrop in: $3 \nNo sessions: \n\nNovember 6th\, 7th\, 10th\, 11th\, 21st.\nDecember 21st 2025 – January 4th 2026.\nFebruary 16th.\nMarch Break: March 16th-20th.\nApril 3rd\, 6th\, 10th.\nMay 1st\, 18th.
URL:https://gopei.ca/event-program/pickleball-6/2028-01-19/
LOCATION:Murray Harbour Community Centre\, 27 Faye Fraser Street\, Murray Harbour\, Prince Edward Island\, C0A1V0\, Canada
CATEGORIES:East
END:VEVENT
BEGIN:VEVENT
DTSTART;TZID=America/Halifax:20280120T180000
DTEND;TZID=America/Halifax:20280120T200000
DTSTAMP:20260423T123020
CREATED:20251103T094006Z
LAST-MODIFIED:20251103T094006Z
UID:10009156-1832004000-1832011200@gopei.ca
SUMMARY:Pickleball
DESCRIPTION:Come and play Pickleball during the school year. \nDrop in: $2 \nNo sessions: \n\nNovember 6th\, 7th\, 10th\, 11th\, 21st.\nDecember 21st 2025 – January 4th 2026.\nFebruary 16th.\nMarch Break: March 16th-20th.\nApril 3rd\, 6th\, 10th.\nMay 1st\, 18th.\n\n  \n 
URL:https://gopei.ca/event-program/pickleball-5/2028-01-20/
LOCATION:Southern Kings Consolidated School\, 2294 Peters Rd.\, Montague\, PE\, C0A 1R0\, Canada
CATEGORIES:East
END:VEVENT
BEGIN:VEVENT
DTSTART;TZID=America/Halifax:20280120T190000
DTEND;TZID=America/Halifax:20280120T200000
DTSTAMP:20260423T123020
CREATED:20241004T164602Z
LAST-MODIFIED:20241004T164759Z
UID:10007897-1832007600-1832011200@gopei.ca
SUMMARY:Kinkora - Multifit
DESCRIPTION:Weekly Fitness program where the style changes week to week \nBootcamp/Tabata/Circuit/Yoga \nwith various implements like: bands/balls/weights \nAll Levels Welcome! \nPay by Donation\, Give What You Can \nIf you have any questions or concerns\, contact:\nKrista Shields\nEmail: kdshields05@gmail.com \nSign up HERE!
URL:https://gopei.ca/event-program/kinkora-multifit/2028-01-20/
LOCATION:Kinkora Community Hall\, Canada
CATEGORIES:Central
GEO:46.323485530618;-63.594944
END:VEVENT
BEGIN:VEVENT
DTSTART;TZID=America/Halifax:20280121T090000
DTEND;TZID=America/Halifax:20280121T110000
DTSTAMP:20260423T123020
CREATED:20251103T094211Z
LAST-MODIFIED:20251103T094211Z
UID:10009794-1832058000-1832065200@gopei.ca
SUMMARY:Pickleball
DESCRIPTION:Come and play Pickleball during the school year. \nDrop in: $3 \nNo sessions: \n\nNovember 6th\, 7th\, 10th\, 11th\, 21st.\nDecember 21st 2025 – January 4th 2026.\nFebruary 16th.\nMarch Break: March 16th-20th.\nApril 3rd\, 6th\, 10th.\nMay 1st\, 18th.
URL:https://gopei.ca/event-program/pickleball-6/2028-01-21/
LOCATION:Murray Harbour Community Centre\, 27 Faye Fraser Street\, Murray Harbour\, Prince Edward Island\, C0A1V0\, Canada
CATEGORIES:East
END:VEVENT
BEGIN:VEVENT
DTSTART;TZID=America/Halifax:20280124T090000
DTEND;TZID=America/Halifax:20280124T110000
DTSTAMP:20260423T123020
CREATED:20251103T094211Z
LAST-MODIFIED:20251103T094211Z
UID:10009795-1832317200-1832324400@gopei.ca
SUMMARY:Pickleball
DESCRIPTION:Come and play Pickleball during the school year. \nDrop in: $3 \nNo sessions: \n\nNovember 6th\, 7th\, 10th\, 11th\, 21st.\nDecember 21st 2025 – January 4th 2026.\nFebruary 16th.\nMarch Break: March 16th-20th.\nApril 3rd\, 6th\, 10th.\nMay 1st\, 18th.
URL:https://gopei.ca/event-program/pickleball-6/2028-01-24/
LOCATION:Murray Harbour Community Centre\, 27 Faye Fraser Street\, Murray Harbour\, Prince Edward Island\, C0A1V0\, Canada
CATEGORIES:East
END:VEVENT
BEGIN:VEVENT
DTSTART;TZID=America/Halifax:20280124T190000
DTEND;TZID=America/Halifax:20280124T200000
DTSTAMP:20260423T123020
CREATED:20241004T161248Z
LAST-MODIFIED:20241009T140732Z
UID:10008683-1832353200-1832356800@gopei.ca
SUMMARY:Kensington - Yin Yang Yoga
DESCRIPTION:Beginner-Intermediate friendly classes! \nCost: By Donation\, Give What You Can \nGo at your own pace \nFocusing on movement/strength/flexibility and relaxation. \nBring your own mat and water \nContact Krista Shields with any questions or concerns\nEmail: kdshields05@gmail.com \nSign up HERE!
URL:https://gopei.ca/event-program/kensington-yin-yang-yoga/2028-01-24/
LOCATION:Murray Christian Center\, Kensington\, Canada
CATEGORIES:Central
GEO:46.439545214621;-63.636843870324
END:VEVENT
BEGIN:VEVENT
DTSTART;TZID=America/Halifax:20280125T090000
DTEND;TZID=America/Halifax:20280125T100000
DTSTAMP:20260423T123020
CREATED:20241009T133134Z
LAST-MODIFIED:20241009T133134Z
UID:10008158-1832403600-1832407200@gopei.ca
SUMMARY:Fitness Class with Heidi
DESCRIPTION:Join Heidi for a low impact fitness class! \nBody weight and Resistance band focused! \nIf you have any questions\, contact GoWest\nwebsite: GoWest\nEmail: gowestpei@gmail.com
URL:https://gopei.ca/event-program/fitness-class-with-heidi/2028-01-25/
LOCATION:St. Louis Community Centre\, 3563 Union Road\, St. Louis\, PE\, Canada
CATEGORIES:West
END:VEVENT
BEGIN:VEVENT
DTSTART;TZID=America/Halifax:20280125T130000
DTEND;TZID=America/Halifax:20280125T140000
DTSTAMP:20260423T123020
CREATED:20241009T133321Z
LAST-MODIFIED:20241009T140359Z
UID:10008419-1832418000-1832421600@gopei.ca
SUMMARY:Fitness Class with Heidi
DESCRIPTION:Join Heidi for a low impact fitness class! \nBody weight and Resistance band focused! \nIf you have any questions\, contact GoWest\nwebsite: GoWest\nEmail: gowestpei@gmail.com
URL:https://gopei.ca/event-program/fitness-class-with-heidi-2/2028-01-25/
LOCATION:Bloomfield – St. Anthony’s Legion
CATEGORIES:West
END:VEVENT
BEGIN:VEVENT
DTSTART;TZID=America/Halifax:20280125T180000
DTEND;TZID=America/Halifax:20280125T200000
DTSTAMP:20260423T123020
CREATED:20251103T094006Z
LAST-MODIFIED:20251103T094006Z
UID:10009157-1832436000-1832443200@gopei.ca
SUMMARY:Pickleball
DESCRIPTION:Come and play Pickleball during the school year. \nDrop in: $2 \nNo sessions: \n\nNovember 6th\, 7th\, 10th\, 11th\, 21st.\nDecember 21st 2025 – January 4th 2026.\nFebruary 16th.\nMarch Break: March 16th-20th.\nApril 3rd\, 6th\, 10th.\nMay 1st\, 18th.\n\n  \n 
URL:https://gopei.ca/event-program/pickleball-5/2028-01-25/
LOCATION:Southern Kings Consolidated School\, 2294 Peters Rd.\, Montague\, PE\, C0A 1R0\, Canada
CATEGORIES:East
END:VEVENT
BEGIN:VEVENT
DTSTART;TZID=America/Halifax:20280126T090000
DTEND;TZID=America/Halifax:20280126T110000
DTSTAMP:20260423T123020
CREATED:20251103T094211Z
LAST-MODIFIED:20251103T094211Z
UID:10009796-1832490000-1832497200@gopei.ca
SUMMARY:Pickleball
DESCRIPTION:Come and play Pickleball during the school year. \nDrop in: $3 \nNo sessions: \n\nNovember 6th\, 7th\, 10th\, 11th\, 21st.\nDecember 21st 2025 – January 4th 2026.\nFebruary 16th.\nMarch Break: March 16th-20th.\nApril 3rd\, 6th\, 10th.\nMay 1st\, 18th.
URL:https://gopei.ca/event-program/pickleball-6/2028-01-26/
LOCATION:Murray Harbour Community Centre\, 27 Faye Fraser Street\, Murray Harbour\, Prince Edward Island\, C0A1V0\, Canada
CATEGORIES:East
END:VEVENT
BEGIN:VEVENT
DTSTART;TZID=America/Halifax:20280127T180000
DTEND;TZID=America/Halifax:20280127T200000
DTSTAMP:20260423T123020
CREATED:20251103T094006Z
LAST-MODIFIED:20251103T094006Z
UID:10009158-1832608800-1832616000@gopei.ca
SUMMARY:Pickleball
DESCRIPTION:Come and play Pickleball during the school year. \nDrop in: $2 \nNo sessions: \n\nNovember 6th\, 7th\, 10th\, 11th\, 21st.\nDecember 21st 2025 – January 4th 2026.\nFebruary 16th.\nMarch Break: March 16th-20th.\nApril 3rd\, 6th\, 10th.\nMay 1st\, 18th.\n\n  \n 
URL:https://gopei.ca/event-program/pickleball-5/2028-01-27/
LOCATION:Southern Kings Consolidated School\, 2294 Peters Rd.\, Montague\, PE\, C0A 1R0\, Canada
CATEGORIES:East
END:VEVENT
BEGIN:VEVENT
DTSTART;TZID=America/Halifax:20280127T190000
DTEND;TZID=America/Halifax:20280127T200000
DTSTAMP:20260423T123020
CREATED:20241004T164602Z
LAST-MODIFIED:20241004T164759Z
UID:10007898-1832612400-1832616000@gopei.ca
SUMMARY:Kinkora - Multifit
DESCRIPTION:Weekly Fitness program where the style changes week to week \nBootcamp/Tabata/Circuit/Yoga \nwith various implements like: bands/balls/weights \nAll Levels Welcome! \nPay by Donation\, Give What You Can \nIf you have any questions or concerns\, contact:\nKrista Shields\nEmail: kdshields05@gmail.com \nSign up HERE!
URL:https://gopei.ca/event-program/kinkora-multifit/2028-01-27/
LOCATION:Kinkora Community Hall\, Canada
CATEGORIES:Central
GEO:46.323485530618;-63.594944
END:VEVENT
BEGIN:VEVENT
DTSTART;TZID=America/Halifax:20280128T090000
DTEND;TZID=America/Halifax:20280128T110000
DTSTAMP:20260423T123020
CREATED:20251103T094211Z
LAST-MODIFIED:20251103T094211Z
UID:10009797-1832662800-1832670000@gopei.ca
SUMMARY:Pickleball
DESCRIPTION:Come and play Pickleball during the school year. \nDrop in: $3 \nNo sessions: \n\nNovember 6th\, 7th\, 10th\, 11th\, 21st.\nDecember 21st 2025 – January 4th 2026.\nFebruary 16th.\nMarch Break: March 16th-20th.\nApril 3rd\, 6th\, 10th.\nMay 1st\, 18th.
URL:https://gopei.ca/event-program/pickleball-6/2028-01-28/
LOCATION:Murray Harbour Community Centre\, 27 Faye Fraser Street\, Murray Harbour\, Prince Edward Island\, C0A1V0\, Canada
CATEGORIES:East
END:VEVENT
BEGIN:VEVENT
DTSTART;TZID=America/Halifax:20280131T090000
DTEND;TZID=America/Halifax:20280131T110000
DTSTAMP:20260423T123020
CREATED:20251103T094211Z
LAST-MODIFIED:20251103T094211Z
UID:10009798-1832922000-1832929200@gopei.ca
SUMMARY:Pickleball
DESCRIPTION:Come and play Pickleball during the school year. \nDrop in: $3 \nNo sessions: \n\nNovember 6th\, 7th\, 10th\, 11th\, 21st.\nDecember 21st 2025 – January 4th 2026.\nFebruary 16th.\nMarch Break: March 16th-20th.\nApril 3rd\, 6th\, 10th.\nMay 1st\, 18th.
URL:https://gopei.ca/event-program/pickleball-6/2028-01-31/
LOCATION:Murray Harbour Community Centre\, 27 Faye Fraser Street\, Murray Harbour\, Prince Edward Island\, C0A1V0\, Canada
CATEGORIES:East
END:VEVENT
BEGIN:VEVENT
DTSTART;TZID=America/Halifax:20280131T190000
DTEND;TZID=America/Halifax:20280131T200000
DTSTAMP:20260423T123020
CREATED:20241004T161248Z
LAST-MODIFIED:20241009T140732Z
UID:10008684-1832958000-1832961600@gopei.ca
SUMMARY:Kensington - Yin Yang Yoga
DESCRIPTION:Beginner-Intermediate friendly classes! \nCost: By Donation\, Give What You Can \nGo at your own pace \nFocusing on movement/strength/flexibility and relaxation. \nBring your own mat and water \nContact Krista Shields with any questions or concerns\nEmail: kdshields05@gmail.com \nSign up HERE!
URL:https://gopei.ca/event-program/kensington-yin-yang-yoga/2028-01-31/
LOCATION:Murray Christian Center\, Kensington\, Canada
CATEGORIES:Central
GEO:46.439545214621;-63.636843870324
END:VEVENT
BEGIN:VEVENT
DTSTART;TZID=America/Halifax:20280201T090000
DTEND;TZID=America/Halifax:20280201T100000
DTSTAMP:20260423T123020
CREATED:20241009T133134Z
LAST-MODIFIED:20241009T133134Z
UID:10008159-1833008400-1833012000@gopei.ca
SUMMARY:Fitness Class with Heidi
DESCRIPTION:Join Heidi for a low impact fitness class! \nBody weight and Resistance band focused! \nIf you have any questions\, contact GoWest\nwebsite: GoWest\nEmail: gowestpei@gmail.com
URL:https://gopei.ca/event-program/fitness-class-with-heidi/2028-02-01/
LOCATION:St. Louis Community Centre\, 3563 Union Road\, St. Louis\, PE\, Canada
CATEGORIES:West
END:VEVENT
END:VCALENDAR