BEGIN:VCALENDAR
VERSION:2.0
PRODID:-//go!PEI - ECPv6.15.20//NONSGML v1.0//EN
CALSCALE:GREGORIAN
METHOD:PUBLISH
X-ORIGINAL-URL:https://gopei.ca
X-WR-CALDESC:Events for go!PEI
REFRESH-INTERVAL;VALUE=DURATION:PT1H
X-Robots-Tag:noindex
X-PUBLISHED-TTL:PT1H
BEGIN:VTIMEZONE
TZID:America/Halifax
BEGIN:DAYLIGHT
TZOFFSETFROM:-0400
TZOFFSETTO:-0300
TZNAME:ADT
DTSTART:20270314T060000
END:DAYLIGHT
BEGIN:STANDARD
TZOFFSETFROM:-0300
TZOFFSETTO:-0400
TZNAME:AST
DTSTART:20271107T050000
END:STANDARD
BEGIN:DAYLIGHT
TZOFFSETFROM:-0400
TZOFFSETTO:-0300
TZNAME:ADT
DTSTART:20280312T060000
END:DAYLIGHT
BEGIN:STANDARD
TZOFFSETFROM:-0300
TZOFFSETTO:-0400
TZNAME:AST
DTSTART:20281105T050000
END:STANDARD
BEGIN:DAYLIGHT
TZOFFSETFROM:-0400
TZOFFSETTO:-0300
TZNAME:ADT
DTSTART:20290311T060000
END:DAYLIGHT
BEGIN:STANDARD
TZOFFSETFROM:-0300
TZOFFSETTO:-0400
TZNAME:AST
DTSTART:20291104T050000
END:STANDARD
END:VTIMEZONE
BEGIN:VEVENT
DTSTART;TZID=America/Halifax:20280511T190000
DTEND;TZID=America/Halifax:20280511T200000
DTSTAMP:20260424T131525
CREATED:20241004T164602Z
LAST-MODIFIED:20241004T164759Z
UID:10007913-1841684400-1841688000@gopei.ca
SUMMARY:Kinkora - Multifit
DESCRIPTION:Weekly Fitness program where the style changes week to week \nBootcamp/Tabata/Circuit/Yoga \nwith various implements like: bands/balls/weights \nAll Levels Welcome! \nPay by Donation\, Give What You Can \nIf you have any questions or concerns\, contact:\nKrista Shields\nEmail: kdshields05@gmail.com \nSign up HERE!
URL:https://gopei.ca/event-program/kinkora-multifit/2028-05-11/
LOCATION:Kinkora Community Hall\, Canada
CATEGORIES:Central
GEO:46.323485530618;-63.594944
END:VEVENT
BEGIN:VEVENT
DTSTART;TZID=America/Halifax:20280512T090000
DTEND;TZID=America/Halifax:20280512T110000
DTSTAMP:20260424T131525
CREATED:20251103T094211Z
LAST-MODIFIED:20251103T094211Z
UID:10009842-1841734800-1841742000@gopei.ca
SUMMARY:Pickleball
DESCRIPTION:Come and play Pickleball during the school year. \nDrop in: $3 \nNo sessions: \n\nNovember 6th\, 7th\, 10th\, 11th\, 21st.\nDecember 21st 2025 – January 4th 2026.\nFebruary 16th.\nMarch Break: March 16th-20th.\nApril 3rd\, 6th\, 10th.\nMay 1st\, 18th.
URL:https://gopei.ca/event-program/pickleball-6/2028-05-12/
LOCATION:Murray Harbour Community Centre\, 27 Faye Fraser Street\, Murray Harbour\, Prince Edward Island\, C0A1V0\, Canada
CATEGORIES:East
END:VEVENT
BEGIN:VEVENT
DTSTART;TZID=America/Halifax:20280515T090000
DTEND;TZID=America/Halifax:20280515T110000
DTSTAMP:20260424T131525
CREATED:20251103T094211Z
LAST-MODIFIED:20251103T094211Z
UID:10009843-1841994000-1842001200@gopei.ca
SUMMARY:Pickleball
DESCRIPTION:Come and play Pickleball during the school year. \nDrop in: $3 \nNo sessions: \n\nNovember 6th\, 7th\, 10th\, 11th\, 21st.\nDecember 21st 2025 – January 4th 2026.\nFebruary 16th.\nMarch Break: March 16th-20th.\nApril 3rd\, 6th\, 10th.\nMay 1st\, 18th.
URL:https://gopei.ca/event-program/pickleball-6/2028-05-15/
LOCATION:Murray Harbour Community Centre\, 27 Faye Fraser Street\, Murray Harbour\, Prince Edward Island\, C0A1V0\, Canada
CATEGORIES:East
END:VEVENT
BEGIN:VEVENT
DTSTART;TZID=America/Halifax:20280515T190000
DTEND;TZID=America/Halifax:20280515T200000
DTSTAMP:20260424T131525
CREATED:20241004T161248Z
LAST-MODIFIED:20241009T140732Z
UID:10008699-1842030000-1842033600@gopei.ca
SUMMARY:Kensington - Yin Yang Yoga
DESCRIPTION:Beginner-Intermediate friendly classes! \nCost: By Donation\, Give What You Can \nGo at your own pace \nFocusing on movement/strength/flexibility and relaxation. \nBring your own mat and water \nContact Krista Shields with any questions or concerns\nEmail: kdshields05@gmail.com \nSign up HERE!
URL:https://gopei.ca/event-program/kensington-yin-yang-yoga/2028-05-15/
LOCATION:Murray Christian Center\, Kensington\, Canada
CATEGORIES:Central
GEO:46.439545214621;-63.636843870324
END:VEVENT
BEGIN:VEVENT
DTSTART;TZID=America/Halifax:20280516T090000
DTEND;TZID=America/Halifax:20280516T100000
DTSTAMP:20260424T131525
CREATED:20241009T133134Z
LAST-MODIFIED:20241009T133134Z
UID:10008174-1842080400-1842084000@gopei.ca
SUMMARY:Fitness Class with Heidi
DESCRIPTION:Join Heidi for a low impact fitness class! \nBody weight and Resistance band focused! \nIf you have any questions\, contact GoWest\nwebsite: GoWest\nEmail: gowestpei@gmail.com
URL:https://gopei.ca/event-program/fitness-class-with-heidi/2028-05-16/
LOCATION:St. Louis Community Centre\, 3563 Union Road\, St. Louis\, PE\, Canada
CATEGORIES:West
END:VEVENT
BEGIN:VEVENT
DTSTART;TZID=America/Halifax:20280516T130000
DTEND;TZID=America/Halifax:20280516T140000
DTSTAMP:20260424T131525
CREATED:20241009T133321Z
LAST-MODIFIED:20241009T140359Z
UID:10008435-1842094800-1842098400@gopei.ca
SUMMARY:Fitness Class with Heidi
DESCRIPTION:Join Heidi for a low impact fitness class! \nBody weight and Resistance band focused! \nIf you have any questions\, contact GoWest\nwebsite: GoWest\nEmail: gowestpei@gmail.com
URL:https://gopei.ca/event-program/fitness-class-with-heidi-2/2028-05-16/
LOCATION:Bloomfield – St. Anthony’s Legion
CATEGORIES:West
END:VEVENT
BEGIN:VEVENT
DTSTART;TZID=America/Halifax:20280516T180000
DTEND;TZID=America/Halifax:20280516T200000
DTSTAMP:20260424T131525
CREATED:20251103T094006Z
LAST-MODIFIED:20251103T094006Z
UID:10009189-1842112800-1842120000@gopei.ca
SUMMARY:Pickleball
DESCRIPTION:Come and play Pickleball during the school year. \nDrop in: $2 \nNo sessions: \n\nNovember 6th\, 7th\, 10th\, 11th\, 21st.\nDecember 21st 2025 – January 4th 2026.\nFebruary 16th.\nMarch Break: March 16th-20th.\nApril 3rd\, 6th\, 10th.\nMay 1st\, 18th.\n\n  \n 
URL:https://gopei.ca/event-program/pickleball-5/2028-05-16/
LOCATION:Southern Kings Consolidated School\, 2294 Peters Rd.\, Montague\, PE\, C0A 1R0\, Canada
CATEGORIES:East
END:VEVENT
BEGIN:VEVENT
DTSTART;TZID=America/Halifax:20280517T090000
DTEND;TZID=America/Halifax:20280517T110000
DTSTAMP:20260424T131525
CREATED:20251103T094211Z
LAST-MODIFIED:20251103T094211Z
UID:10009844-1842166800-1842174000@gopei.ca
SUMMARY:Pickleball
DESCRIPTION:Come and play Pickleball during the school year. \nDrop in: $3 \nNo sessions: \n\nNovember 6th\, 7th\, 10th\, 11th\, 21st.\nDecember 21st 2025 – January 4th 2026.\nFebruary 16th.\nMarch Break: March 16th-20th.\nApril 3rd\, 6th\, 10th.\nMay 1st\, 18th.
URL:https://gopei.ca/event-program/pickleball-6/2028-05-17/
LOCATION:Murray Harbour Community Centre\, 27 Faye Fraser Street\, Murray Harbour\, Prince Edward Island\, C0A1V0\, Canada
CATEGORIES:East
END:VEVENT
BEGIN:VEVENT
DTSTART;TZID=America/Halifax:20280518T180000
DTEND;TZID=America/Halifax:20280518T200000
DTSTAMP:20260424T131525
CREATED:20251103T094006Z
LAST-MODIFIED:20251103T094006Z
UID:10009190-1842285600-1842292800@gopei.ca
SUMMARY:Pickleball
DESCRIPTION:Come and play Pickleball during the school year. \nDrop in: $2 \nNo sessions: \n\nNovember 6th\, 7th\, 10th\, 11th\, 21st.\nDecember 21st 2025 – January 4th 2026.\nFebruary 16th.\nMarch Break: March 16th-20th.\nApril 3rd\, 6th\, 10th.\nMay 1st\, 18th.\n\n  \n 
URL:https://gopei.ca/event-program/pickleball-5/2028-05-18/
LOCATION:Southern Kings Consolidated School\, 2294 Peters Rd.\, Montague\, PE\, C0A 1R0\, Canada
CATEGORIES:East
END:VEVENT
BEGIN:VEVENT
DTSTART;TZID=America/Halifax:20280518T190000
DTEND;TZID=America/Halifax:20280518T200000
DTSTAMP:20260424T131525
CREATED:20241004T164602Z
LAST-MODIFIED:20241004T164759Z
UID:10007914-1842289200-1842292800@gopei.ca
SUMMARY:Kinkora - Multifit
DESCRIPTION:Weekly Fitness program where the style changes week to week \nBootcamp/Tabata/Circuit/Yoga \nwith various implements like: bands/balls/weights \nAll Levels Welcome! \nPay by Donation\, Give What You Can \nIf you have any questions or concerns\, contact:\nKrista Shields\nEmail: kdshields05@gmail.com \nSign up HERE!
URL:https://gopei.ca/event-program/kinkora-multifit/2028-05-18/
LOCATION:Kinkora Community Hall\, Canada
CATEGORIES:Central
GEO:46.323485530618;-63.594944
END:VEVENT
BEGIN:VEVENT
DTSTART;TZID=America/Halifax:20280519T090000
DTEND;TZID=America/Halifax:20280519T110000
DTSTAMP:20260424T131525
CREATED:20251103T094211Z
LAST-MODIFIED:20251103T094211Z
UID:10009845-1842339600-1842346800@gopei.ca
SUMMARY:Pickleball
DESCRIPTION:Come and play Pickleball during the school year. \nDrop in: $3 \nNo sessions: \n\nNovember 6th\, 7th\, 10th\, 11th\, 21st.\nDecember 21st 2025 – January 4th 2026.\nFebruary 16th.\nMarch Break: March 16th-20th.\nApril 3rd\, 6th\, 10th.\nMay 1st\, 18th.
URL:https://gopei.ca/event-program/pickleball-6/2028-05-19/
LOCATION:Murray Harbour Community Centre\, 27 Faye Fraser Street\, Murray Harbour\, Prince Edward Island\, C0A1V0\, Canada
CATEGORIES:East
END:VEVENT
BEGIN:VEVENT
DTSTART;TZID=America/Halifax:20280522T090000
DTEND;TZID=America/Halifax:20280522T110000
DTSTAMP:20260424T131525
CREATED:20251103T094211Z
LAST-MODIFIED:20251103T094211Z
UID:10009846-1842598800-1842606000@gopei.ca
SUMMARY:Pickleball
DESCRIPTION:Come and play Pickleball during the school year. \nDrop in: $3 \nNo sessions: \n\nNovember 6th\, 7th\, 10th\, 11th\, 21st.\nDecember 21st 2025 – January 4th 2026.\nFebruary 16th.\nMarch Break: March 16th-20th.\nApril 3rd\, 6th\, 10th.\nMay 1st\, 18th.
URL:https://gopei.ca/event-program/pickleball-6/2028-05-22/
LOCATION:Murray Harbour Community Centre\, 27 Faye Fraser Street\, Murray Harbour\, Prince Edward Island\, C0A1V0\, Canada
CATEGORIES:East
END:VEVENT
BEGIN:VEVENT
DTSTART;TZID=America/Halifax:20280522T190000
DTEND;TZID=America/Halifax:20280522T200000
DTSTAMP:20260424T131525
CREATED:20241004T161248Z
LAST-MODIFIED:20241009T140732Z
UID:10008700-1842634800-1842638400@gopei.ca
SUMMARY:Kensington - Yin Yang Yoga
DESCRIPTION:Beginner-Intermediate friendly classes! \nCost: By Donation\, Give What You Can \nGo at your own pace \nFocusing on movement/strength/flexibility and relaxation. \nBring your own mat and water \nContact Krista Shields with any questions or concerns\nEmail: kdshields05@gmail.com \nSign up HERE!
URL:https://gopei.ca/event-program/kensington-yin-yang-yoga/2028-05-22/
LOCATION:Murray Christian Center\, Kensington\, Canada
CATEGORIES:Central
GEO:46.439545214621;-63.636843870324
END:VEVENT
BEGIN:VEVENT
DTSTART;TZID=America/Halifax:20280523T090000
DTEND;TZID=America/Halifax:20280523T100000
DTSTAMP:20260424T131525
CREATED:20241009T133134Z
LAST-MODIFIED:20241009T133134Z
UID:10008175-1842685200-1842688800@gopei.ca
SUMMARY:Fitness Class with Heidi
DESCRIPTION:Join Heidi for a low impact fitness class! \nBody weight and Resistance band focused! \nIf you have any questions\, contact GoWest\nwebsite: GoWest\nEmail: gowestpei@gmail.com
URL:https://gopei.ca/event-program/fitness-class-with-heidi/2028-05-23/
LOCATION:St. Louis Community Centre\, 3563 Union Road\, St. Louis\, PE\, Canada
CATEGORIES:West
END:VEVENT
BEGIN:VEVENT
DTSTART;TZID=America/Halifax:20280523T130000
DTEND;TZID=America/Halifax:20280523T140000
DTSTAMP:20260424T131525
CREATED:20241009T133321Z
LAST-MODIFIED:20241009T140359Z
UID:10008436-1842699600-1842703200@gopei.ca
SUMMARY:Fitness Class with Heidi
DESCRIPTION:Join Heidi for a low impact fitness class! \nBody weight and Resistance band focused! \nIf you have any questions\, contact GoWest\nwebsite: GoWest\nEmail: gowestpei@gmail.com
URL:https://gopei.ca/event-program/fitness-class-with-heidi-2/2028-05-23/
LOCATION:Bloomfield – St. Anthony’s Legion
CATEGORIES:West
END:VEVENT
BEGIN:VEVENT
DTSTART;TZID=America/Halifax:20280523T180000
DTEND;TZID=America/Halifax:20280523T200000
DTSTAMP:20260424T131525
CREATED:20251103T094006Z
LAST-MODIFIED:20251103T094006Z
UID:10009191-1842717600-1842724800@gopei.ca
SUMMARY:Pickleball
DESCRIPTION:Come and play Pickleball during the school year. \nDrop in: $2 \nNo sessions: \n\nNovember 6th\, 7th\, 10th\, 11th\, 21st.\nDecember 21st 2025 – January 4th 2026.\nFebruary 16th.\nMarch Break: March 16th-20th.\nApril 3rd\, 6th\, 10th.\nMay 1st\, 18th.\n\n  \n 
URL:https://gopei.ca/event-program/pickleball-5/2028-05-23/
LOCATION:Southern Kings Consolidated School\, 2294 Peters Rd.\, Montague\, PE\, C0A 1R0\, Canada
CATEGORIES:East
END:VEVENT
BEGIN:VEVENT
DTSTART;TZID=America/Halifax:20280524T090000
DTEND;TZID=America/Halifax:20280524T110000
DTSTAMP:20260424T131525
CREATED:20251103T094211Z
LAST-MODIFIED:20251103T094211Z
UID:10009847-1842771600-1842778800@gopei.ca
SUMMARY:Pickleball
DESCRIPTION:Come and play Pickleball during the school year. \nDrop in: $3 \nNo sessions: \n\nNovember 6th\, 7th\, 10th\, 11th\, 21st.\nDecember 21st 2025 – January 4th 2026.\nFebruary 16th.\nMarch Break: March 16th-20th.\nApril 3rd\, 6th\, 10th.\nMay 1st\, 18th.
URL:https://gopei.ca/event-program/pickleball-6/2028-05-24/
LOCATION:Murray Harbour Community Centre\, 27 Faye Fraser Street\, Murray Harbour\, Prince Edward Island\, C0A1V0\, Canada
CATEGORIES:East
END:VEVENT
BEGIN:VEVENT
DTSTART;TZID=America/Halifax:20280525T180000
DTEND;TZID=America/Halifax:20280525T200000
DTSTAMP:20260424T131525
CREATED:20251103T094006Z
LAST-MODIFIED:20251103T094006Z
UID:10009192-1842890400-1842897600@gopei.ca
SUMMARY:Pickleball
DESCRIPTION:Come and play Pickleball during the school year. \nDrop in: $2 \nNo sessions: \n\nNovember 6th\, 7th\, 10th\, 11th\, 21st.\nDecember 21st 2025 – January 4th 2026.\nFebruary 16th.\nMarch Break: March 16th-20th.\nApril 3rd\, 6th\, 10th.\nMay 1st\, 18th.\n\n  \n 
URL:https://gopei.ca/event-program/pickleball-5/2028-05-25/
LOCATION:Southern Kings Consolidated School\, 2294 Peters Rd.\, Montague\, PE\, C0A 1R0\, Canada
CATEGORIES:East
END:VEVENT
BEGIN:VEVENT
DTSTART;TZID=America/Halifax:20280525T190000
DTEND;TZID=America/Halifax:20280525T200000
DTSTAMP:20260424T131525
CREATED:20241004T164602Z
LAST-MODIFIED:20241004T164759Z
UID:10007915-1842894000-1842897600@gopei.ca
SUMMARY:Kinkora - Multifit
DESCRIPTION:Weekly Fitness program where the style changes week to week \nBootcamp/Tabata/Circuit/Yoga \nwith various implements like: bands/balls/weights \nAll Levels Welcome! \nPay by Donation\, Give What You Can \nIf you have any questions or concerns\, contact:\nKrista Shields\nEmail: kdshields05@gmail.com \nSign up HERE!
URL:https://gopei.ca/event-program/kinkora-multifit/2028-05-25/
LOCATION:Kinkora Community Hall\, Canada
CATEGORIES:Central
GEO:46.323485530618;-63.594944
END:VEVENT
BEGIN:VEVENT
DTSTART;TZID=America/Halifax:20280526T090000
DTEND;TZID=America/Halifax:20280526T110000
DTSTAMP:20260424T131525
CREATED:20251103T094211Z
LAST-MODIFIED:20251103T094211Z
UID:10009848-1842944400-1842951600@gopei.ca
SUMMARY:Pickleball
DESCRIPTION:Come and play Pickleball during the school year. \nDrop in: $3 \nNo sessions: \n\nNovember 6th\, 7th\, 10th\, 11th\, 21st.\nDecember 21st 2025 – January 4th 2026.\nFebruary 16th.\nMarch Break: March 16th-20th.\nApril 3rd\, 6th\, 10th.\nMay 1st\, 18th.
URL:https://gopei.ca/event-program/pickleball-6/2028-05-26/
LOCATION:Murray Harbour Community Centre\, 27 Faye Fraser Street\, Murray Harbour\, Prince Edward Island\, C0A1V0\, Canada
CATEGORIES:East
END:VEVENT
BEGIN:VEVENT
DTSTART;TZID=America/Halifax:20280529T090000
DTEND;TZID=America/Halifax:20280529T110000
DTSTAMP:20260424T131525
CREATED:20251103T094211Z
LAST-MODIFIED:20251103T094211Z
UID:10009849-1843203600-1843210800@gopei.ca
SUMMARY:Pickleball
DESCRIPTION:Come and play Pickleball during the school year. \nDrop in: $3 \nNo sessions: \n\nNovember 6th\, 7th\, 10th\, 11th\, 21st.\nDecember 21st 2025 – January 4th 2026.\nFebruary 16th.\nMarch Break: March 16th-20th.\nApril 3rd\, 6th\, 10th.\nMay 1st\, 18th.
URL:https://gopei.ca/event-program/pickleball-6/2028-05-29/
LOCATION:Murray Harbour Community Centre\, 27 Faye Fraser Street\, Murray Harbour\, Prince Edward Island\, C0A1V0\, Canada
CATEGORIES:East
END:VEVENT
BEGIN:VEVENT
DTSTART;TZID=America/Halifax:20280529T190000
DTEND;TZID=America/Halifax:20280529T200000
DTSTAMP:20260424T131525
CREATED:20241004T161248Z
LAST-MODIFIED:20241009T140732Z
UID:10008701-1843239600-1843243200@gopei.ca
SUMMARY:Kensington - Yin Yang Yoga
DESCRIPTION:Beginner-Intermediate friendly classes! \nCost: By Donation\, Give What You Can \nGo at your own pace \nFocusing on movement/strength/flexibility and relaxation. \nBring your own mat and water \nContact Krista Shields with any questions or concerns\nEmail: kdshields05@gmail.com \nSign up HERE!
URL:https://gopei.ca/event-program/kensington-yin-yang-yoga/2028-05-29/
LOCATION:Murray Christian Center\, Kensington\, Canada
CATEGORIES:Central
GEO:46.439545214621;-63.636843870324
END:VEVENT
BEGIN:VEVENT
DTSTART;TZID=America/Halifax:20280530T090000
DTEND;TZID=America/Halifax:20280530T100000
DTSTAMP:20260424T131525
CREATED:20241009T133134Z
LAST-MODIFIED:20241009T133134Z
UID:10008176-1843290000-1843293600@gopei.ca
SUMMARY:Fitness Class with Heidi
DESCRIPTION:Join Heidi for a low impact fitness class! \nBody weight and Resistance band focused! \nIf you have any questions\, contact GoWest\nwebsite: GoWest\nEmail: gowestpei@gmail.com
URL:https://gopei.ca/event-program/fitness-class-with-heidi/2028-05-30/
LOCATION:St. Louis Community Centre\, 3563 Union Road\, St. Louis\, PE\, Canada
CATEGORIES:West
END:VEVENT
BEGIN:VEVENT
DTSTART;TZID=America/Halifax:20280530T130000
DTEND;TZID=America/Halifax:20280530T140000
DTSTAMP:20260424T131525
CREATED:20241009T133321Z
LAST-MODIFIED:20241009T140359Z
UID:10008437-1843304400-1843308000@gopei.ca
SUMMARY:Fitness Class with Heidi
DESCRIPTION:Join Heidi for a low impact fitness class! \nBody weight and Resistance band focused! \nIf you have any questions\, contact GoWest\nwebsite: GoWest\nEmail: gowestpei@gmail.com
URL:https://gopei.ca/event-program/fitness-class-with-heidi-2/2028-05-30/
LOCATION:Bloomfield – St. Anthony’s Legion
CATEGORIES:West
END:VEVENT
BEGIN:VEVENT
DTSTART;TZID=America/Halifax:20280530T180000
DTEND;TZID=America/Halifax:20280530T200000
DTSTAMP:20260424T131525
CREATED:20251103T094006Z
LAST-MODIFIED:20251103T094006Z
UID:10009193-1843322400-1843329600@gopei.ca
SUMMARY:Pickleball
DESCRIPTION:Come and play Pickleball during the school year. \nDrop in: $2 \nNo sessions: \n\nNovember 6th\, 7th\, 10th\, 11th\, 21st.\nDecember 21st 2025 – January 4th 2026.\nFebruary 16th.\nMarch Break: March 16th-20th.\nApril 3rd\, 6th\, 10th.\nMay 1st\, 18th.\n\n  \n 
URL:https://gopei.ca/event-program/pickleball-5/2028-05-30/
LOCATION:Southern Kings Consolidated School\, 2294 Peters Rd.\, Montague\, PE\, C0A 1R0\, Canada
CATEGORIES:East
END:VEVENT
BEGIN:VEVENT
DTSTART;TZID=America/Halifax:20280531T090000
DTEND;TZID=America/Halifax:20280531T110000
DTSTAMP:20260424T131525
CREATED:20251103T094211Z
LAST-MODIFIED:20251103T094211Z
UID:10009850-1843376400-1843383600@gopei.ca
SUMMARY:Pickleball
DESCRIPTION:Come and play Pickleball during the school year. \nDrop in: $3 \nNo sessions: \n\nNovember 6th\, 7th\, 10th\, 11th\, 21st.\nDecember 21st 2025 – January 4th 2026.\nFebruary 16th.\nMarch Break: March 16th-20th.\nApril 3rd\, 6th\, 10th.\nMay 1st\, 18th.
URL:https://gopei.ca/event-program/pickleball-6/2028-05-31/
LOCATION:Murray Harbour Community Centre\, 27 Faye Fraser Street\, Murray Harbour\, Prince Edward Island\, C0A1V0\, Canada
CATEGORIES:East
END:VEVENT
BEGIN:VEVENT
DTSTART;TZID=America/Halifax:20280601T180000
DTEND;TZID=America/Halifax:20280601T200000
DTSTAMP:20260424T131525
CREATED:20251103T094006Z
LAST-MODIFIED:20251103T094006Z
UID:10009194-1843495200-1843502400@gopei.ca
SUMMARY:Pickleball
DESCRIPTION:Come and play Pickleball during the school year. \nDrop in: $2 \nNo sessions: \n\nNovember 6th\, 7th\, 10th\, 11th\, 21st.\nDecember 21st 2025 – January 4th 2026.\nFebruary 16th.\nMarch Break: March 16th-20th.\nApril 3rd\, 6th\, 10th.\nMay 1st\, 18th.\n\n  \n 
URL:https://gopei.ca/event-program/pickleball-5/2028-06-01/
LOCATION:Southern Kings Consolidated School\, 2294 Peters Rd.\, Montague\, PE\, C0A 1R0\, Canada
CATEGORIES:East
END:VEVENT
BEGIN:VEVENT
DTSTART;TZID=America/Halifax:20280601T190000
DTEND;TZID=America/Halifax:20280601T200000
DTSTAMP:20260424T131525
CREATED:20241004T164602Z
LAST-MODIFIED:20241004T164759Z
UID:10007916-1843498800-1843502400@gopei.ca
SUMMARY:Kinkora - Multifit
DESCRIPTION:Weekly Fitness program where the style changes week to week \nBootcamp/Tabata/Circuit/Yoga \nwith various implements like: bands/balls/weights \nAll Levels Welcome! \nPay by Donation\, Give What You Can \nIf you have any questions or concerns\, contact:\nKrista Shields\nEmail: kdshields05@gmail.com \nSign up HERE!
URL:https://gopei.ca/event-program/kinkora-multifit/2028-06-01/
LOCATION:Kinkora Community Hall\, Canada
CATEGORIES:Central
GEO:46.323485530618;-63.594944
END:VEVENT
BEGIN:VEVENT
DTSTART;TZID=America/Halifax:20280602T090000
DTEND;TZID=America/Halifax:20280602T110000
DTSTAMP:20260424T131525
CREATED:20251103T094211Z
LAST-MODIFIED:20251103T094211Z
UID:10009851-1843549200-1843556400@gopei.ca
SUMMARY:Pickleball
DESCRIPTION:Come and play Pickleball during the school year. \nDrop in: $3 \nNo sessions: \n\nNovember 6th\, 7th\, 10th\, 11th\, 21st.\nDecember 21st 2025 – January 4th 2026.\nFebruary 16th.\nMarch Break: March 16th-20th.\nApril 3rd\, 6th\, 10th.\nMay 1st\, 18th.
URL:https://gopei.ca/event-program/pickleball-6/2028-06-02/
LOCATION:Murray Harbour Community Centre\, 27 Faye Fraser Street\, Murray Harbour\, Prince Edward Island\, C0A1V0\, Canada
CATEGORIES:East
END:VEVENT
BEGIN:VEVENT
DTSTART;TZID=America/Halifax:20280605T090000
DTEND;TZID=America/Halifax:20280605T110000
DTSTAMP:20260424T131525
CREATED:20251103T094211Z
LAST-MODIFIED:20251103T094211Z
UID:10009852-1843808400-1843815600@gopei.ca
SUMMARY:Pickleball
DESCRIPTION:Come and play Pickleball during the school year. \nDrop in: $3 \nNo sessions: \n\nNovember 6th\, 7th\, 10th\, 11th\, 21st.\nDecember 21st 2025 – January 4th 2026.\nFebruary 16th.\nMarch Break: March 16th-20th.\nApril 3rd\, 6th\, 10th.\nMay 1st\, 18th.
URL:https://gopei.ca/event-program/pickleball-6/2028-06-05/
LOCATION:Murray Harbour Community Centre\, 27 Faye Fraser Street\, Murray Harbour\, Prince Edward Island\, C0A1V0\, Canada
CATEGORIES:East
END:VEVENT
END:VCALENDAR