BEGIN:VCALENDAR
VERSION:2.0
PRODID:-//go!PEI - ECPv6.15.20//NONSGML v1.0//EN
CALSCALE:GREGORIAN
METHOD:PUBLISH
X-ORIGINAL-URL:https://gopei.ca
X-WR-CALDESC:Events for go!PEI
REFRESH-INTERVAL;VALUE=DURATION:PT1H
X-Robots-Tag:noindex
X-PUBLISHED-TTL:PT1H
BEGIN:VTIMEZONE
TZID:America/Halifax
BEGIN:DAYLIGHT
TZOFFSETFROM:-0400
TZOFFSETTO:-0300
TZNAME:ADT
DTSTART:20270314T060000
END:DAYLIGHT
BEGIN:STANDARD
TZOFFSETFROM:-0300
TZOFFSETTO:-0400
TZNAME:AST
DTSTART:20271107T050000
END:STANDARD
BEGIN:DAYLIGHT
TZOFFSETFROM:-0400
TZOFFSETTO:-0300
TZNAME:ADT
DTSTART:20280312T060000
END:DAYLIGHT
BEGIN:STANDARD
TZOFFSETFROM:-0300
TZOFFSETTO:-0400
TZNAME:AST
DTSTART:20281105T050000
END:STANDARD
BEGIN:DAYLIGHT
TZOFFSETFROM:-0400
TZOFFSETTO:-0300
TZNAME:ADT
DTSTART:20290311T060000
END:DAYLIGHT
BEGIN:STANDARD
TZOFFSETFROM:-0300
TZOFFSETTO:-0400
TZNAME:AST
DTSTART:20291104T050000
END:STANDARD
END:VTIMEZONE
BEGIN:VEVENT
DTSTART;TZID=America/Halifax:20280831T180000
DTEND;TZID=America/Halifax:20280831T200000
DTSTAMP:20260425T071858
CREATED:20251103T094006Z
LAST-MODIFIED:20251103T094006Z
UID:10009220-1851357600-1851364800@gopei.ca
SUMMARY:Pickleball
DESCRIPTION:Come and play Pickleball during the school year. \nDrop in: $2 \nNo sessions: \n\nNovember 6th\, 7th\, 10th\, 11th\, 21st.\nDecember 21st 2025 – January 4th 2026.\nFebruary 16th.\nMarch Break: March 16th-20th.\nApril 3rd\, 6th\, 10th.\nMay 1st\, 18th.\n\n  \n 
URL:https://gopei.ca/event-program/pickleball-5/2028-08-31/
LOCATION:Southern Kings Consolidated School\, 2294 Peters Rd.\, Montague\, PE\, C0A 1R0\, Canada
CATEGORIES:East
END:VEVENT
BEGIN:VEVENT
DTSTART;TZID=America/Halifax:20280831T190000
DTEND;TZID=America/Halifax:20280831T200000
DTSTAMP:20260425T071858
CREATED:20241004T164602Z
LAST-MODIFIED:20241004T164759Z
UID:10007929-1851361200-1851364800@gopei.ca
SUMMARY:Kinkora - Multifit
DESCRIPTION:Weekly Fitness program where the style changes week to week \nBootcamp/Tabata/Circuit/Yoga \nwith various implements like: bands/balls/weights \nAll Levels Welcome! \nPay by Donation\, Give What You Can \nIf you have any questions or concerns\, contact:\nKrista Shields\nEmail: kdshields05@gmail.com \nSign up HERE!
URL:https://gopei.ca/event-program/kinkora-multifit/2028-08-31/
LOCATION:Kinkora Community Hall\, Canada
CATEGORIES:Central
GEO:46.323485530618;-63.594944
END:VEVENT
BEGIN:VEVENT
DTSTART;TZID=America/Halifax:20280901T090000
DTEND;TZID=America/Halifax:20280901T110000
DTSTAMP:20260425T071858
CREATED:20251103T094211Z
LAST-MODIFIED:20251103T094211Z
UID:10009890-1851411600-1851418800@gopei.ca
SUMMARY:Pickleball
DESCRIPTION:Come and play Pickleball during the school year. \nDrop in: $3 \nNo sessions: \n\nNovember 6th\, 7th\, 10th\, 11th\, 21st.\nDecember 21st 2025 – January 4th 2026.\nFebruary 16th.\nMarch Break: March 16th-20th.\nApril 3rd\, 6th\, 10th.\nMay 1st\, 18th.
URL:https://gopei.ca/event-program/pickleball-6/2028-09-01/
LOCATION:Murray Harbour Community Centre\, 27 Faye Fraser Street\, Murray Harbour\, Prince Edward Island\, C0A1V0\, Canada
CATEGORIES:East
END:VEVENT
BEGIN:VEVENT
DTSTART;TZID=America/Halifax:20280904T090000
DTEND;TZID=America/Halifax:20280904T110000
DTSTAMP:20260425T071858
CREATED:20251103T094211Z
LAST-MODIFIED:20251103T094211Z
UID:10009891-1851670800-1851678000@gopei.ca
SUMMARY:Pickleball
DESCRIPTION:Come and play Pickleball during the school year. \nDrop in: $3 \nNo sessions: \n\nNovember 6th\, 7th\, 10th\, 11th\, 21st.\nDecember 21st 2025 – January 4th 2026.\nFebruary 16th.\nMarch Break: March 16th-20th.\nApril 3rd\, 6th\, 10th.\nMay 1st\, 18th.
URL:https://gopei.ca/event-program/pickleball-6/2028-09-04/
LOCATION:Murray Harbour Community Centre\, 27 Faye Fraser Street\, Murray Harbour\, Prince Edward Island\, C0A1V0\, Canada
CATEGORIES:East
END:VEVENT
BEGIN:VEVENT
DTSTART;TZID=America/Halifax:20280904T190000
DTEND;TZID=America/Halifax:20280904T200000
DTSTAMP:20260425T071858
CREATED:20241004T161248Z
LAST-MODIFIED:20241009T140732Z
UID:10008715-1851706800-1851710400@gopei.ca
SUMMARY:Kensington - Yin Yang Yoga
DESCRIPTION:Beginner-Intermediate friendly classes! \nCost: By Donation\, Give What You Can \nGo at your own pace \nFocusing on movement/strength/flexibility and relaxation. \nBring your own mat and water \nContact Krista Shields with any questions or concerns\nEmail: kdshields05@gmail.com \nSign up HERE!
URL:https://gopei.ca/event-program/kensington-yin-yang-yoga/2028-09-04/
LOCATION:Murray Christian Center\, Kensington\, Canada
CATEGORIES:Central
GEO:46.439545214621;-63.636843870324
END:VEVENT
BEGIN:VEVENT
DTSTART;TZID=America/Halifax:20280905T090000
DTEND;TZID=America/Halifax:20280905T100000
DTSTAMP:20260425T071858
CREATED:20241009T133134Z
LAST-MODIFIED:20241009T133134Z
UID:10008190-1851757200-1851760800@gopei.ca
SUMMARY:Fitness Class with Heidi
DESCRIPTION:Join Heidi for a low impact fitness class! \nBody weight and Resistance band focused! \nIf you have any questions\, contact GoWest\nwebsite: GoWest\nEmail: gowestpei@gmail.com
URL:https://gopei.ca/event-program/fitness-class-with-heidi/2028-09-05/
LOCATION:St. Louis Community Centre\, 3563 Union Road\, St. Louis\, PE\, Canada
CATEGORIES:West
END:VEVENT
BEGIN:VEVENT
DTSTART;TZID=America/Halifax:20280905T130000
DTEND;TZID=America/Halifax:20280905T140000
DTSTAMP:20260425T071858
CREATED:20241009T133321Z
LAST-MODIFIED:20241009T140359Z
UID:10008451-1851771600-1851775200@gopei.ca
SUMMARY:Fitness Class with Heidi
DESCRIPTION:Join Heidi for a low impact fitness class! \nBody weight and Resistance band focused! \nIf you have any questions\, contact GoWest\nwebsite: GoWest\nEmail: gowestpei@gmail.com
URL:https://gopei.ca/event-program/fitness-class-with-heidi-2/2028-09-05/
LOCATION:Bloomfield – St. Anthony’s Legion
CATEGORIES:West
END:VEVENT
BEGIN:VEVENT
DTSTART;TZID=America/Halifax:20280905T180000
DTEND;TZID=America/Halifax:20280905T200000
DTSTAMP:20260425T071858
CREATED:20251103T094006Z
LAST-MODIFIED:20251103T094006Z
UID:10009221-1851789600-1851796800@gopei.ca
SUMMARY:Pickleball
DESCRIPTION:Come and play Pickleball during the school year. \nDrop in: $2 \nNo sessions: \n\nNovember 6th\, 7th\, 10th\, 11th\, 21st.\nDecember 21st 2025 – January 4th 2026.\nFebruary 16th.\nMarch Break: March 16th-20th.\nApril 3rd\, 6th\, 10th.\nMay 1st\, 18th.\n\n  \n 
URL:https://gopei.ca/event-program/pickleball-5/2028-09-05/
LOCATION:Southern Kings Consolidated School\, 2294 Peters Rd.\, Montague\, PE\, C0A 1R0\, Canada
CATEGORIES:East
END:VEVENT
BEGIN:VEVENT
DTSTART;TZID=America/Halifax:20280906T090000
DTEND;TZID=America/Halifax:20280906T110000
DTSTAMP:20260425T071858
CREATED:20251103T094211Z
LAST-MODIFIED:20251103T094211Z
UID:10009892-1851843600-1851850800@gopei.ca
SUMMARY:Pickleball
DESCRIPTION:Come and play Pickleball during the school year. \nDrop in: $3 \nNo sessions: \n\nNovember 6th\, 7th\, 10th\, 11th\, 21st.\nDecember 21st 2025 – January 4th 2026.\nFebruary 16th.\nMarch Break: March 16th-20th.\nApril 3rd\, 6th\, 10th.\nMay 1st\, 18th.
URL:https://gopei.ca/event-program/pickleball-6/2028-09-06/
LOCATION:Murray Harbour Community Centre\, 27 Faye Fraser Street\, Murray Harbour\, Prince Edward Island\, C0A1V0\, Canada
CATEGORIES:East
END:VEVENT
BEGIN:VEVENT
DTSTART;TZID=America/Halifax:20280907T180000
DTEND;TZID=America/Halifax:20280907T200000
DTSTAMP:20260425T071858
CREATED:20251103T094006Z
LAST-MODIFIED:20251103T094006Z
UID:10009222-1851962400-1851969600@gopei.ca
SUMMARY:Pickleball
DESCRIPTION:Come and play Pickleball during the school year. \nDrop in: $2 \nNo sessions: \n\nNovember 6th\, 7th\, 10th\, 11th\, 21st.\nDecember 21st 2025 – January 4th 2026.\nFebruary 16th.\nMarch Break: March 16th-20th.\nApril 3rd\, 6th\, 10th.\nMay 1st\, 18th.\n\n  \n 
URL:https://gopei.ca/event-program/pickleball-5/2028-09-07/
LOCATION:Southern Kings Consolidated School\, 2294 Peters Rd.\, Montague\, PE\, C0A 1R0\, Canada
CATEGORIES:East
END:VEVENT
BEGIN:VEVENT
DTSTART;TZID=America/Halifax:20280907T190000
DTEND;TZID=America/Halifax:20280907T200000
DTSTAMP:20260425T071858
CREATED:20241004T164602Z
LAST-MODIFIED:20241004T164759Z
UID:10007930-1851966000-1851969600@gopei.ca
SUMMARY:Kinkora - Multifit
DESCRIPTION:Weekly Fitness program where the style changes week to week \nBootcamp/Tabata/Circuit/Yoga \nwith various implements like: bands/balls/weights \nAll Levels Welcome! \nPay by Donation\, Give What You Can \nIf you have any questions or concerns\, contact:\nKrista Shields\nEmail: kdshields05@gmail.com \nSign up HERE!
URL:https://gopei.ca/event-program/kinkora-multifit/2028-09-07/
LOCATION:Kinkora Community Hall\, Canada
CATEGORIES:Central
GEO:46.323485530618;-63.594944
END:VEVENT
BEGIN:VEVENT
DTSTART;TZID=America/Halifax:20280908T090000
DTEND;TZID=America/Halifax:20280908T110000
DTSTAMP:20260425T071858
CREATED:20251103T094211Z
LAST-MODIFIED:20251103T094211Z
UID:10009893-1852016400-1852023600@gopei.ca
SUMMARY:Pickleball
DESCRIPTION:Come and play Pickleball during the school year. \nDrop in: $3 \nNo sessions: \n\nNovember 6th\, 7th\, 10th\, 11th\, 21st.\nDecember 21st 2025 – January 4th 2026.\nFebruary 16th.\nMarch Break: March 16th-20th.\nApril 3rd\, 6th\, 10th.\nMay 1st\, 18th.
URL:https://gopei.ca/event-program/pickleball-6/2028-09-08/
LOCATION:Murray Harbour Community Centre\, 27 Faye Fraser Street\, Murray Harbour\, Prince Edward Island\, C0A1V0\, Canada
CATEGORIES:East
END:VEVENT
BEGIN:VEVENT
DTSTART;TZID=America/Halifax:20280911T090000
DTEND;TZID=America/Halifax:20280911T110000
DTSTAMP:20260425T071858
CREATED:20251103T094211Z
LAST-MODIFIED:20251103T094211Z
UID:10009894-1852275600-1852282800@gopei.ca
SUMMARY:Pickleball
DESCRIPTION:Come and play Pickleball during the school year. \nDrop in: $3 \nNo sessions: \n\nNovember 6th\, 7th\, 10th\, 11th\, 21st.\nDecember 21st 2025 – January 4th 2026.\nFebruary 16th.\nMarch Break: March 16th-20th.\nApril 3rd\, 6th\, 10th.\nMay 1st\, 18th.
URL:https://gopei.ca/event-program/pickleball-6/2028-09-11/
LOCATION:Murray Harbour Community Centre\, 27 Faye Fraser Street\, Murray Harbour\, Prince Edward Island\, C0A1V0\, Canada
CATEGORIES:East
END:VEVENT
BEGIN:VEVENT
DTSTART;TZID=America/Halifax:20280911T190000
DTEND;TZID=America/Halifax:20280911T200000
DTSTAMP:20260425T071858
CREATED:20241004T161248Z
LAST-MODIFIED:20241009T140732Z
UID:10008716-1852311600-1852315200@gopei.ca
SUMMARY:Kensington - Yin Yang Yoga
DESCRIPTION:Beginner-Intermediate friendly classes! \nCost: By Donation\, Give What You Can \nGo at your own pace \nFocusing on movement/strength/flexibility and relaxation. \nBring your own mat and water \nContact Krista Shields with any questions or concerns\nEmail: kdshields05@gmail.com \nSign up HERE!
URL:https://gopei.ca/event-program/kensington-yin-yang-yoga/2028-09-11/
LOCATION:Murray Christian Center\, Kensington\, Canada
CATEGORIES:Central
GEO:46.439545214621;-63.636843870324
END:VEVENT
BEGIN:VEVENT
DTSTART;TZID=America/Halifax:20280912T090000
DTEND;TZID=America/Halifax:20280912T100000
DTSTAMP:20260425T071858
CREATED:20241009T133134Z
LAST-MODIFIED:20241009T133134Z
UID:10008191-1852362000-1852365600@gopei.ca
SUMMARY:Fitness Class with Heidi
DESCRIPTION:Join Heidi for a low impact fitness class! \nBody weight and Resistance band focused! \nIf you have any questions\, contact GoWest\nwebsite: GoWest\nEmail: gowestpei@gmail.com
URL:https://gopei.ca/event-program/fitness-class-with-heidi/2028-09-12/
LOCATION:St. Louis Community Centre\, 3563 Union Road\, St. Louis\, PE\, Canada
CATEGORIES:West
END:VEVENT
BEGIN:VEVENT
DTSTART;TZID=America/Halifax:20280912T130000
DTEND;TZID=America/Halifax:20280912T140000
DTSTAMP:20260425T071858
CREATED:20241009T133321Z
LAST-MODIFIED:20241009T140359Z
UID:10008452-1852376400-1852380000@gopei.ca
SUMMARY:Fitness Class with Heidi
DESCRIPTION:Join Heidi for a low impact fitness class! \nBody weight and Resistance band focused! \nIf you have any questions\, contact GoWest\nwebsite: GoWest\nEmail: gowestpei@gmail.com
URL:https://gopei.ca/event-program/fitness-class-with-heidi-2/2028-09-12/
LOCATION:Bloomfield – St. Anthony’s Legion
CATEGORIES:West
END:VEVENT
BEGIN:VEVENT
DTSTART;TZID=America/Halifax:20280912T180000
DTEND;TZID=America/Halifax:20280912T200000
DTSTAMP:20260425T071858
CREATED:20251103T094006Z
LAST-MODIFIED:20251103T094006Z
UID:10009223-1852394400-1852401600@gopei.ca
SUMMARY:Pickleball
DESCRIPTION:Come and play Pickleball during the school year. \nDrop in: $2 \nNo sessions: \n\nNovember 6th\, 7th\, 10th\, 11th\, 21st.\nDecember 21st 2025 – January 4th 2026.\nFebruary 16th.\nMarch Break: March 16th-20th.\nApril 3rd\, 6th\, 10th.\nMay 1st\, 18th.\n\n  \n 
URL:https://gopei.ca/event-program/pickleball-5/2028-09-12/
LOCATION:Southern Kings Consolidated School\, 2294 Peters Rd.\, Montague\, PE\, C0A 1R0\, Canada
CATEGORIES:East
END:VEVENT
BEGIN:VEVENT
DTSTART;TZID=America/Halifax:20280913T090000
DTEND;TZID=America/Halifax:20280913T110000
DTSTAMP:20260425T071858
CREATED:20251103T094211Z
LAST-MODIFIED:20251103T094211Z
UID:10009895-1852448400-1852455600@gopei.ca
SUMMARY:Pickleball
DESCRIPTION:Come and play Pickleball during the school year. \nDrop in: $3 \nNo sessions: \n\nNovember 6th\, 7th\, 10th\, 11th\, 21st.\nDecember 21st 2025 – January 4th 2026.\nFebruary 16th.\nMarch Break: March 16th-20th.\nApril 3rd\, 6th\, 10th.\nMay 1st\, 18th.
URL:https://gopei.ca/event-program/pickleball-6/2028-09-13/
LOCATION:Murray Harbour Community Centre\, 27 Faye Fraser Street\, Murray Harbour\, Prince Edward Island\, C0A1V0\, Canada
CATEGORIES:East
END:VEVENT
BEGIN:VEVENT
DTSTART;TZID=America/Halifax:20280914T180000
DTEND;TZID=America/Halifax:20280914T200000
DTSTAMP:20260425T071858
CREATED:20251103T094006Z
LAST-MODIFIED:20251103T094006Z
UID:10009224-1852567200-1852574400@gopei.ca
SUMMARY:Pickleball
DESCRIPTION:Come and play Pickleball during the school year. \nDrop in: $2 \nNo sessions: \n\nNovember 6th\, 7th\, 10th\, 11th\, 21st.\nDecember 21st 2025 – January 4th 2026.\nFebruary 16th.\nMarch Break: March 16th-20th.\nApril 3rd\, 6th\, 10th.\nMay 1st\, 18th.\n\n  \n 
URL:https://gopei.ca/event-program/pickleball-5/2028-09-14/
LOCATION:Southern Kings Consolidated School\, 2294 Peters Rd.\, Montague\, PE\, C0A 1R0\, Canada
CATEGORIES:East
END:VEVENT
BEGIN:VEVENT
DTSTART;TZID=America/Halifax:20280914T190000
DTEND;TZID=America/Halifax:20280914T200000
DTSTAMP:20260425T071858
CREATED:20241004T164602Z
LAST-MODIFIED:20241004T164759Z
UID:10007931-1852570800-1852574400@gopei.ca
SUMMARY:Kinkora - Multifit
DESCRIPTION:Weekly Fitness program where the style changes week to week \nBootcamp/Tabata/Circuit/Yoga \nwith various implements like: bands/balls/weights \nAll Levels Welcome! \nPay by Donation\, Give What You Can \nIf you have any questions or concerns\, contact:\nKrista Shields\nEmail: kdshields05@gmail.com \nSign up HERE!
URL:https://gopei.ca/event-program/kinkora-multifit/2028-09-14/
LOCATION:Kinkora Community Hall\, Canada
CATEGORIES:Central
GEO:46.323485530618;-63.594944
END:VEVENT
BEGIN:VEVENT
DTSTART;TZID=America/Halifax:20280915T090000
DTEND;TZID=America/Halifax:20280915T110000
DTSTAMP:20260425T071858
CREATED:20251103T094211Z
LAST-MODIFIED:20251103T094211Z
UID:10009896-1852621200-1852628400@gopei.ca
SUMMARY:Pickleball
DESCRIPTION:Come and play Pickleball during the school year. \nDrop in: $3 \nNo sessions: \n\nNovember 6th\, 7th\, 10th\, 11th\, 21st.\nDecember 21st 2025 – January 4th 2026.\nFebruary 16th.\nMarch Break: March 16th-20th.\nApril 3rd\, 6th\, 10th.\nMay 1st\, 18th.
URL:https://gopei.ca/event-program/pickleball-6/2028-09-15/
LOCATION:Murray Harbour Community Centre\, 27 Faye Fraser Street\, Murray Harbour\, Prince Edward Island\, C0A1V0\, Canada
CATEGORIES:East
END:VEVENT
BEGIN:VEVENT
DTSTART;TZID=America/Halifax:20280918T090000
DTEND;TZID=America/Halifax:20280918T110000
DTSTAMP:20260425T071858
CREATED:20251103T094211Z
LAST-MODIFIED:20251103T094211Z
UID:10009897-1852880400-1852887600@gopei.ca
SUMMARY:Pickleball
DESCRIPTION:Come and play Pickleball during the school year. \nDrop in: $3 \nNo sessions: \n\nNovember 6th\, 7th\, 10th\, 11th\, 21st.\nDecember 21st 2025 – January 4th 2026.\nFebruary 16th.\nMarch Break: March 16th-20th.\nApril 3rd\, 6th\, 10th.\nMay 1st\, 18th.
URL:https://gopei.ca/event-program/pickleball-6/2028-09-18/
LOCATION:Murray Harbour Community Centre\, 27 Faye Fraser Street\, Murray Harbour\, Prince Edward Island\, C0A1V0\, Canada
CATEGORIES:East
END:VEVENT
BEGIN:VEVENT
DTSTART;TZID=America/Halifax:20280918T190000
DTEND;TZID=America/Halifax:20280918T200000
DTSTAMP:20260425T071858
CREATED:20241004T161248Z
LAST-MODIFIED:20241009T140732Z
UID:10008717-1852916400-1852920000@gopei.ca
SUMMARY:Kensington - Yin Yang Yoga
DESCRIPTION:Beginner-Intermediate friendly classes! \nCost: By Donation\, Give What You Can \nGo at your own pace \nFocusing on movement/strength/flexibility and relaxation. \nBring your own mat and water \nContact Krista Shields with any questions or concerns\nEmail: kdshields05@gmail.com \nSign up HERE!
URL:https://gopei.ca/event-program/kensington-yin-yang-yoga/2028-09-18/
LOCATION:Murray Christian Center\, Kensington\, Canada
CATEGORIES:Central
GEO:46.439545214621;-63.636843870324
END:VEVENT
BEGIN:VEVENT
DTSTART;TZID=America/Halifax:20280919T090000
DTEND;TZID=America/Halifax:20280919T100000
DTSTAMP:20260425T071858
CREATED:20241009T133134Z
LAST-MODIFIED:20241009T133134Z
UID:10008192-1852966800-1852970400@gopei.ca
SUMMARY:Fitness Class with Heidi
DESCRIPTION:Join Heidi for a low impact fitness class! \nBody weight and Resistance band focused! \nIf you have any questions\, contact GoWest\nwebsite: GoWest\nEmail: gowestpei@gmail.com
URL:https://gopei.ca/event-program/fitness-class-with-heidi/2028-09-19/
LOCATION:St. Louis Community Centre\, 3563 Union Road\, St. Louis\, PE\, Canada
CATEGORIES:West
END:VEVENT
BEGIN:VEVENT
DTSTART;TZID=America/Halifax:20280919T130000
DTEND;TZID=America/Halifax:20280919T140000
DTSTAMP:20260425T071858
CREATED:20241009T133321Z
LAST-MODIFIED:20241009T140359Z
UID:10008453-1852981200-1852984800@gopei.ca
SUMMARY:Fitness Class with Heidi
DESCRIPTION:Join Heidi for a low impact fitness class! \nBody weight and Resistance band focused! \nIf you have any questions\, contact GoWest\nwebsite: GoWest\nEmail: gowestpei@gmail.com
URL:https://gopei.ca/event-program/fitness-class-with-heidi-2/2028-09-19/
LOCATION:Bloomfield – St. Anthony’s Legion
CATEGORIES:West
END:VEVENT
BEGIN:VEVENT
DTSTART;TZID=America/Halifax:20280919T180000
DTEND;TZID=America/Halifax:20280919T200000
DTSTAMP:20260425T071858
CREATED:20251103T094006Z
LAST-MODIFIED:20251103T094006Z
UID:10009225-1852999200-1853006400@gopei.ca
SUMMARY:Pickleball
DESCRIPTION:Come and play Pickleball during the school year. \nDrop in: $2 \nNo sessions: \n\nNovember 6th\, 7th\, 10th\, 11th\, 21st.\nDecember 21st 2025 – January 4th 2026.\nFebruary 16th.\nMarch Break: March 16th-20th.\nApril 3rd\, 6th\, 10th.\nMay 1st\, 18th.\n\n  \n 
URL:https://gopei.ca/event-program/pickleball-5/2028-09-19/
LOCATION:Southern Kings Consolidated School\, 2294 Peters Rd.\, Montague\, PE\, C0A 1R0\, Canada
CATEGORIES:East
END:VEVENT
BEGIN:VEVENT
DTSTART;TZID=America/Halifax:20280920T090000
DTEND;TZID=America/Halifax:20280920T110000
DTSTAMP:20260425T071858
CREATED:20251103T094211Z
LAST-MODIFIED:20251103T094211Z
UID:10009898-1853053200-1853060400@gopei.ca
SUMMARY:Pickleball
DESCRIPTION:Come and play Pickleball during the school year. \nDrop in: $3 \nNo sessions: \n\nNovember 6th\, 7th\, 10th\, 11th\, 21st.\nDecember 21st 2025 – January 4th 2026.\nFebruary 16th.\nMarch Break: March 16th-20th.\nApril 3rd\, 6th\, 10th.\nMay 1st\, 18th.
URL:https://gopei.ca/event-program/pickleball-6/2028-09-20/
LOCATION:Murray Harbour Community Centre\, 27 Faye Fraser Street\, Murray Harbour\, Prince Edward Island\, C0A1V0\, Canada
CATEGORIES:East
END:VEVENT
BEGIN:VEVENT
DTSTART;TZID=America/Halifax:20280921T180000
DTEND;TZID=America/Halifax:20280921T200000
DTSTAMP:20260425T071858
CREATED:20251103T094006Z
LAST-MODIFIED:20251103T094006Z
UID:10009226-1853172000-1853179200@gopei.ca
SUMMARY:Pickleball
DESCRIPTION:Come and play Pickleball during the school year. \nDrop in: $2 \nNo sessions: \n\nNovember 6th\, 7th\, 10th\, 11th\, 21st.\nDecember 21st 2025 – January 4th 2026.\nFebruary 16th.\nMarch Break: March 16th-20th.\nApril 3rd\, 6th\, 10th.\nMay 1st\, 18th.\n\n  \n 
URL:https://gopei.ca/event-program/pickleball-5/2028-09-21/
LOCATION:Southern Kings Consolidated School\, 2294 Peters Rd.\, Montague\, PE\, C0A 1R0\, Canada
CATEGORIES:East
END:VEVENT
BEGIN:VEVENT
DTSTART;TZID=America/Halifax:20280921T190000
DTEND;TZID=America/Halifax:20280921T200000
DTSTAMP:20260425T071858
CREATED:20241004T164602Z
LAST-MODIFIED:20241004T164759Z
UID:10007932-1853175600-1853179200@gopei.ca
SUMMARY:Kinkora - Multifit
DESCRIPTION:Weekly Fitness program where the style changes week to week \nBootcamp/Tabata/Circuit/Yoga \nwith various implements like: bands/balls/weights \nAll Levels Welcome! \nPay by Donation\, Give What You Can \nIf you have any questions or concerns\, contact:\nKrista Shields\nEmail: kdshields05@gmail.com \nSign up HERE!
URL:https://gopei.ca/event-program/kinkora-multifit/2028-09-21/
LOCATION:Kinkora Community Hall\, Canada
CATEGORIES:Central
GEO:46.323485530618;-63.594944
END:VEVENT
BEGIN:VEVENT
DTSTART;TZID=America/Halifax:20280922T090000
DTEND;TZID=America/Halifax:20280922T110000
DTSTAMP:20260425T071858
CREATED:20251103T094211Z
LAST-MODIFIED:20251103T094211Z
UID:10009899-1853226000-1853233200@gopei.ca
SUMMARY:Pickleball
DESCRIPTION:Come and play Pickleball during the school year. \nDrop in: $3 \nNo sessions: \n\nNovember 6th\, 7th\, 10th\, 11th\, 21st.\nDecember 21st 2025 – January 4th 2026.\nFebruary 16th.\nMarch Break: March 16th-20th.\nApril 3rd\, 6th\, 10th.\nMay 1st\, 18th.
URL:https://gopei.ca/event-program/pickleball-6/2028-09-22/
LOCATION:Murray Harbour Community Centre\, 27 Faye Fraser Street\, Murray Harbour\, Prince Edward Island\, C0A1V0\, Canada
CATEGORIES:East
END:VEVENT
END:VCALENDAR