BEGIN:VCALENDAR
VERSION:2.0
PRODID:-//go!PEI - ECPv6.15.20//NONSGML v1.0//EN
CALSCALE:GREGORIAN
METHOD:PUBLISH
X-ORIGINAL-URL:https://gopei.ca
X-WR-CALDESC:Events for go!PEI
REFRESH-INTERVAL;VALUE=DURATION:PT1H
X-Robots-Tag:noindex
X-PUBLISHED-TTL:PT1H
BEGIN:VTIMEZONE
TZID:America/Halifax
BEGIN:DAYLIGHT
TZOFFSETFROM:-0400
TZOFFSETTO:-0300
TZNAME:ADT
DTSTART:20230312T060000
END:DAYLIGHT
BEGIN:STANDARD
TZOFFSETFROM:-0300
TZOFFSETTO:-0400
TZNAME:AST
DTSTART:20231105T050000
END:STANDARD
BEGIN:DAYLIGHT
TZOFFSETFROM:-0400
TZOFFSETTO:-0300
TZNAME:ADT
DTSTART:20240310T060000
END:DAYLIGHT
BEGIN:STANDARD
TZOFFSETFROM:-0300
TZOFFSETTO:-0400
TZNAME:AST
DTSTART:20241103T050000
END:STANDARD
BEGIN:DAYLIGHT
TZOFFSETFROM:-0400
TZOFFSETTO:-0300
TZNAME:ADT
DTSTART:20250309T060000
END:DAYLIGHT
BEGIN:STANDARD
TZOFFSETFROM:-0300
TZOFFSETTO:-0400
TZNAME:AST
DTSTART:20251102T050000
END:STANDARD
BEGIN:DAYLIGHT
TZOFFSETFROM:-0400
TZOFFSETTO:-0300
TZNAME:ADT
DTSTART:20260308T060000
END:DAYLIGHT
BEGIN:STANDARD
TZOFFSETFROM:-0300
TZOFFSETTO:-0400
TZNAME:AST
DTSTART:20261101T050000
END:STANDARD
END:VTIMEZONE
BEGIN:VEVENT
DTSTART;TZID=America/Halifax:20251128T121000
DTEND;TZID=America/Halifax:20251128T125000
DTSTAMP:20260420T053118
CREATED:20251103T075931Z
LAST-MODIFIED:20251103T075931Z
UID:10008861-1764331800-1764334200@gopei.ca
SUMMARY:Lunch Rush
DESCRIPTION:A dynamic 35-40min. workout to break up the work day with maximum calorie burn and strength optimization. Expect varied routines from HIIT and circuit training to heavy weights and mobility training to keep you on your toes and prevent boredom
URL:https://gopei.ca/event-program/lunch-rush/2025-11-28/
LOCATION:TCAP Family Aquatic & Fitness Centre
CATEGORIES:East
GEO:46.156865472382;-62.643361498436
END:VEVENT
BEGIN:VEVENT
DTSTART;TZID=America/Halifax:20251124T121000
DTEND;TZID=America/Halifax:20251124T125000
DTSTAMP:20260420T053118
CREATED:20251103T075931Z
LAST-MODIFIED:20251103T075931Z
UID:10008860-1763986200-1763988600@gopei.ca
SUMMARY:Lunch Rush
DESCRIPTION:A dynamic 35-40min. workout to break up the work day with maximum calorie burn and strength optimization. Expect varied routines from HIIT and circuit training to heavy weights and mobility training to keep you on your toes and prevent boredom
URL:https://gopei.ca/event-program/lunch-rush/2025-11-24/
LOCATION:TCAP Family Aquatic & Fitness Centre
CATEGORIES:East
GEO:46.156865472382;-62.643361498436
END:VEVENT
BEGIN:VEVENT
DTSTART;TZID=America/Halifax:20251121T121000
DTEND;TZID=America/Halifax:20251121T125000
DTSTAMP:20260420T053118
CREATED:20251103T075931Z
LAST-MODIFIED:20251103T075931Z
UID:10008859-1763727000-1763729400@gopei.ca
SUMMARY:Lunch Rush
DESCRIPTION:A dynamic 35-40min. workout to break up the work day with maximum calorie burn and strength optimization. Expect varied routines from HIIT and circuit training to heavy weights and mobility training to keep you on your toes and prevent boredom
URL:https://gopei.ca/event-program/lunch-rush/2025-11-21/
LOCATION:TCAP Family Aquatic & Fitness Centre
CATEGORIES:East
GEO:46.156865472382;-62.643361498436
END:VEVENT
BEGIN:VEVENT
DTSTART;TZID=America/Halifax:20251117T121000
DTEND;TZID=America/Halifax:20251117T125000
DTSTAMP:20260420T053118
CREATED:20251103T075931Z
LAST-MODIFIED:20251103T075931Z
UID:10008858-1763381400-1763383800@gopei.ca
SUMMARY:Lunch Rush
DESCRIPTION:A dynamic 35-40min. workout to break up the work day with maximum calorie burn and strength optimization. Expect varied routines from HIIT and circuit training to heavy weights and mobility training to keep you on your toes and prevent boredom
URL:https://gopei.ca/event-program/lunch-rush/2025-11-17/
LOCATION:TCAP Family Aquatic & Fitness Centre
CATEGORIES:East
GEO:46.156865472382;-62.643361498436
END:VEVENT
BEGIN:VEVENT
DTSTART;TZID=America/Halifax:20251114T121000
DTEND;TZID=America/Halifax:20251114T125000
DTSTAMP:20260420T053118
CREATED:20251103T075931Z
LAST-MODIFIED:20251103T075931Z
UID:10008857-1763122200-1763124600@gopei.ca
SUMMARY:Lunch Rush
DESCRIPTION:A dynamic 35-40min. workout to break up the work day with maximum calorie burn and strength optimization. Expect varied routines from HIIT and circuit training to heavy weights and mobility training to keep you on your toes and prevent boredom
URL:https://gopei.ca/event-program/lunch-rush/2025-11-14/
LOCATION:TCAP Family Aquatic & Fitness Centre
CATEGORIES:East
GEO:46.156865472382;-62.643361498436
END:VEVENT
BEGIN:VEVENT
DTSTART;TZID=America/Halifax:20251110T121000
DTEND;TZID=America/Halifax:20251110T125000
DTSTAMP:20260420T053118
CREATED:20251103T075931Z
LAST-MODIFIED:20251103T075931Z
UID:10008856-1762776600-1762779000@gopei.ca
SUMMARY:Lunch Rush
DESCRIPTION:A dynamic 35-40min. workout to break up the work day with maximum calorie burn and strength optimization. Expect varied routines from HIIT and circuit training to heavy weights and mobility training to keep you on your toes and prevent boredom
URL:https://gopei.ca/event-program/lunch-rush/2025-11-10/
LOCATION:TCAP Family Aquatic & Fitness Centre
CATEGORIES:East
GEO:46.156865472382;-62.643361498436
END:VEVENT
BEGIN:VEVENT
DTSTART;TZID=America/Halifax:20251107T121000
DTEND;TZID=America/Halifax:20251107T125000
DTSTAMP:20260420T053118
CREATED:20251103T075931Z
LAST-MODIFIED:20251103T075931Z
UID:10008855-1762517400-1762519800@gopei.ca
SUMMARY:Lunch Rush
DESCRIPTION:A dynamic 35-40min. workout to break up the work day with maximum calorie burn and strength optimization. Expect varied routines from HIIT and circuit training to heavy weights and mobility training to keep you on your toes and prevent boredom
URL:https://gopei.ca/event-program/lunch-rush/2025-11-07/
LOCATION:TCAP Family Aquatic & Fitness Centre
CATEGORIES:East
GEO:46.156865472382;-62.643361498436
END:VEVENT
BEGIN:VEVENT
DTSTART;TZID=America/Halifax:20251103T121000
DTEND;TZID=America/Halifax:20251103T125000
DTSTAMP:20260420T053118
CREATED:20251103T075931Z
LAST-MODIFIED:20251103T075931Z
UID:10008854-1762171800-1762174200@gopei.ca
SUMMARY:Lunch Rush
DESCRIPTION:A dynamic 35-40min. workout to break up the work day with maximum calorie burn and strength optimization. Expect varied routines from HIIT and circuit training to heavy weights and mobility training to keep you on your toes and prevent boredom
URL:https://gopei.ca/event-program/lunch-rush/2025-11-03/
LOCATION:TCAP Family Aquatic & Fitness Centre
CATEGORIES:East
GEO:46.156865472382;-62.643361498436
END:VEVENT
BEGIN:VEVENT
DTSTART;TZID=America/Halifax:20251031T121000
DTEND;TZID=America/Halifax:20251031T125000
DTSTAMP:20260420T053118
CREATED:20251103T075931Z
LAST-MODIFIED:20251103T075931Z
UID:10008853-1761912600-1761915000@gopei.ca
SUMMARY:Lunch Rush
DESCRIPTION:A dynamic 35-40min. workout to break up the work day with maximum calorie burn and strength optimization. Expect varied routines from HIIT and circuit training to heavy weights and mobility training to keep you on your toes and prevent boredom
URL:https://gopei.ca/event-program/lunch-rush/2025-10-31/
LOCATION:TCAP Family Aquatic & Fitness Centre
CATEGORIES:East
GEO:46.156865472382;-62.643361498436
END:VEVENT
BEGIN:VEVENT
DTSTART;TZID=America/Halifax:20251027T121000
DTEND;TZID=America/Halifax:20251027T125000
DTSTAMP:20260420T053118
CREATED:20251103T075931Z
LAST-MODIFIED:20251103T075931Z
UID:10008852-1761567000-1761569400@gopei.ca
SUMMARY:Lunch Rush
DESCRIPTION:A dynamic 35-40min. workout to break up the work day with maximum calorie burn and strength optimization. Expect varied routines from HIIT and circuit training to heavy weights and mobility training to keep you on your toes and prevent boredom
URL:https://gopei.ca/event-program/lunch-rush/2025-10-27/
LOCATION:TCAP Family Aquatic & Fitness Centre
CATEGORIES:East
GEO:46.156865472382;-62.643361498436
END:VEVENT
BEGIN:VEVENT
DTSTART;TZID=America/Halifax:20251024T121000
DTEND;TZID=America/Halifax:20251024T125000
DTSTAMP:20260420T053118
CREATED:20251103T075931Z
LAST-MODIFIED:20251103T075931Z
UID:10008851-1761307800-1761310200@gopei.ca
SUMMARY:Lunch Rush
DESCRIPTION:A dynamic 35-40min. workout to break up the work day with maximum calorie burn and strength optimization. Expect varied routines from HIIT and circuit training to heavy weights and mobility training to keep you on your toes and prevent boredom
URL:https://gopei.ca/event-program/lunch-rush/2025-10-24/
LOCATION:TCAP Family Aquatic & Fitness Centre
CATEGORIES:East
GEO:46.156865472382;-62.643361498436
END:VEVENT
BEGIN:VEVENT
DTSTART;TZID=America/Halifax:20251020T121000
DTEND;TZID=America/Halifax:20251020T125000
DTSTAMP:20260420T053118
CREATED:20251103T075931Z
LAST-MODIFIED:20251103T075931Z
UID:10008850-1760962200-1760964600@gopei.ca
SUMMARY:Lunch Rush
DESCRIPTION:A dynamic 35-40min. workout to break up the work day with maximum calorie burn and strength optimization. Expect varied routines from HIIT and circuit training to heavy weights and mobility training to keep you on your toes and prevent boredom
URL:https://gopei.ca/event-program/lunch-rush/2025-10-20/
LOCATION:TCAP Family Aquatic & Fitness Centre
CATEGORIES:East
GEO:46.156865472382;-62.643361498436
END:VEVENT
BEGIN:VEVENT
DTSTART;TZID=America/Halifax:20251017T121000
DTEND;TZID=America/Halifax:20251017T125000
DTSTAMP:20260420T053118
CREATED:20251103T075931Z
LAST-MODIFIED:20251103T075931Z
UID:10008849-1760703000-1760705400@gopei.ca
SUMMARY:Lunch Rush
DESCRIPTION:A dynamic 35-40min. workout to break up the work day with maximum calorie burn and strength optimization. Expect varied routines from HIIT and circuit training to heavy weights and mobility training to keep you on your toes and prevent boredom
URL:https://gopei.ca/event-program/lunch-rush/2025-10-17/
LOCATION:TCAP Family Aquatic & Fitness Centre
CATEGORIES:East
GEO:46.156865472382;-62.643361498436
END:VEVENT
BEGIN:VEVENT
DTSTART;TZID=America/Halifax:20251013T121000
DTEND;TZID=America/Halifax:20251013T125000
DTSTAMP:20260420T053118
CREATED:20251103T075931Z
LAST-MODIFIED:20251103T075931Z
UID:10008848-1760357400-1760359800@gopei.ca
SUMMARY:Lunch Rush
DESCRIPTION:A dynamic 35-40min. workout to break up the work day with maximum calorie burn and strength optimization. Expect varied routines from HIIT and circuit training to heavy weights and mobility training to keep you on your toes and prevent boredom
URL:https://gopei.ca/event-program/lunch-rush/2025-10-13/
LOCATION:TCAP Family Aquatic & Fitness Centre
CATEGORIES:East
GEO:46.156865472382;-62.643361498436
END:VEVENT
BEGIN:VEVENT
DTSTART;TZID=America/Halifax:20251010T121000
DTEND;TZID=America/Halifax:20251010T125000
DTSTAMP:20260420T053118
CREATED:20251103T075931Z
LAST-MODIFIED:20251103T075931Z
UID:10008847-1760098200-1760100600@gopei.ca
SUMMARY:Lunch Rush
DESCRIPTION:A dynamic 35-40min. workout to break up the work day with maximum calorie burn and strength optimization. Expect varied routines from HIIT and circuit training to heavy weights and mobility training to keep you on your toes and prevent boredom
URL:https://gopei.ca/event-program/lunch-rush/2025-10-10/
LOCATION:TCAP Family Aquatic & Fitness Centre
CATEGORIES:East
GEO:46.156865472382;-62.643361498436
END:VEVENT
BEGIN:VEVENT
DTSTART;TZID=America/Halifax:20251006T121000
DTEND;TZID=America/Halifax:20251006T125000
DTSTAMP:20260420T053118
CREATED:20251103T075931Z
LAST-MODIFIED:20251103T075931Z
UID:10008846-1759752600-1759755000@gopei.ca
SUMMARY:Lunch Rush
DESCRIPTION:A dynamic 35-40min. workout to break up the work day with maximum calorie burn and strength optimization. Expect varied routines from HIIT and circuit training to heavy weights and mobility training to keep you on your toes and prevent boredom
URL:https://gopei.ca/event-program/lunch-rush/2025-10-06/
LOCATION:TCAP Family Aquatic & Fitness Centre
CATEGORIES:East
GEO:46.156865472382;-62.643361498436
END:VEVENT
BEGIN:VEVENT
DTSTART;TZID=America/Halifax:20251003T121000
DTEND;TZID=America/Halifax:20251003T125000
DTSTAMP:20260420T053118
CREATED:20251103T075931Z
LAST-MODIFIED:20251103T075931Z
UID:10008845-1759493400-1759495800@gopei.ca
SUMMARY:Lunch Rush
DESCRIPTION:A dynamic 35-40min. workout to break up the work day with maximum calorie burn and strength optimization. Expect varied routines from HIIT and circuit training to heavy weights and mobility training to keep you on your toes and prevent boredom
URL:https://gopei.ca/event-program/lunch-rush/2025-10-03/
LOCATION:TCAP Family Aquatic & Fitness Centre
CATEGORIES:East
GEO:46.156865472382;-62.643361498436
END:VEVENT
BEGIN:VEVENT
DTSTART;TZID=America/Halifax:20250929T121000
DTEND;TZID=America/Halifax:20250929T125000
DTSTAMP:20260420T053118
CREATED:20251103T075931Z
LAST-MODIFIED:20251103T075931Z
UID:10008844-1759147800-1759150200@gopei.ca
SUMMARY:Lunch Rush
DESCRIPTION:A dynamic 35-40min. workout to break up the work day with maximum calorie burn and strength optimization. Expect varied routines from HIIT and circuit training to heavy weights and mobility training to keep you on your toes and prevent boredom
URL:https://gopei.ca/event-program/lunch-rush/2025-09-29/
LOCATION:TCAP Family Aquatic & Fitness Centre
CATEGORIES:East
GEO:46.156865472382;-62.643361498436
END:VEVENT
BEGIN:VEVENT
DTSTART;TZID=America/Halifax:20250926T121000
DTEND;TZID=America/Halifax:20250926T125000
DTSTAMP:20260420T053118
CREATED:20251103T075931Z
LAST-MODIFIED:20251103T075931Z
UID:10008843-1758888600-1758891000@gopei.ca
SUMMARY:Lunch Rush
DESCRIPTION:A dynamic 35-40min. workout to break up the work day with maximum calorie burn and strength optimization. Expect varied routines from HIIT and circuit training to heavy weights and mobility training to keep you on your toes and prevent boredom
URL:https://gopei.ca/event-program/lunch-rush/2025-09-26/
LOCATION:TCAP Family Aquatic & Fitness Centre
CATEGORIES:East
GEO:46.156865472382;-62.643361498436
END:VEVENT
BEGIN:VEVENT
DTSTART;TZID=America/Halifax:20250922T121000
DTEND;TZID=America/Halifax:20250922T125000
DTSTAMP:20260420T053118
CREATED:20251103T075931Z
LAST-MODIFIED:20251103T075931Z
UID:10008842-1758543000-1758545400@gopei.ca
SUMMARY:Lunch Rush
DESCRIPTION:A dynamic 35-40min. workout to break up the work day with maximum calorie burn and strength optimization. Expect varied routines from HIIT and circuit training to heavy weights and mobility training to keep you on your toes and prevent boredom
URL:https://gopei.ca/event-program/lunch-rush/2025-09-22/
LOCATION:TCAP Family Aquatic & Fitness Centre
CATEGORIES:East
GEO:46.156865472382;-62.643361498436
END:VEVENT
BEGIN:VEVENT
DTSTART;TZID=America/Halifax:20241113T180000
DTEND;TZID=America/Halifax:20241113T190000
DTSTAMP:20260420T053118
CREATED:20240919T121623Z
LAST-MODIFIED:20240919T121623Z
UID:10007706-1731520800-1731524400@gopei.ca
SUMMARY:Yin Yoga with Brittany
DESCRIPTION:Free Yoga program! \nWednesdays\, 6 – 7pm \nPlease call (902) 838 – 3429 to Reserve your spot!
URL:https://gopei.ca/event-program/yin-yoga-with-brittany/2024-11-13/
LOCATION:TCAP Family Aquatic & Fitness Centre
CATEGORIES:East
GEO:46.156865472382;-62.643361498436
END:VEVENT
BEGIN:VEVENT
DTSTART;TZID=America/Halifax:20241112T090000
DTEND;TZID=America/Halifax:20241112T100000
DTSTAMP:20260420T053118
CREATED:20240919T120655Z
LAST-MODIFIED:20240919T120655Z
UID:10007690-1731402000-1731405600@gopei.ca
SUMMARY:Parent and TOT/Toddler Swim
DESCRIPTION:FREE! Open swim time for parents\, tots and toddlers  \nTuesdays from 9am-10am\, September 24 – November 12
URL:https://gopei.ca/event-program/parent-and-tot-toddler-swim/2024-11-12/
LOCATION:TCAP Family Aquatic & Fitness Centre
CATEGORIES:East
GEO:46.156865472382;-62.643361498436
END:VEVENT
BEGIN:VEVENT
DTSTART;TZID=America/Halifax:20241106T180000
DTEND;TZID=America/Halifax:20241106T190000
DTSTAMP:20260420T053118
CREATED:20240919T121623Z
LAST-MODIFIED:20240919T121623Z
UID:10007705-1730916000-1730919600@gopei.ca
SUMMARY:Yin Yoga with Brittany
DESCRIPTION:Free Yoga program! \nWednesdays\, 6 – 7pm \nPlease call (902) 838 – 3429 to Reserve your spot!
URL:https://gopei.ca/event-program/yin-yoga-with-brittany/2024-11-06/
LOCATION:TCAP Family Aquatic & Fitness Centre
CATEGORIES:East
GEO:46.156865472382;-62.643361498436
END:VEVENT
BEGIN:VEVENT
DTSTART;TZID=America/Halifax:20241105T090000
DTEND;TZID=America/Halifax:20241105T100000
DTSTAMP:20260420T053118
CREATED:20240919T120655Z
LAST-MODIFIED:20240919T120655Z
UID:10007689-1730797200-1730800800@gopei.ca
SUMMARY:Parent and TOT/Toddler Swim
DESCRIPTION:FREE! Open swim time for parents\, tots and toddlers  \nTuesdays from 9am-10am\, September 24 – November 12
URL:https://gopei.ca/event-program/parent-and-tot-toddler-swim/2024-11-05/
LOCATION:TCAP Family Aquatic & Fitness Centre
CATEGORIES:East
GEO:46.156865472382;-62.643361498436
END:VEVENT
BEGIN:VEVENT
DTSTART;TZID=America/Halifax:20241030T180000
DTEND;TZID=America/Halifax:20241030T190000
DTSTAMP:20260420T053118
CREATED:20240919T121623Z
LAST-MODIFIED:20240919T121623Z
UID:10007704-1730311200-1730314800@gopei.ca
SUMMARY:Yin Yoga with Brittany
DESCRIPTION:Free Yoga program! \nWednesdays\, 6 – 7pm \nPlease call (902) 838 – 3429 to Reserve your spot!
URL:https://gopei.ca/event-program/yin-yoga-with-brittany/2024-10-30/
LOCATION:TCAP Family Aquatic & Fitness Centre
CATEGORIES:East
GEO:46.156865472382;-62.643361498436
END:VEVENT
BEGIN:VEVENT
DTSTART;TZID=America/Halifax:20241029T090000
DTEND;TZID=America/Halifax:20241029T100000
DTSTAMP:20260420T053118
CREATED:20240919T120655Z
LAST-MODIFIED:20240919T120655Z
UID:10007688-1730192400-1730196000@gopei.ca
SUMMARY:Parent and TOT/Toddler Swim
DESCRIPTION:FREE! Open swim time for parents\, tots and toddlers  \nTuesdays from 9am-10am\, September 24 – November 12
URL:https://gopei.ca/event-program/parent-and-tot-toddler-swim/2024-10-29/
LOCATION:TCAP Family Aquatic & Fitness Centre
CATEGORIES:East
GEO:46.156865472382;-62.643361498436
END:VEVENT
BEGIN:VEVENT
DTSTART;TZID=America/Halifax:20241023T180000
DTEND;TZID=America/Halifax:20241023T190000
DTSTAMP:20260420T053118
CREATED:20240919T121623Z
LAST-MODIFIED:20240919T121623Z
UID:10007703-1729706400-1729710000@gopei.ca
SUMMARY:Yin Yoga with Brittany
DESCRIPTION:Free Yoga program! \nWednesdays\, 6 – 7pm \nPlease call (902) 838 – 3429 to Reserve your spot!
URL:https://gopei.ca/event-program/yin-yoga-with-brittany/2024-10-23/
LOCATION:TCAP Family Aquatic & Fitness Centre
CATEGORIES:East
GEO:46.156865472382;-62.643361498436
END:VEVENT
BEGIN:VEVENT
DTSTART;TZID=America/Halifax:20241022T090000
DTEND;TZID=America/Halifax:20241022T100000
DTSTAMP:20260420T053118
CREATED:20240919T120655Z
LAST-MODIFIED:20240919T120655Z
UID:10007687-1729587600-1729591200@gopei.ca
SUMMARY:Parent and TOT/Toddler Swim
DESCRIPTION:FREE! Open swim time for parents\, tots and toddlers  \nTuesdays from 9am-10am\, September 24 – November 12
URL:https://gopei.ca/event-program/parent-and-tot-toddler-swim/2024-10-22/
LOCATION:TCAP Family Aquatic & Fitness Centre
CATEGORIES:East
GEO:46.156865472382;-62.643361498436
END:VEVENT
BEGIN:VEVENT
DTSTART;TZID=America/Halifax:20241016T180000
DTEND;TZID=America/Halifax:20241016T190000
DTSTAMP:20260420T053118
CREATED:20240919T121623Z
LAST-MODIFIED:20240919T121623Z
UID:10007702-1729101600-1729105200@gopei.ca
SUMMARY:Yin Yoga with Brittany
DESCRIPTION:Free Yoga program! \nWednesdays\, 6 – 7pm \nPlease call (902) 838 – 3429 to Reserve your spot!
URL:https://gopei.ca/event-program/yin-yoga-with-brittany/2024-10-16/
LOCATION:TCAP Family Aquatic & Fitness Centre
CATEGORIES:East
GEO:46.156865472382;-62.643361498436
END:VEVENT
BEGIN:VEVENT
DTSTART;TZID=America/Halifax:20241015T090000
DTEND;TZID=America/Halifax:20241015T100000
DTSTAMP:20260420T053118
CREATED:20240919T120655Z
LAST-MODIFIED:20240919T120655Z
UID:10007686-1728982800-1728986400@gopei.ca
SUMMARY:Parent and TOT/Toddler Swim
DESCRIPTION:FREE! Open swim time for parents\, tots and toddlers  \nTuesdays from 9am-10am\, September 24 – November 12
URL:https://gopei.ca/event-program/parent-and-tot-toddler-swim/2024-10-15/
LOCATION:TCAP Family Aquatic & Fitness Centre
CATEGORIES:East
GEO:46.156865472382;-62.643361498436
END:VEVENT
END:VCALENDAR