BEGIN:VCALENDAR
VERSION:2.0
PRODID:-//go!PEI - ECPv6.15.20//NONSGML v1.0//EN
CALSCALE:GREGORIAN
METHOD:PUBLISH
X-WR-CALNAME:go!PEI
X-ORIGINAL-URL:https://gopei.ca
X-WR-CALDESC:Events for go!PEI
REFRESH-INTERVAL;VALUE=DURATION:PT1H
X-Robots-Tag:noindex
X-PUBLISHED-TTL:PT1H
BEGIN:VTIMEZONE
TZID:America/Halifax
BEGIN:DAYLIGHT
TZOFFSETFROM:-0400
TZOFFSETTO:-0300
TZNAME:ADT
DTSTART:20210314T060000
END:DAYLIGHT
BEGIN:STANDARD
TZOFFSETFROM:-0300
TZOFFSETTO:-0400
TZNAME:AST
DTSTART:20211107T050000
END:STANDARD
BEGIN:DAYLIGHT
TZOFFSETFROM:-0400
TZOFFSETTO:-0300
TZNAME:ADT
DTSTART:20220313T060000
END:DAYLIGHT
BEGIN:STANDARD
TZOFFSETFROM:-0300
TZOFFSETTO:-0400
TZNAME:AST
DTSTART:20221106T050000
END:STANDARD
BEGIN:DAYLIGHT
TZOFFSETFROM:-0400
TZOFFSETTO:-0300
TZNAME:ADT
DTSTART:20230312T060000
END:DAYLIGHT
BEGIN:STANDARD
TZOFFSETFROM:-0300
TZOFFSETTO:-0400
TZNAME:AST
DTSTART:20231105T050000
END:STANDARD
BEGIN:DAYLIGHT
TZOFFSETFROM:-0400
TZOFFSETTO:-0300
TZNAME:ADT
DTSTART:20240310T060000
END:DAYLIGHT
BEGIN:STANDARD
TZOFFSETFROM:-0300
TZOFFSETTO:-0400
TZNAME:AST
DTSTART:20241103T050000
END:STANDARD
END:VTIMEZONE
BEGIN:VEVENT
DTSTART;TZID=America/Halifax:20231115T190000
DTEND;TZID=America/Halifax:20231115T200000
DTSTAMP:20260420T162403
CREATED:20231026T010733Z
LAST-MODIFIED:20231026T010733Z
UID:10007354-1700074800-1700078400@gopei.ca
SUMMARY:Beginner Line Dancing
DESCRIPTION:This is a free intro to Line Dancing\, good for all ages & fitness levels. \nPre-registration link: https://forms.gle/bfH14rRo7vg5Q6jB8
URL:https://gopei.ca/event-program/beginner-line-dancing/2023-11-15/
LOCATION:TCAP Family Aquatic & Fitness Centre
CATEGORIES:East
GEO:46.156865472382;-62.643361498436
END:VEVENT
BEGIN:VEVENT
DTSTART;TZID=America/Halifax:20231114T100000
DTEND;TZID=America/Halifax:20231114T110000
DTSTAMP:20260420T162403
CREATED:20230915T034824Z
LAST-MODIFIED:20230915T053259Z
UID:10007121-1699956000-1699959600@gopei.ca
SUMMARY:Parent Tot/Toddler Swim - TCAP
DESCRIPTION:Open swim time for Parent & Tot/Toddler to come and enjoy the water together! Great way to introduce your babies/toddlers to the water and to join up with friends or meet new ones! \nFree! \nPre-registration Google form link: \nhttps://forms.gle/K8rzKtrFpXhe9t7v7
URL:https://gopei.ca/event-program/parent-tot-toddler-swim-tcap/2023-11-14/
LOCATION:TCAP Family Aquatic & Fitness Centre
CATEGORIES:East
GEO:46.156865472382;-62.643361498436
END:VEVENT
BEGIN:VEVENT
DTSTART;TZID=America/Halifax:20231109T100000
DTEND;TZID=America/Halifax:20231109T110000
DTSTAMP:20260420T162403
CREATED:20230915T041128Z
LAST-MODIFIED:20230915T052930Z
UID:10007161-1699524000-1699527600@gopei.ca
SUMMARY:Beginner Yoga - TCAP
DESCRIPTION:Beginner Yoga for all fitness ages.\n\n\n\nFree! \nPre-registration Google form link: \nhttps://forms.gle/K8rzKtrFpXhe9t7v7
URL:https://gopei.ca/event-program/beginner-yoga-tcap-2/2023-11-09/
LOCATION:TCAP Family Aquatic & Fitness Centre
CATEGORIES:East
GEO:46.156865472382;-62.643361498436
END:VEVENT
BEGIN:VEVENT
DTSTART;TZID=America/Halifax:20231107T100000
DTEND;TZID=America/Halifax:20231107T110000
DTSTAMP:20260420T162403
CREATED:20230915T034824Z
LAST-MODIFIED:20230915T053259Z
UID:10007120-1699351200-1699354800@gopei.ca
SUMMARY:Parent Tot/Toddler Swim - TCAP
DESCRIPTION:Open swim time for Parent & Tot/Toddler to come and enjoy the water together! Great way to introduce your babies/toddlers to the water and to join up with friends or meet new ones! \nFree! \nPre-registration Google form link: \nhttps://forms.gle/K8rzKtrFpXhe9t7v7
URL:https://gopei.ca/event-program/parent-tot-toddler-swim-tcap/2023-11-07/
LOCATION:TCAP Family Aquatic & Fitness Centre
CATEGORIES:East
GEO:46.156865472382;-62.643361498436
END:VEVENT
BEGIN:VEVENT
DTSTART;TZID=America/Halifax:20231102T100000
DTEND;TZID=America/Halifax:20231102T110000
DTSTAMP:20260420T162403
CREATED:20230915T041128Z
LAST-MODIFIED:20230915T052930Z
UID:10007160-1698919200-1698922800@gopei.ca
SUMMARY:Beginner Yoga - TCAP
DESCRIPTION:Beginner Yoga for all fitness ages.\n\n\n\nFree! \nPre-registration Google form link: \nhttps://forms.gle/K8rzKtrFpXhe9t7v7
URL:https://gopei.ca/event-program/beginner-yoga-tcap-2/2023-11-02/
LOCATION:TCAP Family Aquatic & Fitness Centre
CATEGORIES:East
GEO:46.156865472382;-62.643361498436
END:VEVENT
BEGIN:VEVENT
DTSTART;TZID=America/Halifax:20231031T100000
DTEND;TZID=America/Halifax:20231031T110000
DTSTAMP:20260420T162403
CREATED:20230915T034824Z
LAST-MODIFIED:20230915T053259Z
UID:10007119-1698746400-1698750000@gopei.ca
SUMMARY:Parent Tot/Toddler Swim - TCAP
DESCRIPTION:Open swim time for Parent & Tot/Toddler to come and enjoy the water together! Great way to introduce your babies/toddlers to the water and to join up with friends or meet new ones! \nFree! \nPre-registration Google form link: \nhttps://forms.gle/K8rzKtrFpXhe9t7v7
URL:https://gopei.ca/event-program/parent-tot-toddler-swim-tcap/2023-10-31/
LOCATION:TCAP Family Aquatic & Fitness Centre
CATEGORIES:East
GEO:46.156865472382;-62.643361498436
END:VEVENT
BEGIN:VEVENT
DTSTART;TZID=America/Halifax:20231026T100000
DTEND;TZID=America/Halifax:20231026T110000
DTSTAMP:20260420T162403
CREATED:20230915T041128Z
LAST-MODIFIED:20230915T052930Z
UID:10007159-1698314400-1698318000@gopei.ca
SUMMARY:Beginner Yoga - TCAP
DESCRIPTION:Beginner Yoga for all fitness ages.\n\n\n\nFree! \nPre-registration Google form link: \nhttps://forms.gle/K8rzKtrFpXhe9t7v7
URL:https://gopei.ca/event-program/beginner-yoga-tcap-2/2023-10-26/
LOCATION:TCAP Family Aquatic & Fitness Centre
CATEGORIES:East
GEO:46.156865472382;-62.643361498436
END:VEVENT
BEGIN:VEVENT
DTSTART;TZID=America/Halifax:20231024T100000
DTEND;TZID=America/Halifax:20231024T110000
DTSTAMP:20260420T162403
CREATED:20230915T034824Z
LAST-MODIFIED:20230915T053259Z
UID:10007118-1698141600-1698145200@gopei.ca
SUMMARY:Parent Tot/Toddler Swim - TCAP
DESCRIPTION:Open swim time for Parent & Tot/Toddler to come and enjoy the water together! Great way to introduce your babies/toddlers to the water and to join up with friends or meet new ones! \nFree! \nPre-registration Google form link: \nhttps://forms.gle/K8rzKtrFpXhe9t7v7
URL:https://gopei.ca/event-program/parent-tot-toddler-swim-tcap/2023-10-24/
LOCATION:TCAP Family Aquatic & Fitness Centre
CATEGORIES:East
GEO:46.156865472382;-62.643361498436
END:VEVENT
BEGIN:VEVENT
DTSTART;TZID=America/Halifax:20231019T100000
DTEND;TZID=America/Halifax:20231019T110000
DTSTAMP:20260420T162403
CREATED:20230915T041128Z
LAST-MODIFIED:20230915T052930Z
UID:10007158-1697709600-1697713200@gopei.ca
SUMMARY:Beginner Yoga - TCAP
DESCRIPTION:Beginner Yoga for all fitness ages.\n\n\n\nFree! \nPre-registration Google form link: \nhttps://forms.gle/K8rzKtrFpXhe9t7v7
URL:https://gopei.ca/event-program/beginner-yoga-tcap-2/2023-10-19/
LOCATION:TCAP Family Aquatic & Fitness Centre
CATEGORIES:East
GEO:46.156865472382;-62.643361498436
END:VEVENT
BEGIN:VEVENT
DTSTART;TZID=America/Halifax:20231017T100000
DTEND;TZID=America/Halifax:20231017T110000
DTSTAMP:20260420T162403
CREATED:20230915T034824Z
LAST-MODIFIED:20230915T053259Z
UID:10007117-1697536800-1697540400@gopei.ca
SUMMARY:Parent Tot/Toddler Swim - TCAP
DESCRIPTION:Open swim time for Parent & Tot/Toddler to come and enjoy the water together! Great way to introduce your babies/toddlers to the water and to join up with friends or meet new ones! \nFree! \nPre-registration Google form link: \nhttps://forms.gle/K8rzKtrFpXhe9t7v7
URL:https://gopei.ca/event-program/parent-tot-toddler-swim-tcap/2023-10-17/
LOCATION:TCAP Family Aquatic & Fitness Centre
CATEGORIES:East
GEO:46.156865472382;-62.643361498436
END:VEVENT
BEGIN:VEVENT
DTSTART;TZID=America/Halifax:20231012T100000
DTEND;TZID=America/Halifax:20231012T110000
DTSTAMP:20260420T162403
CREATED:20230915T041128Z
LAST-MODIFIED:20230915T052930Z
UID:10007157-1697104800-1697108400@gopei.ca
SUMMARY:Beginner Yoga - TCAP
DESCRIPTION:Beginner Yoga for all fitness ages.\n\n\n\nFree! \nPre-registration Google form link: \nhttps://forms.gle/K8rzKtrFpXhe9t7v7
URL:https://gopei.ca/event-program/beginner-yoga-tcap-2/2023-10-12/
LOCATION:TCAP Family Aquatic & Fitness Centre
CATEGORIES:East
GEO:46.156865472382;-62.643361498436
END:VEVENT
BEGIN:VEVENT
DTSTART;TZID=America/Halifax:20231010T100000
DTEND;TZID=America/Halifax:20231010T110000
DTSTAMP:20260420T162403
CREATED:20230915T034824Z
LAST-MODIFIED:20230915T053259Z
UID:10007116-1696932000-1696935600@gopei.ca
SUMMARY:Parent Tot/Toddler Swim - TCAP
DESCRIPTION:Open swim time for Parent & Tot/Toddler to come and enjoy the water together! Great way to introduce your babies/toddlers to the water and to join up with friends or meet new ones! \nFree! \nPre-registration Google form link: \nhttps://forms.gle/K8rzKtrFpXhe9t7v7
URL:https://gopei.ca/event-program/parent-tot-toddler-swim-tcap/2023-10-10/
LOCATION:TCAP Family Aquatic & Fitness Centre
CATEGORIES:East
GEO:46.156865472382;-62.643361498436
END:VEVENT
BEGIN:VEVENT
DTSTART;TZID=America/Halifax:20231005T100000
DTEND;TZID=America/Halifax:20231005T110000
DTSTAMP:20260420T162403
CREATED:20230915T041128Z
LAST-MODIFIED:20230915T052930Z
UID:10007156-1696500000-1696503600@gopei.ca
SUMMARY:Beginner Yoga - TCAP
DESCRIPTION:Beginner Yoga for all fitness ages.\n\n\n\nFree! \nPre-registration Google form link: \nhttps://forms.gle/K8rzKtrFpXhe9t7v7
URL:https://gopei.ca/event-program/beginner-yoga-tcap-2/2023-10-05/
LOCATION:TCAP Family Aquatic & Fitness Centre
CATEGORIES:East
GEO:46.156865472382;-62.643361498436
END:VEVENT
BEGIN:VEVENT
DTSTART;TZID=America/Halifax:20231003T100000
DTEND;TZID=America/Halifax:20231003T110000
DTSTAMP:20260420T162403
CREATED:20230915T034824Z
LAST-MODIFIED:20230915T053259Z
UID:10007115-1696327200-1696330800@gopei.ca
SUMMARY:Parent Tot/Toddler Swim - TCAP
DESCRIPTION:Open swim time for Parent & Tot/Toddler to come and enjoy the water together! Great way to introduce your babies/toddlers to the water and to join up with friends or meet new ones! \nFree! \nPre-registration Google form link: \nhttps://forms.gle/K8rzKtrFpXhe9t7v7
URL:https://gopei.ca/event-program/parent-tot-toddler-swim-tcap/2023-10-03/
LOCATION:TCAP Family Aquatic & Fitness Centre
CATEGORIES:East
GEO:46.156865472382;-62.643361498436
END:VEVENT
BEGIN:VEVENT
DTSTART;TZID=America/Halifax:20230928T100000
DTEND;TZID=America/Halifax:20230928T110000
DTSTAMP:20260420T162403
CREATED:20230915T041128Z
LAST-MODIFIED:20230915T052930Z
UID:10007155-1695895200-1695898800@gopei.ca
SUMMARY:Beginner Yoga - TCAP
DESCRIPTION:Beginner Yoga for all fitness ages.\n\n\n\nFree! \nPre-registration Google form link: \nhttps://forms.gle/K8rzKtrFpXhe9t7v7
URL:https://gopei.ca/event-program/beginner-yoga-tcap-2/2023-09-28/
LOCATION:TCAP Family Aquatic & Fitness Centre
CATEGORIES:East
GEO:46.156865472382;-62.643361498436
END:VEVENT
BEGIN:VEVENT
DTSTART;TZID=America/Halifax:20230926T100000
DTEND;TZID=America/Halifax:20230926T110000
DTSTAMP:20260420T162403
CREATED:20230915T034824Z
LAST-MODIFIED:20230915T053259Z
UID:10007114-1695722400-1695726000@gopei.ca
SUMMARY:Parent Tot/Toddler Swim - TCAP
DESCRIPTION:Open swim time for Parent & Tot/Toddler to come and enjoy the water together! Great way to introduce your babies/toddlers to the water and to join up with friends or meet new ones! \nFree! \nPre-registration Google form link: \nhttps://forms.gle/K8rzKtrFpXhe9t7v7
URL:https://gopei.ca/event-program/parent-tot-toddler-swim-tcap/2023-09-26/
LOCATION:TCAP Family Aquatic & Fitness Centre
CATEGORIES:East
GEO:46.156865472382;-62.643361498436
END:VEVENT
BEGIN:VEVENT
DTSTART;TZID=America/Halifax:20230215T100000
DTEND;TZID=America/Halifax:20230215T110000
DTSTAMP:20260420T162403
CREATED:20221207T150735Z
LAST-MODIFIED:20221207T150735Z
UID:10006556-1676455200-1676458800@gopei.ca
SUMMARY:Older Adult Free Swim - TCAP
DESCRIPTION:Head over to TCAP on Wednesday mornings for a FREE fun\, leisurely swim! Swimming is a great low impact exercise that you can easily do on your own without any instruction and the benefits include but are not limited to:  Improves heart health\, gentle on the joints\, reduces risk of osteoporosis\, increases flexibility and improves strength and tone! \nPre-registration Google Forms Link: https://forms.gle/Khs4PgWGbT1RaxR66
URL:https://gopei.ca/event-program/older-adult-free-swim-tcap/2023-02-15/
LOCATION:TCAP Family Aquatic & Fitness Centre
CATEGORIES:East
ATTACH;FMTTYPE=image/jpeg:https://gopei.ca/wp-content/uploads/2022/12/TCAP-Older-Adult-Swim-e1670004746102.jpg
GEO:46.156865472382;-62.643361498436
END:VEVENT
BEGIN:VEVENT
DTSTART;TZID=America/Halifax:20230213T180000
DTEND;TZID=America/Halifax:20230213T190000
DTSTAMP:20260420T162403
CREATED:20221207T150831Z
LAST-MODIFIED:20221207T150831Z
UID:10006544-1676311200-1676314800@gopei.ca
SUMMARY:Yoga with Kate - TCAP
DESCRIPTION:Yoga with Kate is a “Vinyasa Flow” class – This class is built upon the Sun Salutation sequence. Each pose flows from one breath to the next. (Geared towards those looking for a little more challenge than a beginner or Hatha class) \n**Note start time is actually 6:15pm** \nPre-registration Google Forms Link: https://forms.gle/3s2rFVAfrimgEm7T6
URL:https://gopei.ca/event-program/yoga-with-kate-tcap/2023-02-13/
LOCATION:TCAP Family Aquatic & Fitness Centre
CATEGORIES:East
ATTACH;FMTTYPE=image/jpeg:https://gopei.ca/wp-content/uploads/2022/12/TCAP-Yoga-with-Kate-e1669997822643.jpg
GEO:46.156865472382;-62.643361498436
END:VEVENT
BEGIN:VEVENT
DTSTART;TZID=America/Halifax:20230208T100000
DTEND;TZID=America/Halifax:20230208T110000
DTSTAMP:20260420T162403
CREATED:20221207T150735Z
LAST-MODIFIED:20221207T150735Z
UID:10006555-1675850400-1675854000@gopei.ca
SUMMARY:Older Adult Free Swim - TCAP
DESCRIPTION:Head over to TCAP on Wednesday mornings for a FREE fun\, leisurely swim! Swimming is a great low impact exercise that you can easily do on your own without any instruction and the benefits include but are not limited to:  Improves heart health\, gentle on the joints\, reduces risk of osteoporosis\, increases flexibility and improves strength and tone! \nPre-registration Google Forms Link: https://forms.gle/Khs4PgWGbT1RaxR66
URL:https://gopei.ca/event-program/older-adult-free-swim-tcap/2023-02-08/
LOCATION:TCAP Family Aquatic & Fitness Centre
CATEGORIES:East
ATTACH;FMTTYPE=image/jpeg:https://gopei.ca/wp-content/uploads/2022/12/TCAP-Older-Adult-Swim-e1670004746102.jpg
GEO:46.156865472382;-62.643361498436
END:VEVENT
BEGIN:VEVENT
DTSTART;TZID=America/Halifax:20230206T180000
DTEND;TZID=America/Halifax:20230206T190000
DTSTAMP:20260420T162403
CREATED:20221207T150831Z
LAST-MODIFIED:20221207T150831Z
UID:10006543-1675706400-1675710000@gopei.ca
SUMMARY:Yoga with Kate - TCAP
DESCRIPTION:Yoga with Kate is a “Vinyasa Flow” class – This class is built upon the Sun Salutation sequence. Each pose flows from one breath to the next. (Geared towards those looking for a little more challenge than a beginner or Hatha class) \n**Note start time is actually 6:15pm** \nPre-registration Google Forms Link: https://forms.gle/3s2rFVAfrimgEm7T6
URL:https://gopei.ca/event-program/yoga-with-kate-tcap/2023-02-06/
LOCATION:TCAP Family Aquatic & Fitness Centre
CATEGORIES:East
ATTACH;FMTTYPE=image/jpeg:https://gopei.ca/wp-content/uploads/2022/12/TCAP-Yoga-with-Kate-e1669997822643.jpg
GEO:46.156865472382;-62.643361498436
END:VEVENT
BEGIN:VEVENT
DTSTART;TZID=America/Halifax:20230201T100000
DTEND;TZID=America/Halifax:20230201T110000
DTSTAMP:20260420T162403
CREATED:20221207T150735Z
LAST-MODIFIED:20221207T150735Z
UID:10006554-1675245600-1675249200@gopei.ca
SUMMARY:Older Adult Free Swim - TCAP
DESCRIPTION:Head over to TCAP on Wednesday mornings for a FREE fun\, leisurely swim! Swimming is a great low impact exercise that you can easily do on your own without any instruction and the benefits include but are not limited to:  Improves heart health\, gentle on the joints\, reduces risk of osteoporosis\, increases flexibility and improves strength and tone! \nPre-registration Google Forms Link: https://forms.gle/Khs4PgWGbT1RaxR66
URL:https://gopei.ca/event-program/older-adult-free-swim-tcap/2023-02-01/
LOCATION:TCAP Family Aquatic & Fitness Centre
CATEGORIES:East
ATTACH;FMTTYPE=image/jpeg:https://gopei.ca/wp-content/uploads/2022/12/TCAP-Older-Adult-Swim-e1670004746102.jpg
GEO:46.156865472382;-62.643361498436
END:VEVENT
BEGIN:VEVENT
DTSTART;TZID=America/Halifax:20230130T180000
DTEND;TZID=America/Halifax:20230130T190000
DTSTAMP:20260420T162403
CREATED:20221207T150831Z
LAST-MODIFIED:20221207T150831Z
UID:10006542-1675101600-1675105200@gopei.ca
SUMMARY:Yoga with Kate - TCAP
DESCRIPTION:Yoga with Kate is a “Vinyasa Flow” class – This class is built upon the Sun Salutation sequence. Each pose flows from one breath to the next. (Geared towards those looking for a little more challenge than a beginner or Hatha class) \n**Note start time is actually 6:15pm** \nPre-registration Google Forms Link: https://forms.gle/3s2rFVAfrimgEm7T6
URL:https://gopei.ca/event-program/yoga-with-kate-tcap/2023-01-30/
LOCATION:TCAP Family Aquatic & Fitness Centre
CATEGORIES:East
ATTACH;FMTTYPE=image/jpeg:https://gopei.ca/wp-content/uploads/2022/12/TCAP-Yoga-with-Kate-e1669997822643.jpg
GEO:46.156865472382;-62.643361498436
END:VEVENT
BEGIN:VEVENT
DTSTART;TZID=America/Halifax:20230125T100000
DTEND;TZID=America/Halifax:20230125T110000
DTSTAMP:20260420T162403
CREATED:20221207T150735Z
LAST-MODIFIED:20221207T150735Z
UID:10006553-1674640800-1674644400@gopei.ca
SUMMARY:Older Adult Free Swim - TCAP
DESCRIPTION:Head over to TCAP on Wednesday mornings for a FREE fun\, leisurely swim! Swimming is a great low impact exercise that you can easily do on your own without any instruction and the benefits include but are not limited to:  Improves heart health\, gentle on the joints\, reduces risk of osteoporosis\, increases flexibility and improves strength and tone! \nPre-registration Google Forms Link: https://forms.gle/Khs4PgWGbT1RaxR66
URL:https://gopei.ca/event-program/older-adult-free-swim-tcap/2023-01-25/
LOCATION:TCAP Family Aquatic & Fitness Centre
CATEGORIES:East
ATTACH;FMTTYPE=image/jpeg:https://gopei.ca/wp-content/uploads/2022/12/TCAP-Older-Adult-Swim-e1670004746102.jpg
GEO:46.156865472382;-62.643361498436
END:VEVENT
BEGIN:VEVENT
DTSTART;TZID=America/Halifax:20230123T180000
DTEND;TZID=America/Halifax:20230123T190000
DTSTAMP:20260420T162403
CREATED:20221207T150831Z
LAST-MODIFIED:20221207T150831Z
UID:10006541-1674496800-1674500400@gopei.ca
SUMMARY:Yoga with Kate - TCAP
DESCRIPTION:Yoga with Kate is a “Vinyasa Flow” class – This class is built upon the Sun Salutation sequence. Each pose flows from one breath to the next. (Geared towards those looking for a little more challenge than a beginner or Hatha class) \n**Note start time is actually 6:15pm** \nPre-registration Google Forms Link: https://forms.gle/3s2rFVAfrimgEm7T6
URL:https://gopei.ca/event-program/yoga-with-kate-tcap/2023-01-23/
LOCATION:TCAP Family Aquatic & Fitness Centre
CATEGORIES:East
ATTACH;FMTTYPE=image/jpeg:https://gopei.ca/wp-content/uploads/2022/12/TCAP-Yoga-with-Kate-e1669997822643.jpg
GEO:46.156865472382;-62.643361498436
END:VEVENT
BEGIN:VEVENT
DTSTART;TZID=America/Halifax:20230118T100000
DTEND;TZID=America/Halifax:20230118T110000
DTSTAMP:20260420T162403
CREATED:20221207T150735Z
LAST-MODIFIED:20221207T150735Z
UID:10006552-1674036000-1674039600@gopei.ca
SUMMARY:Older Adult Free Swim - TCAP
DESCRIPTION:Head over to TCAP on Wednesday mornings for a FREE fun\, leisurely swim! Swimming is a great low impact exercise that you can easily do on your own without any instruction and the benefits include but are not limited to:  Improves heart health\, gentle on the joints\, reduces risk of osteoporosis\, increases flexibility and improves strength and tone! \nPre-registration Google Forms Link: https://forms.gle/Khs4PgWGbT1RaxR66
URL:https://gopei.ca/event-program/older-adult-free-swim-tcap/2023-01-18/
LOCATION:TCAP Family Aquatic & Fitness Centre
CATEGORIES:East
ATTACH;FMTTYPE=image/jpeg:https://gopei.ca/wp-content/uploads/2022/12/TCAP-Older-Adult-Swim-e1670004746102.jpg
GEO:46.156865472382;-62.643361498436
END:VEVENT
BEGIN:VEVENT
DTSTART;TZID=America/Halifax:20230116T180000
DTEND;TZID=America/Halifax:20230116T190000
DTSTAMP:20260420T162403
CREATED:20221207T150831Z
LAST-MODIFIED:20221207T150831Z
UID:10006540-1673892000-1673895600@gopei.ca
SUMMARY:Yoga with Kate - TCAP
DESCRIPTION:Yoga with Kate is a “Vinyasa Flow” class – This class is built upon the Sun Salutation sequence. Each pose flows from one breath to the next. (Geared towards those looking for a little more challenge than a beginner or Hatha class) \n**Note start time is actually 6:15pm** \nPre-registration Google Forms Link: https://forms.gle/3s2rFVAfrimgEm7T6
URL:https://gopei.ca/event-program/yoga-with-kate-tcap/2023-01-16/
LOCATION:TCAP Family Aquatic & Fitness Centre
CATEGORIES:East
ATTACH;FMTTYPE=image/jpeg:https://gopei.ca/wp-content/uploads/2022/12/TCAP-Yoga-with-Kate-e1669997822643.jpg
GEO:46.156865472382;-62.643361498436
END:VEVENT
BEGIN:VEVENT
DTSTART;TZID=America/Halifax:20230111T100000
DTEND;TZID=America/Halifax:20230111T110000
DTSTAMP:20260420T162403
CREATED:20221207T150735Z
LAST-MODIFIED:20221207T150735Z
UID:10006551-1673431200-1673434800@gopei.ca
SUMMARY:Older Adult Free Swim - TCAP
DESCRIPTION:Head over to TCAP on Wednesday mornings for a FREE fun\, leisurely swim! Swimming is a great low impact exercise that you can easily do on your own without any instruction and the benefits include but are not limited to:  Improves heart health\, gentle on the joints\, reduces risk of osteoporosis\, increases flexibility and improves strength and tone! \nPre-registration Google Forms Link: https://forms.gle/Khs4PgWGbT1RaxR66
URL:https://gopei.ca/event-program/older-adult-free-swim-tcap/2023-01-11/
LOCATION:TCAP Family Aquatic & Fitness Centre
CATEGORIES:East
ATTACH;FMTTYPE=image/jpeg:https://gopei.ca/wp-content/uploads/2022/12/TCAP-Older-Adult-Swim-e1670004746102.jpg
GEO:46.156865472382;-62.643361498436
END:VEVENT
BEGIN:VEVENT
DTSTART;TZID=America/Halifax:20230109T180000
DTEND;TZID=America/Halifax:20230109T190000
DTSTAMP:20260420T162403
CREATED:20221207T150831Z
LAST-MODIFIED:20221207T150831Z
UID:10006539-1673287200-1673290800@gopei.ca
SUMMARY:Yoga with Kate - TCAP
DESCRIPTION:Yoga with Kate is a “Vinyasa Flow” class – This class is built upon the Sun Salutation sequence. Each pose flows from one breath to the next. (Geared towards those looking for a little more challenge than a beginner or Hatha class) \n**Note start time is actually 6:15pm** \nPre-registration Google Forms Link: https://forms.gle/3s2rFVAfrimgEm7T6
URL:https://gopei.ca/event-program/yoga-with-kate-tcap/2023-01-09/
LOCATION:TCAP Family Aquatic & Fitness Centre
CATEGORIES:East
ATTACH;FMTTYPE=image/jpeg:https://gopei.ca/wp-content/uploads/2022/12/TCAP-Yoga-with-Kate-e1669997822643.jpg
GEO:46.156865472382;-62.643361498436
END:VEVENT
BEGIN:VEVENT
DTSTART;TZID=America/Halifax:20221114T163000
DTEND;TZID=America/Halifax:20221114T173000
DTSTAMP:20260420T162403
CREATED:20221004T161911Z
LAST-MODIFIED:20221004T162128Z
UID:10006136-1668443400-1668447000@gopei.ca
SUMMARY:Yoga with Kate
DESCRIPTION:Yoga with Kate is a “Vinyasa Flow” class – This class is built upon the Sun Salutation sequence. Each pose flows from one breath to the next. (Geared towards those looking for a little more challenge than a beginner or Hatha class) \nPre-registration Google Forms Link: https://forms.gle/PwjdzDjUqN7qnpp36
URL:https://gopei.ca/event-program/yoga-with-kate-2/2022-11-14/
LOCATION:TCAP Family Aquatic & Fitness Centre
CATEGORIES:East
ATTACH;FMTTYPE=image/jpeg:https://gopei.ca/wp-content/uploads/2022/09/TCAP-Yoga-With-Kate-2-scaled.jpg
GEO:46.156865472382;-62.643361498436
END:VEVENT
BEGIN:VEVENT
DTSTART;TZID=America/Halifax:20221107T163000
DTEND;TZID=America/Halifax:20221107T173000
DTSTAMP:20260420T162403
CREATED:20221004T161911Z
LAST-MODIFIED:20221004T162128Z
UID:10006135-1667838600-1667842200@gopei.ca
SUMMARY:Yoga with Kate
DESCRIPTION:Yoga with Kate is a “Vinyasa Flow” class – This class is built upon the Sun Salutation sequence. Each pose flows from one breath to the next. (Geared towards those looking for a little more challenge than a beginner or Hatha class) \nPre-registration Google Forms Link: https://forms.gle/PwjdzDjUqN7qnpp36
URL:https://gopei.ca/event-program/yoga-with-kate-2/2022-11-07/
LOCATION:TCAP Family Aquatic & Fitness Centre
CATEGORIES:East
ATTACH;FMTTYPE=image/jpeg:https://gopei.ca/wp-content/uploads/2022/09/TCAP-Yoga-With-Kate-2-scaled.jpg
GEO:46.156865472382;-62.643361498436
END:VEVENT
END:VCALENDAR